Workbook

Sheet H-00 Indice 2026
A1: Índice | C1: Huelgas y Cierres Patronales / Grebak eta enpresa-itxierak | N1: ='H-1 2026'!J2 -> 2026-04
A5: 1 - | B5: Huelgas y cierres patronales 2026: Trabajadores/as afectados y jornadas perdidas en la CAE por mes (datos acumulados)
B6: 2026ko grebak eta enpresa-itxierak: eragindako langileak eta lan-egun galduak EAEn hilabeteka (datu metatuak)
A8: 2 - | B8: Comparativa de Nº de Huelgas, días, personas afectadas y jornadas perdidas en la CAE 2025 / 2026 por mes y TH
B9: Konparaketa: 2025 / 2026 bitarteko greben kopurua, egunak, eragindako langileak eta lanegun-galduak EAEn, hilabeteka eta lurraldeka
A11: 3 - | B11: Huelgas 2026 según Sector Institucional (Privado/Público) por TH
B12: 2026ko lan-grebak erakunde sektorearen arabera (pribatua/publikoa) lurraldeka
A14: 4 - | B14: Huelgas 2026 según Empresa / Sector por TH
B15: 2026ko grebak, enpresa/sektorearen arabera, lurraldeka
A17: 5 - | B17: Huelgas de sector en la CAE en 2026 por TH
B18: 2026ko sektoreko lan-grebak, lurraldeka
A20: 6 - | B20: Huelgas 2026 según sector de actividad por TH
B21: 2026ko grebak jardun-sektorearen arabera, lurraldeka
A23: 7 - | B23: Huelgas 2026 según Motivación por TH
B24: 2026ko grebak zioaren arabera, lurraldeka
A26: 8 - | B26: Huelgas 2026 Activas (no finalizadas) , según mes de inicio por TH (datos acumulados)
B27: 2026ko greba irekiak (ez amaituak) hilabeteka eta lurraldeka (datu metatuak)
A29: 9 - | B29: Huelgas y cierres patronales: Afectados y jornadas perdidas en la CAE - 2011 /2026
B30: Grebak eta enpresa-itxierak: Eragindako langileak eta lan-egun galduak EAEn - 2011 /2026
A57: Nota aclaratoria: Datos obtenidos de agentes sociales (empresas y sindicatos)
A58: Fuente: Dirección de Trabajo y Seguridad Social / Lan eta Gizarte Segurantza Zuzendaritza | L58: Datos provisionales / Behin behineko datuak
A59: https://www.euskadi.eus/web01-s2lanju/es/contenidos/informacion/estadisticastrabajo/es_esttraba/index.shtml#huelga | L59: ='H-1 2026'!J58 -> * Sin datos MITES
A122: https://www.euskadi.eus/web01-s2lanju/es/contenidos/informacion/estadisticastrabajo/es_esttraba/index.shtml#huelga

Sheet H-1 2026
A1: Huelgas y cierres patronales 2026: Trabajadores/as afectados y jornadas perdidas en la CAE por mes (datos acumulados)
A2: 2026ko grebak eta enpresa-itxierak: eragindako langileak eta lan-egun galduak EAEn hilabeteka (datu metatuak) | J2: 2026-04
A3: Mes | B3: Territorio | C3: Nº Huelgas | D3: Días duración | E3: Trab. Afectados | F3: Jor. Perdidas | G3: Nº Cierres Pat. | H3: Días | I3: Trab. Afectados | J3: Jor. Perdidas
A4: Hilabete | B4: Lurralde | C4: Greba zb. | D4: Egunak | E4: Eragindako langileak | F4: Lan-egun galduak | G4: Enpresa-itxier. | H4: Egunak | I4: Erag. langileak | J4: Lan-egun galduak
B5: Alava | C5: 3 | D5: 19 | E5: 257 | F5: 542
B6: Gipuzkoa | C6: 19 | D6: 457 | E6: 1027 | F6: 13201
B7: Bizkaia | C7: 3 | D7: 64 | E7: 1092 | F7: 2494
A8: 1 | B8: CAE | C8: 25 | D8: 540 | E8: 2376 | F8: 16237 | G8: 0 | H8: 0 | I8: 0 | J8: 0
B9: Alava | C9: 5 | D9: 27 | E9: 848 | F9: 4380
B10: Gipuzkoa | C10: 16 | D10: 145 | E10: 1015 | F10: 17012
B11: Bizkaia | C11: 6 | D11: 51 | E11: 1153 | F11: 12862
A12: 2 | B12: CAE | C12: 27 | D12: 223 | E12: 3016 | F12: 34254 | G12: 0 | H12: 0 | I12: 0 | J12: 0
B13: Alava | C13: 7 | D13: 33 | E13: 713 | F13: 573
B14: Gipuzkoa | C14: 21 | D14: 398 | E14: 1782 | F14: 40825
B15: Bizkaia | C15: 7 | D15: 73 | E15: 173 | F15: 1156
A16: 3 | B16: CAE | C16: 35 | D16: 504 | E16: 2668 | F16: 42554 | G16: 0 | H16: 0 | I16: 0 | J16: 0
B17: Alava | C17: 1 | D17: 2 | E17: 69 | F17: 90
B18: Gipuzkoa | C18: 19 | D18: 80 | E18: 939 | F18: 2205
B19: Bizkaia | C19: 4 | D19: 30 | E19: 106 | F19: 1246
A20: 4 | B20: CAE | C20: 24 | D20: 112 | E20: 1114 | F20: 3541 | G20: 0 | H20: 0 | I20: 0 | J20: 0
B21: Alava | C21: 0 | D21: 0 | E21: 0 | F21: 0
B22: Gipuzkoa | C22: 0 | D22: 0 | E22: 0 | F22: 0
B23: Bizkaia | C23: 0 | D23: 0 | E23: 0 | F23: 0
A24: 5 | B24: CAE | C24: 0 | D24: 0 | E24: 0 | F24: 0 | G24: 0 | H24: 0 | I24: 0 | J24: 0
B25: Alava | C25: 0 | D25: 0 | E25: 0 | F25: 0
B26: Gipuzkoa | C26: 0 | D26: 0 | E26: 0 | F26: 0
B27: Bizkaia | C27: 0 | D27: 0 | E27: 0 | F27: 0
A28: 6 | B28: CAE | C28: 0 | D28: 0 | E28: 0 | F28: 0 | G28: 0 | H28: 0 | I28: 0 | J28: 0
B29: Alava | C29: 0 | D29: 0 | E29: 0 | F29: 0
B30: Gipuzkoa | C30: 0 | D30: 0 | E30: 0 | F30: 0
B31: Bizkaia | C31: 0 | D31: 0 | E31: 0 | F31: 0
A32: 7 | B32: CAE | C32: 0 | D32: 0 | E32: 0 | F32: 0 | G32: 0 | H32: 0 | I32: 0 | J32: 0
B33: Alava | C33: 0 | D33: 0 | E33: 0 | F33: 0
B34: Gipuzkoa | C34: 0 | D34: 0 | E34: 0 | F34: 0
B35: Bizkaia | C35: 0 | D35: 0 | E35: 0 | F35: 0
A36: 8 | B36: CAE | C36: 0 | D36: 0 | E36: 0 | F36: 0 | G36: 0 | H36: 0 | I36: 0 | J36: 0
B37: Alava | C37: 0 | D37: 0 | E37: 0 | F37: 0
B38: Gipuzkoa | C38: 0 | D38: 0 | E38: 0 | F38: 0
B39: Bizkaia | C39: 0 | D39: 0 | E39: 0 | F39: 0
A40: 9 | B40: CAE | C40: 0 | D40: 0 | E40: 0 | F40: 0 | G40: 0 | H40: 0 | I40: 0 | J40: 0
B41: Alava | C41: 0 | D41: 0 | E41: 0 | F41: 0
B42: Gipuzkoa | C42: 0 | D42: 0 | E42: 0 | F42: 0
B43: Bizkaia | C43: 0 | D43: 0 | E43: 0 | F43: 0
A44: 10 | B44: CAE | C44: 0 | D44: 0 | E44: 0 | F44: 0 | G44: 0 | H44: 0 | I44: 0 | J44: 0
B45: Alava | C45: 0 | D45: 0 | E45: 0 | F45: 0
B46: Gipuzkoa | C46: 0 | D46: 0 | E46: 0 | F46: 0
B47: Bizkaia | C47: 0 | D47: 0 | E47: 0 | F47: 0
A48: 11 | B48: CAE | C48: 0 | D48: 0 | E48: 0 | F48: 0 | G48: 0 | H48: 0 | I48: 0 | J48: 0
B49: Alava | C49: 0 | D49: 0 | E49: 0 | F49: 0
B50: Gipuzkoa | C50: 0 | D50: 0 | E50: 0 | F50: 0
B51: Bizkaia | C51: 0 | D51: 0 | E51: 0 | F51: 0
A52: 12 | B52: CAE | C52: 0 | D52: 0 | E52: 0 | F52: 0 | G52: 0 | H52: 0 | I52: 0 | J52: 0
A53: 2026-04 | B53: Alava | C53: 16 | D53: 81 | E53: 1887 | F53: 5585 | G53: 0 | H53: 0 | I53: 0 | J53: 0
A54: Total Acum. | B54: Gipuzkoa | C54: 75 | D54: 1080 | E54: 4763 | F54: 73243 | G54: 0 | H54: 0 | I54: 0 | J54: 0
A55: Guztira | B55: Bizkaia | C55: 20 | D55: 218 | E55: 2524 | F55: 17758 | G55: 0 | H55: 0 | I55: 0 | J55: 0
A56: metatua | B56: CAE | C56: 111 | D56: 1379 | E56: 9174 | F56: 96586 | G56: 0 | H56: 0 | I56: 0 | J56: 0
J58: * Sin datos MITES
A59: Fuente: Dirección de Trabajo y Seguridad Social / Lan eta Gizarte Segurantza Zuzendaritza | H59: Datos provisionales / Behin behineko datuak
A60: https://www.euskadi.eus/web01-s2lanju/es/contenidos/informacion/estadisticastrabajo/es_esttraba/index.shtml#huelga

Sheet H-2 2025-2026
A1: Comparativa de Nº de Huelgas, días, personas afectadas y jornadas perdidas en la CAE 2026 / 2025 por mes y TH
A2: Konparaketa: 2026 / 2025 bitarteko greben kopurua, egunak, eragindako langileak eta lanegun-galduak EAEn, hilabeteka eta lurraldeka | N2: 2026-04
A3: Mes | B3: TH | C3: Nº huelgas / greben kop. | F3: Días / Egunak | I3: Trabajadores Afect./Eragind. langileak | L3: Jor. perdidas / Lanengun-galduak
A4: Hilab. | B4: LH | C4: 2026 | D4: 2025 | E4: D n/n-1 | F4: 2026 | G4: 2025 | H4: D n/n-1 | I4: 2026 | J4: 2025 | K4: D n/n-1 | L4: 2026 | M4: 2025 | N4: D n/n-1
B5: Araba | C5: 3 | D5: 2 | E5: 50 | F5: 19 | G5: 71 | H5: -73.239437 | I5: 257 | J5: 2486 | K5: -89.662108 | L5: 542 | M5: 10677 | N5: -94.923668
B6: Gipuzkoa | C6: 19 | D6: 8 | E6: 137.5 | F6: 457 | G6: 158 | H6: 189.24051 | I6: 1027 | J6: 4960 | K6: -79.294355 | L6: 13201 | M6: 21360 | N6: -38.197566
B7: Bizkaia | C7: 3 | D7: 4 | E7: -25 | F7: 64 | G7: 16 | H7: 300 | I7: 1092 | J7: 5190 | K7: -78.959538 | L7: 2494 | M7: 21740 | N7: -88.528059
A8: 1 | B8: CAE | C8: 25 | D8: 14 | E8: 78.571429 | F8: 540 | G8: 245 | H8: 120.40816 | I8: 2376 | J8: 12636 | K8: -81.196581 | L8: 16237 | M8: 53777 | N8: -69.806795
B9: Araba | C9: 5 | D9: 1 | E9: 400 | F9: 27 | G9: 24 | H9: 12.5 | I9: 848 | J9: 6 | K9: 14033.333 | L9: 4380 | M9: 226 | N9: 1838.0531
B10: Gipuzkoa | C10: 16 | D10: 11 | E10: 45.454545 | F10: 145 | G10: 374 | H10: -61.229947 | I10: 1015 | J10: 494 | K10: 105.46559 | L10: 17012 | M10: 1075 | N10: 1482.5116
B11: Bizkaia | C11: 6 | D11: 4 | E11: 50 | F11: 51 | G11: 9 | H11: 466.66667 | I11: 1153 | J11: 81 | K11: 1323.4568 | L11: 12862 | M11: 97 | N11: 13159.794
A12: 2 | B12: CAE | C12: 27 | D12: 16 | E12: 68.75 | F12: 223 | G12: 407 | H12: -45.208845 | I12: 3016 | J12: 581 | K12: 419.10499 | L12: 34254 | M12: 1398 | N12: 2350.2146
B13: Araba | C13: 7 | D13: 7 | E13: 0 | F13: 33 | G13: 139 | H13: -76.258993 | I13: 713 | J13: 2658 | K13: -73.17532 | L13: 573 | M13: 22170 | N13: -97.415426
B14: Gipuzkoa | C14: 21 | D14: 7 | E14: 200 | F14: 398 | G14: 101 | H14: 294.05941 | I14: 1782 | J14: 4584 | K14: -61.125654 | L14: 40825 | M14: 22190 | N14: 83.97927
B15: Bizkaia | C15: 7 | D15: 10 | E15: -30 | F15: 73 | G15: 75 | H15: -2.6666667 | I15: 173 | J15: 5327 | K15: -96.752393 | L15: 1156 | M15: 27103 | N15: -95.73479
A16: 3 | B16: CAE | C16: 35 | D16: 24 | E16: 45.833333 | F16: 504 | G16: 315 | H16: 60 | I16: 2668 | J16: 12569 | K16: -78.773172 | L16: 42554 | M16: 71463 | N16: -40.453102
B17: Araba | C17: 1 | D17: 0 | F17: 2 | G17: 0 | I17: 69 | J17: 0 | L17: 90 | M17: 0
B18: Gipuzkoa | C18: 19 | D18: 6 | E18: 216.66667 | F18: 80 | G18: 37 | H18: 116.21622 | I18: 939 | J18: 248 | K18: 278.62903 | L18: 2205 | M18: 940 | N18: 134.57447
B19: Bizkaia | C19: 4 | D19: 6 | E19: -33.333333 | F19: 30 | G19: 54 | H19: -44.444444 | I19: 106 | J19: 255 | K19: -58.431373 | L19: 1246 | M19: 2202 | N19: -43.415077
A20: 4 | B20: CAE | C20: 24 | D20: 12 | E20: 100 | F20: 112 | G20: 91 | H20: 23.076923 | I20: 1114 | J20: 503 | K20: 121.47117 | L20: 3541 | M20: 3142 | N20: 12.698918
B21: Araba | C21: 0 | D21: 0 | F21: 0 | G21: 0 | I21: 0 | J21: 0 | L21: 0 | M21: 0
B22: Gipuzkoa | C22: 0 | D22: 0 | F22: 0 | G22: 0 | I22: 0 | J22: 0 | L22: 0 | M22: 0
B23: Bizkaia | C23: 0 | D23: 0 | F23: 0 | G23: 0 | I23: 0 | J23: 0 | L23: 0 | M23: 0
A24: 5 | B24: CAE | C24: 0 | D24: 0 | F24: 0 | G24: 0 | I24: 0 | J24: 0 | L24: 0 | M24: 0
B25: Araba | C25: 0 | D25: 0 | F25: 0 | G25: 0 | I25: 0 | J25: 0 | L25: 0 | M25: 0
B26: Gipuzkoa | C26: 0 | D26: 0 | F26: 0 | G26: 0 | I26: 0 | J26: 0 | L26: 0 | M26: 0
B27: Bizkaia | C27: 0 | D27: 0 | F27: 0 | G27: 0 | I27: 0 | J27: 0 | L27: 0 | M27: 0
A28: 6 | B28: CAE | C28: 0 | D28: 0 | F28: 0 | G28: 0 | I28: 0 | J28: 0 | L28: 0 | M28: 0
B29: Araba | C29: 0 | D29: 0 | F29: 0 | G29: 0 | I29: 0 | J29: 0 | L29: 0 | M29: 0
B30: Gipuzkoa | C30: 0 | D30: 0 | F30: 0 | G30: 0 | I30: 0 | J30: 0 | L30: 0 | M30: 0
B31: Bizkaia | C31: 0 | D31: 0 | F31: 0 | G31: 0 | I31: 0 | J31: 0 | L31: 0 | M31: 0
A32: 7 | B32: CAE | C32: 0 | D32: 0 | F32: 0 | G32: 0 | I32: 0 | J32: 0 | L32: 0 | M32: 0
B33: Araba | C33: 0 | D33: 0 | F33: 0 | G33: 0 | I33: 0 | J33: 0 | L33: 0 | M33: 0
B34: Gipuzkoa | C34: 0 | D34: 0 | F34: 0 | G34: 0 | I34: 0 | J34: 0 | L34: 0 | M34: 0
B35: Bizkaia | C35: 0 | D35: 0 | F35: 0 | G35: 0 | I35: 0 | J35: 0 | L35: 0 | M35: 0
A36: 8 | B36: CAE | C36: 0 | D36: 0 | F36: 0 | G36: 0 | I36: 0 | J36: 0 | L36: 0 | M36: 0
B37: Araba | C37: 0 | D37: 0 | F37: 0 | G37: 0 | I37: 0 | J37: 0 | L37: 0 | M37: 0
B38: Gipuzkoa | C38: 0 | D38: 0 | F38: 0 | G38: 0 | I38: 0 | J38: 0 | L38: 0 | M38: 0
B39: Bizkaia | C39: 0 | D39: 0 | F39: 0 | G39: 0 | I39: 0 | J39: 0 | L39: 0 | M39: 0
A40: 9 | B40: CAE | C40: 0 | D40: 0 | F40: 0 | G40: 0 | I40: 0 | J40: 0 | L40: 0 | M40: 0
B41: Araba | C41: 0 | D41: 0 | F41: 0 | G41: 0 | I41: 0 | J41: 0 | L41: 0 | M41: 0
B42: Gipuzkoa | C42: 0 | D42: 0 | F42: 0 | G42: 0 | I42: 0 | J42: 0 | L42: 0 | M42: 0
B43: Bizkaia | C43: 0 | D43: 0 | F43: 0 | G43: 0 | I43: 0 | J43: 0 | L43: 0 | M43: 0
A44: 10 | B44: CAE | C44: 0 | D44: 0 | F44: 0 | G44: 0 | I44: 0 | J44: 0 | L44: 0 | M44: 0
B45: Araba | C45: 0 | D45: 0 | F45: 0 | G45: 0 | I45: 0 | J45: 0 | L45: 0 | M45: 0
B46: Gipuzkoa | C46: 0 | D46: 0 | F46: 0 | G46: 0 | I46: 0 | J46: 0 | L46: 0 | M46: 0
B47: Bizkaia | C47: 0 | D47: 0 | F47: 0 | G47: 0 | I47: 0 | J47: 0 | L47: 0 | M47: 0
A48: 11 | B48: CAE | C48: 0 | D48: 0 | F48: 0 | G48: 0 | I48: 0 | J48: 0 | L48: 0 | M48: 0
B49: Araba | C49: 0 | D49: 0 | F49: 0 | G49: 0 | I49: 0 | J49: 0 | L49: 0 | M49: 0
B50: Gipuzkoa | C50: 0 | D50: 0 | F50: 0 | G50: 0 | I50: 0 | J50: 0 | L50: 0 | M50: 0
B51: Bizkaia | C51: 0 | D51: 0 | F51: 0 | G51: 0 | I51: 0 | J51: 0 | L51: 0 | M51: 0
A52: 12 | B52: CAE | C52: 0 | D52: 0 | F52: 0 | G52: 0 | I52: 0 | J52: 0 | L52: 0 | M52: 0
A54: Datos acumulados comparativa 2026-2025 / 2026-2025eko datu metatuak, konparaketa
A55: Mes | B55: TH | C55: Nº huelgas / greben kop. | F55: Días / Egunak | I55: Trabajadores Afect./Eragind.langileak | L55: Jor. perdidas / Lanengun-galduak
A56: Hilab. | B56: LH | C56: 2026 | D56: 2025 | E56: D n/n-1 | F56: 2026 | G56: 2025 | H56: D n/n-1 | I56: 2026 | J56: 2025 | K56: D n/n-1 | L56: 2026 | M56: 2025 | N56: D n/n-1
A57: Total | B57: Araba | C57: 16 | D57: 10 | E57: 60 | F57: 81 | G57: 234 | H57: -65.384615 | I57: 1887 | J57: 5150 | K57: -63.359223 | L57: 5585 | M57: 33073 | N57: -83.113113
A58: Acumulado | B58: Gipuzkoa | C58: 75 | D58: 32 | E58: 134.375 | F58: 1080 | G58: 670 | H58: 61.19403 | I58: 4763 | J58: 10286 | K58: -53.694342 | L58: 73243 | M58: 45565 | N58: 60.743992
A59: Guztira | B59: Bizkaia | C59: 20 | D59: 24 | E59: -16.666667 | F59: 218 | G59: 154 | H59: 41.558442 | I59: 2524 | J59: 10853 | K59: -76.743757 | L59: 17758 | M59: 51142 | N59: -65.277072
A60: Metatuak | B60: CAE | C60: 111 | D60: 66 | E60: 68.181818 | F60: 1379 | G60: 1058 | H60: 30.340265 | I60: 9174 | J60: 26289 | K60: -65.103275 | L60: 96586 | M60: 129780 | N60: -25.577131
A63: Fuente: Dirección de Trabajo y Seguridad Social / Lan eta Gizarte Segurantza Zuzendaritza | K63: Datos provisionales / Behin behineko datuak
A64: https://www.euskadi.eus/web01-s2lanju/es/contenidos/informacion/estadisticastrabajo/es_esttraba/index.shtml#huelga | N64: ='H-1 2026'!J58 -> * Sin datos MITES

Sheet H-3 2026
A1: Huelgas 2026 según Sector Institucional (Privado/Público) por TH | H1: 2026-04
A2: 2026ko lan-grebak erakunde sektorearen arabera (pribatua/publikoa) lurraldeka
A3: TH Lurralde | B3: Sector institucional | C3: Nº Huelgas Greba kop. | D3: Días Egunak | E3: Plantilla Plantila | F3: Trab Afectados Erag. langileak | G3: Jor Perdidas Lanengun-galduak | H3: Nº Empresas Enpresa kop.
A4: Araba | B4: Total / Guztira | C4: 16 | D4: 81 | E4: 5833 | F4: 1887 | G4: 5585 | H4: 19
B5: Privado | C5: 14 | D5: 65 | E5: 2097 | F5: 1418 | G5: 2698 | H5: 17
B6: Público | C6: 2 | D6: 16 | E6: 3736 | F6: 469 | G6: 2887 | H6: 2
A7: Gipuzkoa | B7: Total / Guztira | C7: 75 | D7: 1080 | E7: 12543 | F7: 4763 | G7: 73243 | H7: 80
B8: Privado | C8: 68 | D8: 943 | E8: 6184 | F8: 3588 | G8: 62929 | H8: 73
B9: Público | C9: 7 | D9: 137 | E9: 6359 | F9: 1175 | G9: 10314 | H9: 7
A10: Bizkaia | B10: Total / Guztira | C10: 20 | D10: 218 | E10: 12907 | F10: 2524 | G10: 17758 | H10: 28
B11: Privado | C11: 18 | D11: 202 | E11: 2027 | F11: 366 | G11: 3076 | H11: 26
B12: Público | C12: 2 | D12: 16 | E12: 10880 | F12: 2158 | G12: 14682 | H12: 2
A13: CAE | B13: Total / Guztira | C13: 111 | D13: 1379 | E13: 31283 | F13: 9174 | G13: 96586 | H13: 127
B14: Privado | C14: 100 | D14: 1210 | E14: 10308 | F14: 5372 | G14: 68703 | H14: 116
B15: Público | C15: 11 | D15: 169 | E15: 20975 | F15: 3802 | G15: 27883 | H15: 11
A38: Fuente: Dirección de Trabajo y Seguridad Social / Lan eta Gizarte Segurantza Zuzendaritza | G38: Datos provisionales / Behin behineko datuak
A39: https://www.euskadi.eus/web01-s2lanju/es/contenidos/informacion/estadisticastrabajo/es_esttraba/index.shtml#huelga

Sheet H-4 2026
A1: Huelgas 2026 según Empresa / Sector por TH | H1: 2026-04
A2: 2026ko grebak, enpresa/sektorearen arabera, lurraldeka
A3: TH | B3: Empresa/Sector | C3: Nº Huelgas | D3: Días | E3: Plantilla | F3: Trab Afectados | G3: Jor Perdidas | H3: Nº Empresas
A4: LH | B4: Enpresa/Sektorea | C4: Greba Kop. | D4: Días | E4: Plantilla | F4: Trab Afectados | G4: Jor Perdidas | H4: Nº Empresas
A5: Alava | B5: Total | C5: 16 | D5: 81 | E5: 5833 | F5: 1887 | G5: 5585 | H5: 19
B6: Empresa | C6: 15 | D6: 67 | E6: 3981 | F6: 1642 | G6: 3096 | H6: 18
B7: Sector | C7: 1 | D7: 14 | E7: 1852 | F7: 245 | G7: 2489 | H7: 1
A8: Gipuzkoa | B8: Total | C8: 75 | D8: 1080 | E8: 12543 | F8: 4763 | G8: 73243 | H8: 80
B9: Empresa | C9: 74 | D9: 1066 | E9: 9495 | F9: 4267 | G9: 67404 | H9: 79
B10: Sector | C10: 1 | D10: 14 | E10: 3048 | F10: 496 | G10: 5839 | H10: 1
A11: Bizkaia | B11: Total | C11: 20 | D11: 218 | E11: 12907 | F11: 2524 | G11: 17758 | H11: 28
B12: Empresa | C12: 19 | D12: 204 | E12: 7363 | F12: 1447 | G12: 5229 | H12: 27
B13: Sector | C13: 1 | D13: 14 | E13: 5544 | F13: 1077 | G13: 12529 | H13: 1
A14: CAE | B14: Total | C14: 111 | D14: 1379 | E14: 31283 | F14: 9174 | G14: 96586 | H14: 127
B15: Empresa | C15: 108 | D15: 1337 | E15: 20839 | F15: 7356 | G15: 75729 | H15: 124
B16: Sector | C16: 3 | D16: 42 | E16: 10444 | F16: 1818 | G16: 20857 | H16: 3
A42: Fuente: Dirección de Trabajo y Seguridad Social / Lan eta Gizarte Segurantza Zuzendaritza | G42: Datos provisionales / Behin behineko datuak
A43: https://www.euskadi.eus/web01-s2lanju/es/contenidos/informacion/estadisticastrabajo/es_esttraba/index.shtml#huelga

Sheet H-5 2026
A1: Huelgas de sector en la CAE en 2025 por TH / 2025eko sektoreko lan-grebak, lurraldeka | I1: ='H-1 2026'!J2 -> 2026-04
A3: TH | B3: Mes | C3: Huelgas | D3: Sector | E3: Acuerdo | F3: Días | G3: Plantilla | H3: Trab Afectados/as | I3: Jor. Perdidas
A4: LH | B4: Hilabete | C4: Grebak | D4: Sektorea | E4: Akordioa | F4: Egunak | G4: Plantila | H4: Eragindako langileak | I4: Lan-egun galduak
B5: 2 | C5: 1 | D5: PERSONAL SANITARIO GRUPO A1 | F5: 14 | G5: 1852 | H5: 245 | I5: 2489
A17: Alava | B17: Acumulado | C17: =SUM(C5:C16) -> 1 | D17: Total / Guztira | F17: =SUM(F5:F16) -> 14 | G17: =SUM(G5:G16) -> 1852 | H17: =SUM(H5:H16) -> 245 | I17: =SUM(I5:I16) -> 2489
B18: 2 | C18: 1 | D18: PERSONAL SANITARIO GRUPO A1 | F18: 14 | G18: 3048 | H18: 496 | I18: 5839
A36: Gipuzkoa | B36: Acumulado | C36: =SUM(C18:C35) -> 1 | D36: Total / Guztira | F36: =SUM(F18:F35) -> 14 | G36: =SUM(G18:G35) -> 3048 | H36: =SUM(H18:H35) -> 496 | I36: =SUM(I18:I35) -> 5839
B37: 2 | C37: 1 | D37: PERSONAL SANITARIO GRUPO A1 | F37: 14 | G37: 5544 | H37: 1077 | I37: 12529
A72: Bizkaia | B72: Acumulado | C72: =SUM(C37:C71) -> 1 | D72: Total / Guztira | F72: =SUM(F37:F71) -> 14 | G72: =SUM(G37:G71) -> 5544 | H72: =SUM(H37:H71) -> 1077 | I72: =SUM(I37:I71) -> 12529
A73: CAE | B73: Acumulado | C73: =C17+C36+C72 -> 3 | D73: Total / Guztira | F73: =F17+F36+F72 -> 42 | G73: =G17+G36+G72 -> 10444 | H73: =H17+H36+H72 -> 1818 | I73: =I17+I36+I72 -> 20857
A86: Fuente: Dirección de Trabajo y Seguridad Social / Lan eta Gizarte Segurantza Zuzendaritza | G86: Datos provisionales / Behin behineko datuak | I86: S.D.: Sin Datos
A87: https://www.euskadi.eus/web01-s2lanju/es/contenidos/informacion/estadisticastrabajo/es_esttraba/index.shtml#huelga

Sheet H-6 2026
A1: Huelgas 2026 según sector de actividad por TH
A2: 2026ko grebak jardun-sektorearen arabera, lurraldeka | F2: 2026-04
A4: Sector Actividad | B4: TH | C4: Nº Huelgas | D4: Días | E4: Nº Trab Afectados | F4: Nº Jor Perdidas
A5: Ihardun sektorea | B5: LH | C5: Greba Kop. | D5: Egunak | E5: Eragindako lang. | F5: Lan-egun galduak
B6: Araba | C6: 0 | D6: 0 | E6: 0 | F6: 0
B7: Gipuzkoa | C7: 0 | D7: 0 | E7: 0 | F7: 0
A8: Nekazaritza | B8: Bizkaia | C8: 0 | D8: 0 | E8: 0 | F8: 0
A9: Agrario | B9: CAE | C9: 0 | D9: 0 | E9: 0 | F9: 0
B10: Alava | C10: 0 | D10: 0 | E10: 0 | F10: 0
B11: Gipuzkoa | C11: 0 | D11: 0 | E11: 0 | F11: 0
A12: Eraikuntza | B12: Bizkaia | C12: 1 | D12: 2 | E12: 2 | F12: 4
A13: Construcción | B13: CAE | C13: 1 | D13: 2 | E13: 2 | F13: 4
B14: Alava | C14: 12 | D14: 54 | E14: 1406 | F14: 2649
B15: Gipuzkoa | C15: 18 | D15: 204 | E15: 2183 | F15: 34544
A16: Industria | B16: Bizkaia | C16: 3 | D16: 9 | E16: 60 | F16: 57
A17: Industria | B17: CAE | C17: 33 | D17: 267 | E17: 3649 | F17: 37250
B18: Alava | C18: 4 | D18: 27 | E18: 481 | F18: 2936
B19: Gipuzkoa | C19: 57 | D19: 876 | E19: 2580 | F19: 38699
A20: Zerbitzuak | B20: Bizkaia | C20: 16 | D20: 207 | E20: 2462 | F20: 17697
A21: Servicios | B21: CAE | C21: 77 | D21: 1110 | E21: 5523 | F21: 59332
B22: Alava | C22: 16 | D22: 81 | E22: 1887 | F22: 5585
B23: Gipuzkoa | C23: 75 | D23: 1080 | E23: 4763 | F23: 73243
A24: GUZTIRA | B24: Bizkaia | C24: 20 | D24: 218 | E24: 2524 | F24: 17758
A25: TOTAL | B25: CAE | C25: 111 | D25: 1379 | E25: 9174 | F25: 96586
A26: Agrario (%) | C26: 0 | D26: 0 | E26: 0 | F26: 0
A27: Construcción (%) | C27: 0.9009009 | D27: 0.14503263 | E27: 0.021800741 | F27: 0.004141387
A28: Industria (%) | C28: 29.72973 | D28: 19.361856 | E28: 39.775452 | F28: 38.566666
A29: Servicios (%) | C29: 69.369369 | D29: 80.493111 | E29: 60.202747 | F29: 61.429193
A30: TOTAL (%) | C30: 100 | D30: 100 | E30: 100 | F30: 100
A49: Fuente: Dirección de Trabajo y Seguridad Social / Lan eta Gizarte Segurantza Zuzendaritza | F49: Datos provisionales / Behin behineko datuak
A50: https://www.euskadi.eus/web01-s2lanju/es/contenidos/informacion/estadisticastrabajo/es_esttraba/index.shtml#huelga

Sheet H-7 2026
A1: Huelgas 2026 según Motivación por TH / 2026ko grebak zioaren arabera, lurraldeka | H1: ='H-1 2026'!J2 -> 2026-04
A3: Territorio | B3: Motivación | C3: Nº Huelgas | D3: Días | E3: Plantilla | F3: Trab. Afectados | G3: Jornadas perdidas | H3: Nº Empresas
A4: Lurralde | B4: Zioa | C4: Greba kop. | D4: Egunak | E4: Langile Kop. | F4: Eragindadko langileak | G4: Galdutako lan-egunak | H4: Enpresa Kop.
B5: 10. Conflictos derivados del proceso de Negociación Colectiva | C5: 11 | D5: 58 | E5: 5533 | F5: 1587 | G5: 3718 | H5: 13
B6: 22. Organización / Sistemas de trabajo / Reestructuración empresas | C6: 1 | D6: 8 | E6: 134 | F6: 134 | G6: 1045 | H6: 1
B7: 29. Cierre Patronal
B8: 30. Conflictos relacionados con Causa Sindical | C8: 2 | D8: 6 | E8: 140 | F8: 140 | G8: 787 | H8: 2
B9: 40. Conflictos de Solidaridad | C9: 2 | D9: 9 | E9: 26 | F9: 26 | G9: 35 | H9: 3
B10: 50, Otros conflictos por medidas de política económico-social
B11: 60. Conflictos por Otras Causas No Laborales
B12: 70. Conflictos No derivados del proceso de Negociación Colectiva
A13: Álava | B13: TOTAL | C13: 16 | D13: 81 | E13: 5833 | F13: 1887 | G13: 5585 | H13: 19
B14: 10. Conflictos derivados del proceso de Negociación Colectiva | C14: 69 | D14: 1061 | E14: 12262 | F14: 4525 | G14: 72651 | H14: 74
B15: 22. Organización / Sistemas de trabajo / Reestructuración empresas | C15: 1 | D15: 4 | E15: 135 | F15: 122 | G15: 244 | H15: 1
B16: 29. Cierre Patronal
B17: 30. Conflictos relacionados con Causa Sindical | C17: 1 | D17: 3 | E17: 30 | F17: 24 | G17: 72 | H17: 1
B18: 40. Conflictos de Solidaridad
B19: 50, Otros conflictos por medidas de política económico-social
B20: 60. Conflictos por Otras Causas No Laborales
B21: 70. Conflictos No derivados del proceso de Negociación Colectiva | C21: 4 | D21: 12 | E21: 116 | F21: 92 | G21: 276 | H21: 4
A22: Gipuzkoa | B22: TOTAL | C22: 75 | D22: 1080 | E22: 12543 | F22: 4763 | G22: 73243 | H22: 80
B23: 10. Conflictos derivados del proceso de Negociación Colectiva | C23: 20 | D23: 218 | E23: 12907 | F23: 2524 | G23: 17758 | H23: 28
B24: 22. Organización / Sistemas de trabajo / Reestructuración empresas
B25: 29. Cierre Patronal
B26: 30. Conflictos relacionados con Causa Sindical
B27: 40. Conflictos de Solidaridad
B28: 50, Otros conflictos por medidas de política económico-social
B29: 60. Conflictos por Otras Causas No Laborales
B30: 70. Conflictos No derivados del proceso de Negociación Colectiva
A31: Bizkaia | B31: TOTAL | C31: 20 | D31: 218 | E31: 12907 | F31: 2524 | G31: 17758 | H31: 28
B32: 10. Conflictos derivados del proceso de Negociación Colectiva | C32: 100 | D32: 1337 | E32: 30702 | F32: 8636 | G32: 94127 | H32: 115
B33: 22. Organización / Sistemas de trabajo / Reestructuración empresas | C33: 2 | D33: 12 | E33: 269 | F33: 256 | G33: 1289 | H33: 2
B34: 29. Cierre Patronal | C34: 0 | D34: 0 | E34: 0 | F34: 0 | G34: 0 | H34: 0
B35: 30. Conflictos relacionados con Causa Sindical | C35: 3 | D35: 9 | E35: 170 | F35: 164 | G35: 859 | H35: 3
B36: 40. Conflictos de Solidaridad | C36: 2 | D36: 9 | E36: 26 | F36: 26 | G36: 35 | H36: 3
B37: 50, Otros conflictos por medidas de política económico-social | C37: 0 | D37: 0 | E37: 0 | F37: 0 | G37: 0 | H37: 0
B38: 60. Conflictos por Otras Causas No Laborales | C38: 0 | D38: 0 | E38: 0 | F38: 0 | G38: 0 | H38: 0
B39: 70. Conflictos No derivados del proceso de Negociación Colectiva | C39: 4 | D39: 12 | E39: 116 | F39: 92 | G39: 276 | H39: 4
A40: CAE | B40: TOTAL | C40: 111 | D40: 1379 | E40: 31283 | F40: 9174 | G40: 96586 | H40: 127
A41: % | B41: 10. Conflictos derivados del proceso de Negociación Colectiva | C41: 90.09009 | D41: 96.954315 | E41: 98.142761 | F41: 94.135601 | G41: 97.454082 | H41: 90.551181
A42: % | B42: 22. Organización / Sistemas de trabajo / Reestructuración empresas | C42: 1.8018018 | D42: 0.87019579 | E42: 0.85989195 | F42: 2.7904949 | G42: 1.3345619 | H42: 1.5748031
A43: % | B43: 29. Cierre Patronal | C43: 0 | D43: 0 | E43: 0 | F43: 0 | G43: 0 | H43: 0
A44: % | B44: 30. Conflictos relacionados con Causa Sindical | C44: 2.7027027 | D44: 0.65264685 | E44: 0.54342614 | F44: 1.7876608 | G44: 0.88936285 | H44: 2.3622047
A45: % | B45: 40. Conflictos de Solidaridad | C45: 1.8018018 | D45: 0.65264685 | E45: 0.083112233 | F45: 0.28340964 | G45: 0.036237136 | H45: 2.3622047
A46: % | B46: 50, Otros conflictos por medidas de política económico-social | C46: 0 | D46: 0 | E46: 0 | F46: 0 | G46: 0 | H46: 0
A47: % | B47: 60. Conflictos por Otras Causas No Laborales | C47: 0 | D47: 0 | E47: 0 | F47: 0 | G47: 0 | H47: 0
A48: % | B48: 70. Conflictos No derivados del proceso de Negociación Colectiva | C48: 3.6036036 | D48: 0.87019579 | E48: 0.37080843 | F48: 1.0028341 | G48: 0.2857557 | H48: 3.1496063
A49: % | B49: TOTAL | C49: 100 | D49: 100 | E49: 100 | F49: 100 | G49: 100 | H49: 100
A61: Fuente: Dirección de Trabajo y Seguridad Social / Lan eta Gizarte Segurantza Zuzendaritza | F61: Datos provisionales / Behin behineko datuak
A62: https://www.euskadi.eus/web01-s2lanju/es/contenidos/informacion/estadisticastrabajo/es_esttraba/index.shtml#huelga

Sheet H-8 2026
A1: Huelgas 2026 Activas (no finalizadas), según mes de inicio por TH (datos acumulados)
A2: 2026ko greba irekiak (ez amaituak) hilabeteka eta lurraldeka (datu metatuak) | J2: ='H-1 2026'!J2 -> 2026-04
A3: Mes | B3: Territorio | C3: Nº Huelgas | D3: Días duración | E3: Trab. Afectados | F3: Jor. Perdidas | G3: Nº Cierres Pat. | H3: Días | I3: Trab. Afectados | J3: Jor. Perdidas
A4: Hilabete | B4: Lurralde | C4: Greba zb. | D4: Egunak | E4: Eragindako langileak | F4: Lan-egun galduak | G4: Enpresa-itxier. | H4: Egunak | I4: Erag. langileak | J4: Lan-egun galduak
B5: Alava | C5: 2 | D5: 17 | E5: 33 | F5: 144
B6: Gipuzkoa | C6: 0 | D6: 0 | E6: 0 | F6: 0
B7: Bizkaia | C7: 2 | D7: 62 | E7: 11 | F7: 341
A8: 1 | B8: CAE | C8: 4 | D8: 79 | E8: 44 | F8: 485 | G8: 0 | H8: 0 | I8: 0 | J8: 0
B9: Alava | C9: 1 | D9: 14 | E9: 245 | F9: 2489
B10: Gipuzkoa | C10: 3 | D10: 94 | E10: 552 | F10: 8528
B11: Bizkaia | C11: 3 | D11: 42 | E11: 1093 | F11: 12805
A12: 2 | B12: CAE | C12: 7 | D12: 150 | E12: 1890 | F12: 23822 | G12: 0 | H12: 0 | I12: 0 | J12: 0
B13: Alava | C13: 0 | D13: 0 | E13: 0 | F13: 0
B14: Gipuzkoa | C14: 0 | D14: 0 | E14: 0 | F14: 0
B15: Bizkaia | C15: 1 | D15: 16 | E15: 7 | F15: 112
A16: 3 | B16: CAE | C16: 1 | D16: 16 | E16: 7 | F16: 112 | G16: 0 | H16: 0 | I16: 0 | J16: 0
B17: Alava | C17: 1 | D17: 2 | E17: 69 | F17: 90
B18: Gipuzkoa | C18: 12 | D18: 57 | E18: 540 | F18: 1745
B19: Bizkaia | C19: 0 | D19: 0 | E19: 0 | F19: 0
A20: 4 | B20: CAE | C20: 13 | D20: 59 | E20: 609 | F20: 1835 | G20: 0 | H20: 0 | I20: 0 | J20: 0
B21: Alava | C21: 0 | D21: 0 | E21: 0 | F21: 0
B22: Gipuzkoa | C22: 0 | D22: 0 | E22: 0 | F22: 0
B23: Bizkaia | C23: 0 | D23: 0 | E23: 0 | F23: 0
A24: 5 | B24: CAE | C24: 0 | D24: 0 | E24: 0 | F24: 0 | G24: 0 | H24: 0 | I24: 0 | J24: 0
B25: Alava | C25: 0 | D25: 0 | E25: 0 | F25: 0
B26: Gipuzkoa | C26: 0 | D26: 0 | E26: 0 | F26: 0
B27: Bizkaia | C27: 0 | D27: 0 | E27: 0 | F27: 0
A28: 6 | B28: CAE | C28: 0 | D28: 0 | E28: 0 | F28: 0 | G28: 0 | H28: 0 | I28: 0 | J28: 0
B29: Alava | C29: 0 | D29: 0 | E29: 0 | F29: 0
B30: Gipuzkoa | C30: 0 | D30: 0 | E30: 0 | F30: 0
B31: Bizkaia | C31: 0 | D31: 0 | E31: 0 | F31: 0
A32: 7 | B32: CAE | C32: 0 | D32: 0 | E32: 0 | F32: 0 | G32: 0 | H32: 0 | I32: 0 | J32: 0
B33: Alava | C33: 0 | D33: 0 | E33: 0 | F33: 0
B34: Gipuzkoa | C34: 0 | D34: 0 | E34: 0 | F34: 0
B35: Bizkaia | C35: 0 | D35: 0 | E35: 0 | F35: 0
A36: 8 | B36: CAE | C36: 0 | D36: 0 | E36: 0 | F36: 0 | G36: 0 | H36: 0 | I36: 0 | J36: 0
B37: Alava | C37: 0 | D37: 0 | E37: 0 | F37: 0
B38: Gipuzkoa | C38: 0 | D38: 0 | E38: 0 | F38: 0
B39: Bizkaia | C39: 0 | D39: 0 | E39: 0 | F39: 0
A40: 9 | B40: CAE | C40: 0 | D40: 0 | E40: 0 | F40: 0 | G40: 0 | H40: 0 | I40: 0 | J40: 0
B41: Alava | C41: 0 | D41: 0 | E41: 0 | F41: 0
B42: Gipuzkoa | C42: 0 | D42: 0 | E42: 0 | F42: 0
B43: Bizkaia | C43: 0 | D43: 0 | E43: 0 | F43: 0
A44: 10 | B44: CAE | C44: 0 | D44: 0 | E44: 0 | F44: 0 | G44: 0 | H44: 0 | I44: 0 | J44: 0
B45: Alava | C45: 0 | D45: 0 | E45: 0 | F45: 0
B46: Gipuzkoa | C46: 0 | D46: 0 | E46: 0 | F46: 0
B47: Bizkaia | C47: 0 | D47: 0 | E47: 0 | F47: 0
A48: 11 | B48: CAE | C48: 0 | D48: 0 | E48: 0 | F48: 0 | G48: 0 | H48: 0 | I48: 0 | J48: 0
B49: Alava | C49: 0 | D49: 0 | E49: 0 | F49: 0
B50: Gipuzkoa | C50: 0 | D50: 0 | E50: 0 | F50: 0
B51: Bizkaia | C51: 0 | D51: 0 | E51: 0 | F51: 0
A52: 12 | B52: CAE | C52: 0 | D52: 0 | E52: 0 | F52: 0 | G52: 0 | H52: 0 | I52: 0 | J52: 0
A53: =J2 -> 2026-04 | B53: Alava | C53: 4 | D53: 33 | E53: 347 | F53: 2723 | G53: 0 | H53: 0 | I53: 0 | J53: 0
A54: Total Acum. | B54: Gipuzkoa | C54: 15 | D54: 151 | E54: 1092 | F54: 10273 | G54: 0 | H54: 0 | I54: 0 | J54: 0
A55: Guztira | B55: Bizkaia | C55: 6 | D55: 120 | E55: 1111 | F55: 13258 | G55: 0 | H55: 0 | I55: 0 | J55: 0
A56: metatua | B56: CAE | C56: 25 | D56: 304 | E56: 2550 | F56: 26254 | G56: 0 | H56: 0 | I56: 0 | J56: 0
J57: ='H-1 2026'!J58 -> * Sin datos MITES
A59: Fuente: Dirección de Trabajo y Seguridad Social / Lan eta Gizarte Segurantza Zuzendaritza | G59: Datos provisionales / Behin behineko datuak
A60: https://www.euskadi.eus/web01-s2lanju/es/contenidos/informacion/estadisticastrabajo/es_esttraba/index.shtml#huelga

Sheet  H-9 2011-2026
A1: Huelgas y cierres patronales: Afectados y jornadas perdidas en la CAE - 2011 / 2026 | K1: ='H-1 2026'!J2 -> 2026-04
A2: Grebak eta enpresa-itxierak: Eragindako langileak eta lan-egun galduak EAEn - 2011 / 2026
A3: Año | B3: Territorio | C3: Nº Huelgas | D3: D n/n-1 | E3: Trab. Afectados | F3: D n/n-1 | G3: Jor. Perdidas | H3: D n/n-1 | I3: Nº Cierres | J3: Trab. Afect. | K3: Jor. Perdidas
A4: Urte | B4: Lurralde | C4: Greba kop. | E4: Eragindako langileak | G4: Lan-egun gald. | I4: Enpresa-itxier. | J4: Erag. langileak | K4: Lan-egun gald.
A5: 1994 | B5: CAE | C5: 181 | E5: 21341 | G5: 77703 | I5: 1 | J5: 10 | K5: 1590
B6: Alava | C6: 25 | E6: 2367 | G6: 4285
B7: Gipuzkoa | C7: 58 | E7: 9161 | G7: 24469
B8: Bizkaia | C8: 98 | E8: 9813 | G8: 48949 | I8: 1 | J8: 10 | K8: 1590
A9: 1995 | B9: CAE | C9: 177 | D9: -2.2099448 | E9: 52206 | F9: 144.62771 | G9: 188404 | H9: 142.46683 | I9: 0 | J9: 0 | K9: 0
B10: Alava | C10: 43 | D10: 72 | E10: 3895 | F10: 64.554288 | G10: 10334 | H10: 141.16686
B11: Gipuzkoa | C11: 51 | D11: -12.068966 | E11: 6866 | F11: -25.05185 | G11: 11446 | H11: -53.222445
B12: Bizkaia | C12: 83 | D12: -15.306122 | E12: 41445 | F12: 322.34791 | G12: 166624 | H12: 240.40328
A13: 1996 | B13: CAE | C13: 174 | D13: -1.6949153 | E13: 27837 | F13: -46.678543 | G13: 54708 | H13: -70.9624 | I13: 0 | J13: 0 | K13: 0
B14: Alava | C14: 37 | D14: -13.953488 | E14: 6537 | F14: 67.830552 | G14: 8555 | H14: -17.215018
B15: Gipuzkoa | C15: 52 | D15: 1.9607843 | E15: 7341 | F15: 6.9181474 | G15: 13983 | H15: 22.164948
B16: Bizkaia | C16: 85 | D16: 2.4096386 | E16: 13959 | F16: -66.319218 | G16: 32170 | H16: -80.693057
A17: 1997 | B17: CAE | C17: 132 | D17: -24.137931 | E17: 91834 | F17: 229.89906 | G17: 272100 | H17: 397.36784 | I17: 3 | J17: 12745 | K17: 181775
B18: Alava | C18: 22 | D18: -40.540541 | E18: 10196 | F18: 55.973688 | G18: 15836 | H18: 85.108124 | I18: 1 | J18: 3600 | K18: 50400
B19: Gipuzkoa | C19: 42 | D19: -19.230769 | E19: 48798 | F19: 564.73233 | G19: 162501 | H19: 1062.1326 | I19: 1 | J19: 3345 | K19: 50175
B20: Bizkaia | C20: 68 | D20: -20 | E20: 32840 | F20: 135.26041 | G20: 93763 | H20: 191.46099 | I20: 1 | J20: 5800 | K20: 81200
A21: 1998 | B21: CAE | C21: 107 | D21: -18.939394 | E21: 13321 | F21: -85.494479 | G21: 26540 | H21: -90.246233 | I21: 0 | J21: 0 | K21: 0
B22: Alava | C22: 33 | D22: 50 | E22: 2978 | F22: -70.792468 | G22: 6850 | H22: -56.744127
B23: Gipuzkoa | C23: 27 | D23: -35.714286 | E23: 3495 | F23: -92.837821 | G23: 5819 | H23: -96.419099
B24: Bizkaia | C24: 47 | D24: -30.882353 | E24: 6848 | F24: -79.147381 | G24: 13871 | H24: -85.206318
A25: 1999 | B25: CAE | C25: 160 | D25: 49.53271 | E25: 663628 | F25: 4881.8182 | G25: 661690 | H25: 2393.1801 | I25: 3 | J25: 127 | K25: 843
B26: Alava | C26: 43 | D26: 30.30303 | E26: 127302 | F26: 4174.7482 | G26: 108402 | H26: 1482.5109
B27: Gipuzkoa | C27: 57 | D27: 111.11111 | E27: 228145 | F27: 6427.7539 | G27: 233273 | H27: 3908.8159 | I27: 3 | J27: 127 | K27: 843
B28: Bizkaia | C28: 60 | D28: 27.659574 | E28: 308181 | F28: 4400.3067 | G28: 320015 | H28: 2207.0795
A29: 2000 | B29: CAE | C29: 169 | D29: 5.625 | E29: 43710 | F29: -93.413479 | G29: 185840 | H29: -71.914341 | I29: 1 | J29: 105 | K29: 420
B30: Alava | C30: 61 | D30: 41.860465 | E30: 16682 | F30: -86.895728 | G30: 38176 | H30: -64.782938 | I30: 1 | J30: 105 | K30: 420
B31: Gipuzkoa | C31: 43 | D31: -24.561404 | E31: 8706 | F31: -96.184006 | G31: 27281 | H31: -88.305119
B32: Bizkaia | C32: 65 | D32: 8.3333333 | E32: 18322 | F32: -94.054792 | G32: 120383 | H32: -62.382076
A33: 2001 | B33: CAE | C33: 192 | D33: 13.609467 | E33: 94373 | F33: 115.90712 | G33: 296056 | H33: 59.306931 | I33: 3 | J33: 335 | K33: 471
B34: Alava | C34: 41 | D34: -32.786885 | E34: 13584 | F34: -18.570915 | G34: 55323 | H34: 44.915654
B35: Gipuzkoa | C35: 71 | D35: 65.116279 | E35: 39758 | F35: 356.67356 | G35: 144204 | H35: 428.58766 | I35: 3 | J35: 335 | K35: 471
B36: Bizkaia | C36: 80 | D36: 23.076923 | E36: 41031 | F36: 123.94389 | G36: 96529 | H36: -19.81509
A37: 2002 | B37: CAE | C37: 192 | D37: 0 | E37: 694218 | F37: 635.61082 | G37: 670078 | H37: 126.33488 | I37: 0 | J37: 0 | K37: 0
B38: Alava | C38: 41 | D38: 0 | E38: 173779 | F38: 1179.2918 | G38: 182358 | H38: 229.62421
B39: Gipuzkoa | C39: 56 | D39: -21.126761 | E39: 169626 | F39: 326.64621 | G39: 182344 | H39: 26.448642
B40: Bizkaia | C40: 95 | D40: 18.75 | E40: 350813 | F40: 754.995 | G40: 305376 | H40: 216.35674
A41: 2003 | B41: CAE | C41: 221 | D41: 15.104167 | E41: 74794 | F41: -89.226151 | G41: 339866 | H41: -49.279636 | I41: 2 | J41: 82 | K41: 1564
B42: Alava | C42: 38 | D42: -7.3170732 | E42: 6883 | F42: -96.039222 | G42: 43795 | H42: -75.984053
B43: Gipuzkoa | C43: 65 | D43: 16.071429 | E43: 43868 | F43: -74.138399 | G43: 167315 | H43: -8.2421138 | I43: 2 | J43: 82 | K43: 1564
B44: Bizkaia | C44: 118 | D44: 24.210526 | E44: 24043 | F44: -93.146491 | G44: 128756 | H44: -57.836896
A45: 2004 | B45: CAE | C45: 243 | D45: 9.9547511 | E45: 101058 | F45: 35.115116 | G45: 606155 | H45: 78.351174 | I45: 0 | J45: 0 | K45: 0
B46: Alava | C46: 41 | D46: 7.8947368 | E46: 11681 | F46: 69.707976 | G46: 47338 | H46: 8.0899646
B47: Gipuzkoa | C47: 86 | D47: 32.307692 | E47: 41738 | F47: -4.8554755 | G47: 361584 | H47: 116.10973
B48: Bizkaia | C48: 116 | D48: -1.6949153 | E48: 47639 | F48: 98.140831 | G48: 197233 | H48: 53.183541
A49: 2011 | B49: CAE | C49: 240 | D49: -1.2345679 | E49: 18640 | F49: -81.555147 | G49: 83935 | H49: -86.152882
B50: Alava | C50: 67 | D50: 13.559322 | E50: 4755 | F50: 98.787625 | G50: 10095 | H50: -2.5673198
B51: Gipuzkoa | C51: 69 | D51: -27.368421 | E51: 4423 | F51: -71.658337 | G51: 29605 | H51: -64.416212
B52: Bizkaia | C52: 104 | D52: -27.777778 | E52: 9462 | F52: -52.90663 | G52: 44235 | H52: -48.540019
A53: 2012 | B53: CAE | C53: 278 | D53: 15.833333 | E53: 21600 | F53: 15.879828 | G53: 130930 | H53: 55.989754 | I53: 1 | J53: 20 | K53: 60
B54: Alava | C54: 64 | D54: -4.4776119 | E54: 3050 | F54: -35.856993 | G54: 21017 | H54: 108.19217
B55: Gipuzkoa | C55: 81 | D55: 17.391304 | E55: 8435 | F55: 90.707664 | G55: 60723 | H55: 105.11062 | I55: 1 | J55: 20 | K55: 60
B56: Bizkaia | C56: 133 | D56: 27.884615 | E56: 10115 | F56: 6.9012894 | G56: 49190 | H56: 11.201537
A57: 2013 | B57: CAE | C57: 350 | D57: 25.899281 | E57: 37020 | F57: 71.388889 | G57: 140391 | H57: 7.2259986 | I57: 1 | J57: 34 | K57: 306
B58: Alava | C58: 91 | D58: 42.1875 | E58: 3907 | F58: 28.098361 | G58: 13026 | H58: -38.021602
B59: Gipuzkoa | C59: 99 | D59: 22.222222 | E59: 4834 | F59: -42.691168 | G59: 29826 | H59: -50.881873 | I59: 1 | J59: 34 | K59: 306
B60: Bizkaia | C60: 160 | D60: 20.300752 | E60: 28279 | F60: 179.57489 | G60: 97539 | H60: 98.290303
A61: 2014 | B61: CAE | C61: 236 | D61: -32.571429 | E61: 17126 | F61: -53.73852 | G61: 56648 | H61: -59.649835 | I61: 1 | J61: 10 | K61: 320
B62: Alava | C62: 73 | D62: -19.78022 | E62: 3647 | F62: -6.6547223 | G62: 7956 | H62: -38.922156
B63: Gipuzkoa | C63: 44 | D63: -55.555556 | E63: 2252 | F63: -53.413322 | G63: 11122 | H63: -62.710387
B64: Bizkaia | C64: 119 | D64: -25.625 | E64: 11227 | F64: -60.299162 | G64: 37570 | H64: -61.482074 | I64: 1 | J64: 10 | K64: 320
A65: 2015 | B65: CAE | C65: 184 | D65: -22.033898 | E65: 10608 | F65: -38.059091 | G65: 18222 | H65: -67.832933
B66: Alava | C66: 62 | D66: -15.068493 | E66: 2901 | F66: -20.455169 | G66: 2573 | H66: -67.659628
B67: Gipuzkoa | C67: 44 | D67: 0 | E67: 2532 | F67: 12.433393 | G67: 3487 | H67: -68.647725
B68: Bizkaia | C68: 78 | D68: -34.453782 | E68: 5175 | F68: -53.905763 | G68: 12162 | H68: -67.628427
A69: 2016 | B69: CAE | C69: 164 | D69: -10.869565 | E69: 13735 | F69: 29.477753 | G69: 58157 | H69: 219.15816 | I69: 2 | J69: 656 | K69: 656
B70: Alava | C70: 48 | D70: -22.580645 | E70: 2150 | F70: -25.887625 | G70: 5385 | H70: 109.28877 | I70: 0 | J70: 0 | K70: 0
B71: Gipuzkoa | C71: 43 | D71: -2.2727273 | E71: 3380 | F71: 33.491311 | G71: 25790 | H71: 639.60424 | I71: 2 | J71: 656 | K71: 656
B72: Bizkaia | C72: 73 | D72: -6.4102564 | E72: 8205 | F72: 58.550725 | G72: 26982 | H72: 121.85496 | I72: 0 | J72: 0 | K72: 0
A73: 2017 | B73: CAE | C73: 214 | D73: 30.487805 | E73: 59505 | F73: 333.23626 | G73: 96423 | H73: 65.797754
B74: Alava | C74: 46 | D74: -4.1666667 | E74: 11690 | F74: 443.72093 | G74: 14774 | H74: 174.35469
B75: Gipuzkoa | C75: 77 | D75: 79.069767 | E75: 20969 | F75: 520.38462 | G75: 35562 | H75: 37.890655
B76: Bizkaia | C76: 91 | D76: 24.657534 | E76: 26846 | F76: 227.19074 | G76: 46087 | H76: 70.806464
A77: 2018 | B77: CAE | C77: 264 | D77: 23.364486 | E77: 48696 | F77: -18.16486 | G77: 110838 | H77: 14.949753
B78: Alava | C78: 37 | D78: -19.565217 | E78: 6705 | F78: -42.643285 | G78: 9723 | H78: -34.188439
B79: Gipuzkoa | C79: 97 | D79: 25.974026 | E79: 12819 | F79: -38.866899 | G79: 34320 | H79: -3.492492
B80: Bizkaia | C80: 130 | D80: 42.857143 | E80: 29172 | F80: 8.664233 | G80: 66795 | H80: 44.93241
A81: 2019 | B81: CAE | C81: 308 | D81: 16.666667 | E81: 79860 | F81: 63.997043 | G81: 391830 | H81: 253.51594
B82: Alava | C82: 52 | D82: 40.540541 | E82: 3469 | F82: -48.262491 | G82: 9922 | H82: 2.0466934
B83: Gipuzkoa | C83: 137 | D83: 41.237113 | E83: 3812 | F83: -70.262891 | G83: 36222 | H83: 5.541958
B84: Bizkaia | C84: 119 | D84: -8.4615385 | E84: 72579 | F84: 148.79679 | G84: 345686 | H84: 417.53275
A85: 2020 | B85: CAE | C85: 190 | D85: -38.311688 | E85: 25642 | F85: -67.89131 | G85: 59741 | H85: -84.753337
B86: Alava | C86: 41 | D86: -21.153846 | E86: 6090 | F86: 75.554915 | G86: 9079 | H86: -8.4962709
B87: Gipuzkoa | C87: 91 | D87: -33.576642 | E87: 7204 | F87: 88.982162 | G87: 20495 | H87: -43.418365
B88: Bizkaia | C88: 58 | D88: -51.260504 | E88: 12348 | F88: -82.986814 | G88: 30167 | H88: -91.273294
A89: 2021 | B89: CAE | C89: 248 | D89: 30.526316 | E89: 14848 | F89: -42.095 | G89: 140775 | H89: 135.64219
B90: Alava | C90: 32 | D90: -21.95122 | E90: 2578 | F90: -57.668309 | G90: 96718 | H90: 965.29353
B91: Gipuzkoa | C91: 63 | D91: -30.769231 | E91: 1861 | F91: -74.167129 | G91: 4970 | H91: -75.750183
B92: Bizkaia | C92: 153 | D92: 163.7931 | E92: 10409 | F92: -15.702948 | G92: 39087 | H92: 29.568734
A93: 2022 | B93: CAE | C93: 342 | D93: 37.903226 | E93: 106998 | F93: 620.62231 | G93: 384459 | H93: 173.10176 | I93: 1 | J93: 35 | K93: 140
B94: Alava | C94: 52 | D94: 62.5 | E94: 15835 | F94: 514.23584 | G94: 43819 | H94: -54.694059 | I94: 0 | J94: 0 | K94: 0
B95: Gipuzkoa | C95: 124 | D95: 96.825397 | E95: 9616 | F95: 416.71145 | G95: 33623 | H95: 576.51911 | I95: 0 | J95: 0 | K95: 0
B96: Bizkaia | C96: 166 | D96: 8.496732 | E96: 81547 | F96: 683.4278 | G96: 307017 | H96: 685.47087 | I96: 1 | J96: 35 | K96: 140
A97: 2023 | B97: CAE | C97: 325 | D97: -4.9707602 | E97: 58307 | F97: -45.506458 | G97: 169836.15 | H97: -55.824639
B98: Alava | C98: 33 | D98: -36.538462 | E98: 7750 | F98: -51.057783 | G98: 17832 | H98: -59.305324
B99: Gipuzkoa | C99: 71 | D99: -42.741935 | E99: 13028 | F99: 35.482529 | G99: 43767 | H99: 30.169824
B100: Bizkaia | C100: 221 | D100: 33.13253 | E100: 37529 | F100: -53.978687 | G100: 108237.15 | H100: -64.745552
...
