Workbook

Sheet Índice
A1: Índice | C1: Expedientes de regulación de empleo / Enplegu-erregulazioaren espedienteak | N1: ='R2 2024'!O56 -> 2024-12
A7: 1 - | B7: ='R1 2024'!A3 -> Nº de Expedientes de regulación de empleo y personas afectadas en la CAE. Datos acumulados año 2024
B8: ='R1 2024'!A4 -> Enplegu-erregulazioaren bitartez 2024ko espedienteak eta eragindako langileak EAEn, hilabeteka eta lurraldeka. Datu metatuak 2024ko urtean
A10: 2 - | B10: ='R2 2024'!A1 -> Expedientes de regulación de empleo Autorizados / Comunicados y Personas Afectadas por Regulación de Empleo en la CAE en 2024 por mes y TH
B11: ='R2 2024'!A2 -> Enplegu-erregulazioaren bitartez 2024ko espediente baimendu eta/edo komunikatuak eta eragindako langileak EAEn, hilabeteka eta lurraldeka
A13: 3 - | B13: ='R3 2024'!B1 -> Nº de Exptes de Regulación de Empleo Autorizados y/o Comunicados en la CAE en 2024 por mes, TH y Tipo
B14: ='R3 2024'!B2 -> Enplegu-erregulazioaren bitartez 2024ko espediente baimendu edo/eta komunikatuak EAEn, hilabeteka, lurraldeka eta motaren arabera
A16: 4 - | B16: ='R4 2024'!A1 -> Exptes. ETOP Autorizados-Comunicados / Acordados y Personas Afectadas en la CAE en 2024 (exceptuados exptes Fuerza Mayor)
B17: ='R4 2024'!A2 -> EAEn izandako ETOP enplegu-erregulazioko espedienteak, eragindako langileak eta hitzartutakoen portzentaiak ("ezinbesteko" espedienteak izan ezik) - 2024
A19: 5 - | B19: ='R5 2024'!A1 -> Nº de Exptes Autorizados y/o Comunicados / Acordados en la CAE en 2024 exceptuados exptes Fuerza Mayor
B20: EAEn izandako enplegu-erregulazioko espedienteak eta hitzartutakoen portzentajeak ("ezinbesteko" espedienteak izan ezik) - 2022
A22: 6 - | B22: ='R6 2024'!A1 -> Expedientes de Regulación de Empleo Autorizados / Comunicados y afectados/as por TH y Sector de Actividad Económica en la CAE en 2024
B23: ='R6 2024'!A2 -> Enplegu-erregulazioaren bitartez 2024ko espediente baimendu edo-eta komunikatuak eta eragindako langileak EAEn, lurraldeka eta sektor ekonomikoaren arabera
A25: 7 - | B25: ='R7 2024'!A1 -> Nº de Exptes Autorizados y/o Comunicados y Personas Afectadas por Regulación de Empleo en la CAE por Ramas de Actividad según CNAE-2009
B26: ='R7 2024'!A2 -> Enplegu-erregulazioaren bitartez espediente baimendu edo-eta komunikatuak eta eragindako langileak EAEn 2009ko jardun-kodearen arabera
A28: 8 - | B28: ='R8 2024'!A1 -> Nº de Exptes Autorizados y/o Comunicados y Personas Afectadas por Regulación de Empleo en ÁLAVA por Ramas de Actividad según CNAE-2009
B29: ='R8 2024'!A2 -> Enplegu-erregulazioaren bitartez espediente baimendu edo-eta komunikatuak eta eragindako langileak ARABAn 2009ko jardun-kodearen arabera
A31: 9 - | B31: ='R9 2024'!A1 -> Nº de Exptes Autorizados y/o Comunicados y Personas Afectadas por Regulación de Empleo en GIPUZKOA por Ramas de Actividad según CNAE-2009
B32: ='R9 2024'!A2 -> Enplegu-erregulazioaren bitartez espediente baimendu edo-eta komunikatuak eta eragindako langileak GIPUZKOAn 2009ko jardun-kodearen arabera
A34: 10 - | B34: ='R10 2024'!A1 -> Nº de Exptes Autorizados y/o Comunicados y Personas Afectadas por Regulación de Empleo en BIZKAIA por Ramas de Actividad según CNAE-2009
B35: ='R10 2024'!A2 -> Enplegu-erregulazioaren bitartez espediente baimendu edo-eta komunikatuak eta eragindako langileak BIZKAIAn 2009ko jardun-kodearen arabera
A37: 11 - | B37: ='R11 2024'!A1 -> Nº de Exptes Autorizados y/o Comunicados y Personas Afectadas por Regulación de Empleo en la CAE según Causa por TH - 2024
B38: ='R11 2024'!A2 -> Enplegu-erregulazioaren bitartez espediente baimendu edo-eta komunikatuak eta eragindako langileak EAEn kausaren arabera, lurraldeka - 2024
A40: 12 - | B40: ='R12 2024'!A1 -> Nº de Exptes Autorizados y/o Comunicados y Personas Afectadas por Regulación de Empleo en la CAE por Comarcas y TH - 2024
B41: ='R12 2024'!A2 -> Enplegu-erregulazioaren bitartez espediente baimendu edo-eta komunikatuak eta eragindako langileak EAEn, eskualdeka eta lurraldeka
A43: 13 - | B43: ='R13 2024'!A1 -> Nº de Exptes Autorizados y/o Comunicados y Personas Afectadas por Regulación de Empleo en la CAE según Rangos de Plantilla por TH - 2024
B44: ='R13 2024'!A2 -> Enplegu-erregulazioaren bitartez espediente baimendu edo-eta komunikatuak eta eragindako langileak EAEn plantila kopuruaren arabera, lurraldeka - 2024
A46: 14 - | B46: ='R14 2024'!A1 -> Nº de Exptes Autorizados y/o Comunicados y Personas Afectadas por Regulación de Empleo en la CAE según SA, SL y Otras por TH - 2024
B47: ='R14 2024'!A2 -> Enplegu-erregulazioaren bitartez espediente baimendu edo-eta komunikatuak eta eragindako langileak EAEn SA, SL eta bestelakoen arabera, lurraldeka - 2024
A49: 15 - | B49: ='R15 2024'!A1 -> Nº de Exptes Autorizados y Personas Afectadas por Regulación de Empleo en ÁLAVA por Municipio
B50: ='R15 2024'!A2 -> Enplegu-erregulazioaren bitartez espediente baimenduak eta eragindako langileak ARABAn, herriz herri
A52: 16 - | B52: ='R16 2024'!A1 -> Nº de Exptes Autorizados y Personas Afectadas por Regulación de Empleo en GIPUZKOA por Municipio
B53: ='R16 2024'!A2 -> Enplegu-erregulazioaren bitartez espediente baimenduak eta eragindako langileak GIPUZKOAn, herriz herri
A55: 17 - | B55: ='R17 2024'!A1 -> Nº de Exptes Autorizados y Personas Afectadas por Regulación de Empleo en BIZKAIA por Municipio
B56: ='R17 2024'!A2 -> Enplegu-erregulazioaren bitartez espediente baimenduak eta eragindako langileak BIZKAIAn, herriz herri
A58: 18 - | B58: ='R18 2013-2024'!A1 -> Trabajadores/as Afectados por Regulación de Empleo en la CAE 2013 / 2024 por mes
B59: ='R18 2013-2024'!A2 -> Enplegu-erregulazioaren bitartez 2013 / 2024ko eragindako langileak EAEn, hilabeteka
A61: 19 - | B61: ='R19 1994-2024'!A1 -> Expedientes autorizados/comunicados y trabajadores/as afectados por regulación de empleo en Euskadi 1993/2023
B62: ='R19 1994-2024'!A2 -> Enplegu-erregulazioaren bitartez espediente aimenduak/komunikatuak eta eragindako langileak 1993eta 2023ko bitartean EAEn
A68: Fuente: Dirección de Trabajo y Seguridad Social / Iturria: Lan eta Gizarte Segurantza Zuzendaritza | F68: Datos provisionales / Behin behineko datuak
A69: https://www.euskadi.eus/web01-s2lanju/es/contenidos/informacion/estadisticastrabajo/es_esttraba/index.shtml#empleo

Sheet R1 2024
A3: Nº de Expedientes de regulación de empleo y personas afectadas en la CAE. Datos acumulados año 2024
A4: Enplegu-erregulazioaren bitartez 2024ko espedienteak eta eragindako langileak EAEn, hilabeteka eta lurraldeka. Datu metatuak 2024ko urtean | P4: 2024-12
A5: Urte | B5: Emaitza | C5: LH | D5: Expt zb. | E5: Etendura | F5: Gizonak | G5: Emakum. | H5: Murrizketa | I5: Gizonak | J5: Emakum. | K5: Hausketa | L5: Gizonak | M5: Emakum. | N5: Guztira | O5: Gizonak | P5: Emakum.
A6: Año | B6: Resultado | C6: TH | D6: Nº Exptes | E6: Suspensión | F6: TotalH | G6: TotalM | H6: Reducción | I6: TotalH | J6: TotalM | K6: Rescisión | L6: TotalH | M6: TotalM | N6: Total | O6: TotalH | P6: TotalM
C7: Araba | D7: 39 | E7: 2549 | F7: 2219 | G7: 330 | H7: 52 | I7: 45 | J7: 7 | K7: 92 | L7: 49 | M7: 43 | N7: 2693 | O7: 2313 | P7: 380
C8: Gipuzkoa | D8: 95 | E8: 1730 | F8: 1500 | G8: 230 | H8: 212 | I8: 139 | J8: 73 | K8: 453 | L8: 304 | M8: 149 | N8: 2395 | O8: 1943 | P8: 452
C9: Bizkaia | D9: 124 | E9: 3813 | F9: 3188 | G9: 625 | H9: 225 | I9: 155 | J9: 70 | K9: 382 | L9: 309 | M9: 73 | N9: 4420 | O9: 3652 | P9: 768
B10: Autorizado y/o Comunicado | C10: CAE | D10: 258 | E10: 8092 | F10: 6907 | G10: 1185 | H10: 489 | I10: 339 | J10: 150 | K10: 927 | L10: 662 | M10: 265 | N10: 9508 | O10: 7908 | P10: 1600
C11: Araba | D11: 8 | E11: 155 | F11: 132 | G11: 23 | H11: 5 | I11: 4 | J11: 1 | K11: 38 | L11: 22 | M11: 16 | N11: 198 | O11: 158 | P11: 40
C12: Gipuzkoa | D12: 17 | E12: 89 | F12: 71 | G12: 18 | H12: 19 | I12: 11 | J12: 8 | K12: 80 | L12: 66 | M12: 14 | N12: 188 | O12: 148 | P12: 40
C13: Bizkaia | D13: 39 | E13: 623 | F13: 495 | G13: 128 | H13: 58 | I13: 45 | J13: 13 | K13: 64 | L13: 54 | M13: 10 | N13: 745 | O13: 594 | P13: 151
B14: Desistidos | C14: CAE | D14: 64 | E14: 867 | F14: 698 | G14: 169 | H14: 82 | I14: 60 | J14: 22 | K14: 182 | L14: 142 | M14: 40 | N14: 1131 | O14: 900 | P14: 231
C15: Araba | D15: 0 | E15: 0 | F15: 0 | G15: 0 | H15: 0 | I15: 0 | J15: 0 | K15: 0 | L15: 0 | M15: 0 | N15: 0 | O15: 0 | P15: 0
C16: Gipuzkoa | D16: 2 | E16: 15 | F16: 9 | G16: 6 | H16: 0 | I16: 0 | J16: 0 | K16: 0 | L16: 0 | M16: 0 | N16: 15 | O16: 9 | P16: 6
C17: Bizkaia | D17: 4 | E17: 46 | F17: 23 | G17: 23 | H17: 0 | I17: 0 | J17: 0 | K17: 0 | L17: 0 | M17: 0 | N17: 46 | O17: 23 | P17: 23
B18: No Autorizados | C18: CAE | D18: 6 | E18: 61 | F18: 32 | G18: 29 | H18: 0 | I18: 0 | J18: 0 | K18: 0 | L18: 0 | M18: 0 | N18: 61 | O18: 32 | P18: 29
C19: Araba | D19: 0 | E19: 0 | F19: 0 | G19: 0 | H19: 0 | I19: 0 | J19: 0 | K19: 0 | L19: 0 | M19: 0 | N19: 0 | O19: 0 | P19: 0
C20: Gipuzkoa | D20: 0 | E20: 0 | F20: 0 | G20: 0 | H20: 0 | I20: 0 | J20: 0 | K20: 0 | L20: 0 | M20: 0 | N20: 0 | O20: 0 | P20: 0
C21: Bizkaia | D21: 0 | E21: 0 | F21: 0 | G21: 0 | H21: 0 | I21: 0 | J21: 0 | K21: 0 | L21: 0 | M21: 0 | N21: 0 | O21: 0 | P21: 0
B22: Archivados | C22: CAE | D22: 0 | E22: 0 | F22: 0 | G22: 0 | H22: 0 | I22: 0 | J22: 0 | K22: 0 | L22: 0 | M22: 0 | N22: 0 | O22: 0 | P22: 0
A23: Total | B23: Total | C23: Araba | D23: 47 | E23: 2704 | F23: 2351 | G23: 353 | H23: 57 | I23: 49 | J23: 8 | K23: 130 | L23: 71 | M23: 59 | N23: 2891 | O23: 2471 | P23: 420
A24: Acum. | B24: Total | C24: Gipuzkoa | D24: 114 | E24: 1834 | F24: 1580 | G24: 254 | H24: 231 | I24: 150 | J24: 81 | K24: 533 | L24: 370 | M24: 163 | N24: 2598 | O24: 2100 | P24: 498
A25: Año | B25: Total | C25: Bizkaia | D25: 167 | E25: 4482 | F25: 3706 | G25: 776 | H25: 283 | I25: 200 | J25: 83 | K25: 446 | L25: 363 | M25: 83 | N25: 5211 | O25: 4269 | P25: 942
A26: 2024 | B26: TOTAL | C26: CAE | D26: 328 | E26: 9020 | F26: 7637 | G26: 1383 | H26: 571 | I26: 399 | J26: 172 | K26: 1109 | L26: 804 | M26: 305 | N26: 10700 | O26: 8840 | P26: 1860
A65: Fuente: Dirección de Trabajo y Seguridad Social / Iturria: Lan eta Gizarte Segurantza Zuzendaritza | L65: Datos provisionales / Behin behineko datuak
A66: https://www.euskadi.eus/web01-s2lanju/es/contenidos/informacion/estadisticastrabajo/es_esttraba/index.shtml#empleo

Sheet R2 2024
A1: Expedientes de regulación de empleo Autorizados / Comunicados y Personas Afectadas por Regulación de Empleo en la CAE en 2024 por mes y TH
A2: Enplegu-erregulazioaren bitartez 2024ko espediente baimendu eta/edo komunikatuak eta eragindako langileak EAEn, hilabeteka eta lurraldeka
A4: Mes | B4: TH | C4: NºExptes | D4: Suspensión | E4: H. | F4: M. | G4: Reducción | H4: H. | I4: M. | J4: Rescisión | K4: H. | L4: M. | M4: Total Afect. | N4: Hombres | O4: Mujeres
A5: Hilab. | B5: LH | C5: Expt zb. | D5: Etendura | E5: G. | F5: E. | G5: Murrizketa | H5: G. | I5: E. | J5: Hausketa | K5: G. | L5: E. | M5: Guztira | N5: Gizonak | O5: Emakumeak
B6: Araba | C6: 2 | D6: 200 | E6: 184 | F6: 16 | G6: 0 | J6: 0 | M6: 200 | N6: 184 | O6: 16
B7: Gipuzkoa | C7: 9 | D7: 205 | E7: 165 | F7: 40 | G7: 4 | H7: 2 | I7: 2 | J7: 45 | K7: 39 | L7: 6 | M7: 254 | N7: 206 | O7: 48
B8: Bizkaia | C8: 10 | D8: 307 | E8: 211 | F8: 96 | G8: 3 | I8: 3 | J8: 4 | K8: 1 | L8: 3 | M8: 314 | N8: 212 | O8: 102
A9: 1 | B9: CAE | C9: 21 | D9: 712 | E9: 560 | F9: 152 | G9: 7 | H9: 2 | I9: 5 | J9: 49 | K9: 40 | L9: 9 | M9: 768 | N9: 602 | O9: 166
B10: Araba | C10: 3 | D10: 850 | E10: 794 | F10: 56 | G10: 0 | H10: 0 | I10: 0 | J10: 0 | K10: 0 | L10: 0 | M10: 850 | N10: 794 | O10: 56
B11: Gipuzkoa | C11: 9 | D11: 37 | E11: 29 | F11: 8 | G11: 31 | H11: 19 | I11: 12 | J11: 0 | K11: 0 | L11: 0 | M11: 68 | N11: 48 | O11: 20
B12: Bizkaia | C12: 15 | D12: 565 | E12: 516 | F12: 49 | G12: 15 | H12: 10 | I12: 5 | J12: 0 | K12: 0 | L12: 0 | M12: 580 | N12: 526 | O12: 54
A13: 2 | B13: CAE | C13: 27 | D13: 1452 | E13: 1339 | F13: 113 | G13: 46 | H13: 29 | I13: 17 | J13: 0 | K13: 0 | L13: 0 | M13: 1498 | N13: 1368 | O13: 130
B14: Araba | C14: 8 | D14: 60 | E14: 60 | F14: 0 | G14: 35 | H14: 33 | I14: 2 | J14: 35 | K14: 27 | L14: 8 | M14: 130 | N14: 120 | O14: 10
B15: Gipuzkoa | C15: 9 | D15: 49 | E15: 37 | F15: 12 | G15: 8 | H15: 8 | I15: 0 | J15: 30 | K15: 11 | L15: 19 | M15: 87 | N15: 56 | O15: 31
B16: Bizkaia | C16: 11 | D16: 1078 | E16: 977 | F16: 101 | G16: 10 | H16: 7 | I16: 3 | J16: 28 | K16: 17 | L16: 11 | M16: 1116 | N16: 1001 | O16: 115
A17: 3 | B17: CAE | C17: 28 | D17: 1187 | E17: 1074 | F17: 113 | G17: 53 | H17: 48 | I17: 5 | J17: 93 | K17: 55 | L17: 38 | M17: 1333 | N17: 1177 | O17: 156
B18: Araba | C18: 5 | D18: 497 | E18: 376 | F18: 121 | G18: 12 | H18: 8 | I18: 4 | J18: 0 | K18: 0 | L18: 0 | M18: 509 | N18: 384 | O18: 125
B19: Gipuzkoa | C19: 6 | D19: 24 | E19: 20 | F19: 4 | G19: 0 | H19: 0 | I19: 0 | J19: 63 | K19: 39 | L19: 24 | M19: 87 | N19: 59 | O19: 28
B20: Bizkaia | C20: 5 | D20: 65 | E20: 49 | F20: 16 | G20: 0 | H20: 0 | I20: 0 | J20: 0 | K20: 0 | L20: 0 | M20: 65 | N20: 49 | O20: 16
A21: 4 | B21: CAE | C21: 16 | D21: 586 | E21: 445 | F21: 141 | G21: 12 | H21: 8 | I21: 4 | J21: 63 | K21: 39 | L21: 24 | M21: 661 | N21: 492 | O21: 169
B22: Araba | C22: 5 | D22: 209 | E22: 178 | F22: 31 | G22: 0 | H22: 0 | I22: 0 | J22: 0 | K22: 0 | L22: 0 | M22: 209 | N22: 178 | O22: 31
B23: Gipuzkoa | C23: 3 | D23: 43 | E23: 19 | F23: 24 | G23: 5 | H23: 4 | I23: 1 | J23: 17 | K23: 6 | L23: 11 | M23: 65 | N23: 29 | O23: 36
B24: Bizkaia | C24: 7 | D24: 115 | E24: 90 | F24: 25 | G24: 17 | H24: 7 | I24: 10 | J24: 153 | K24: 148 | L24: 5 | M24: 285 | N24: 245 | O24: 40
A25: 5 | B25: CAE | C25: 15 | D25: 367 | E25: 287 | F25: 80 | G25: 22 | H25: 11 | I25: 11 | J25: 170 | K25: 154 | L25: 16 | M25: 559 | N25: 452 | O25: 107
B26: Araba | C26: 2 | D26: 31 | E26: 21 | F26: 10 | G26: 0 | H26: 0 | I26: 0 | J26: 0 | K26: 0 | L26: 0 | M26: 31 | N26: 21 | O26: 10
B27: Gipuzkoa | C27: 9 | D27: 108 | E27: 97 | F27: 11 | G27: 9 | H27: 2 | I27: 7 | J27: 22 | K27: 14 | L27: 8 | M27: 139 | N27: 113 | O27: 26
B28: Bizkaia | C28: 14 | D28: 109 | E28: 47 | F28: 62 | G28: 77 | H28: 55 | I28: 22 | J28: 52 | K28: 31 | L28: 21 | M28: 238 | N28: 133 | O28: 105
A29: 6 | B29: CAE | C29: 25 | D29: 248 | E29: 165 | F29: 83 | G29: 86 | H29: 57 | I29: 29 | J29: 74 | K29: 45 | L29: 29 | M29: 408 | N29: 267 | O29: 141
B30: Araba | C30: 3 | D30: 299 | E30: 286 | F30: 13 | G30: 5 | H30: 4 | I30: 1 | J30: 30 | K30: 15 | L30: 15 | M30: 334 | N30: 305 | O30: 29
B31: Gipuzkoa | C31: 11 | D31: 376 | E31: 338 | F31: 38 | G31: 19 | H31: 17 | I31: 2 | J31: 105 | K31: 62 | L31: 43 | M31: 500 | N31: 417 | O31: 83
B32: Bizkaia | C32: 11 | D32: 224 | E32: 145 | F32: 79 | G32: 13 | H32: 7 | I32: 6 | J32: 29 | K32: 18 | L32: 11 | M32: 266 | N32: 170 | O32: 96
A33: 7 | B33: CAE | C33: 25 | D33: 899 | E33: 769 | F33: 130 | G33: 37 | H33: 28 | I33: 9 | J33: 164 | K33: 95 | L33: 69 | M33: 1100 | N33: 892 | O33: 208
B34: Araba | C34: 1 | D34: 0 | E34: 0 | F34: 0 | G34: 0 | H34: 0 | I34: 0 | J34: 9 | K34: 4 | L34: 5 | M34: 9 | N34: 4 | O34: 5
B35: Gipuzkoa | C35: 6 | D35: 9 | E35: 4 | F35: 5 | G35: 16 | H35: 12 | I35: 4 | J35: 64 | K35: 57 | L35: 7 | M35: 89 | N35: 73 | O35: 16
B36: Bizkaia | C36: 6 | D36: 44 | E36: 38 | F36: 6 | G36: 11 | H36: 9 | I36: 2 | J36: 0 | K36: 0 | L36: 0 | M36: 55 | N36: 47 | O36: 8
A37: 8 | B37: CAE | C37: 13 | D37: 53 | E37: 42 | F37: 11 | G37: 27 | H37: 21 | I37: 6 | J37: 73 | K37: 61 | L37: 12 | M37: 153 | N37: 124 | O37: 29
B38: Araba | C38: 0 | D38: 0 | E38: 0 | F38: 0 | G38: 0 | H38: 0 | I38: 0 | J38: 0 | K38: 0 | L38: 0 | M38: 0 | N38: 0 | O38: 0
B39: Gipuzkoa | C39: 2 | D39: 229 | E39: 185 | F39: 44 | G39: 0 | H39: 0 | I39: 0 | J39: 0 | K39: 0 | L39: 0 | M39: 229 | N39: 185 | O39: 44
B40: Bizkaia | C40: 5 | D40: 24 | E40: 17 | F40: 7 | G40: 14 | H40: 7 | I40: 7 | J40: 0 | K40: 0 | L40: 0 | M40: 38 | N40: 24 | O40: 14
A41: 9 | B41: CAE | C41: 7 | D41: 253 | E41: 202 | F41: 51 | G41: 14 | H41: 7 | I41: 7 | J41: 0 | K41: 0 | L41: 0 | M41: 267 | N41: 209 | O41: 58
B42: Araba | C42: 4 | D42: 88 | E42: 71 | F42: 17 | G42: 0 | H42: 0 | I42: 0 | J42: 12 | K42: 3 | L42: 9 | M42: 100 | N42: 74 | O42: 26
B43: Gipuzkoa | C43: 11 | D43: 359 | E43: 331 | F43: 28 | G43: 19 | H43: 8 | I43: 11 | J43: 28 | K43: 13 | L43: 15 | M43: 406 | N43: 352 | O43: 54
B44: Bizkaia | C44: 15 | D44: 572 | E44: 496 | F44: 76 | G44: 10 | H44: 9 | I44: 1 | J44: 2 | K44: 1 | L44: 1 | M44: 584 | N44: 506 | O44: 78
A45: 10 | B45: CAE | C45: 30 | D45: 1019 | E45: 898 | F45: 121 | G45: 29 | H45: 17 | I45: 12 | J45: 42 | K45: 17 | L45: 25 | M45: 1090 | N45: 932 | O45: 158
B46: Araba | C46: 2 | D46: 19 | E46: 16 | F46: 3 | G46: 0 | H46: 0 | I46: 0 | J46: 0 | K46: 0 | L46: 0 | M46: 19 | N46: 16 | O46: 3
B47: Gipuzkoa | C47: 4 | D47: 15 | E47: 13 | F47: 2 | G47: 0 | H47: 0 | I47: 0 | J47: 54 | K47: 48 | L47: 6 | M47: 69 | N47: 61 | O47: 8
B48: Bizkaia | C48: 14 | D48: 634 | E48: 537 | F48: 97 | G48: 35 | H48: 28 | I48: 7 | J48: 57 | K48: 49 | L48: 8 | M48: 726 | N48: 614 | O48: 112
A49: 11 | B49: CAE | C49: 20 | D49: 668 | E49: 566 | F49: 102 | G49: 35 | H49: 28 | I49: 7 | J49: 111 | K49: 97 | L49: 14 | M49: 814 | N49: 691 | O49: 123
B50: Araba | C50: 4 | D50: 296 | E50: 233 | F50: 63 | G50: 0 | H50: 0 | I50: 0 | J50: 6 | K50: 0 | L50: 6 | M50: 302 | N50: 233 | O50: 69
B51: Gipuzkoa | C51: 16 | D51: 276 | E51: 262 | F51: 14 | G51: 101 | H51: 67 | I51: 34 | J51: 25 | K51: 15 | L51: 10 | M51: 402 | N51: 344 | O51: 58
B52: Bizkaia | C52: 11 | D52: 76 | E52: 65 | F52: 11 | G52: 20 | H52: 16 | I52: 4 | J52: 57 | K52: 44 | L52: 13 | M52: 153 | N52: 125 | O52: 28
A53: 12 | B53: CAE | C53: 31 | D53: 648 | E53: 560 | F53: 88 | G53: 121 | H53: 83 | I53: 38 | J53: 88 | K53: 59 | L53: 29 | M53: 857 | N53: 702 | O53: 155
A56: Datos acumulados año 2024 / 2024ko datu metatuak | O56: 2024-12
A57: Año | B57: TH | C57: NºExptes | D57: Suspensión | E57: H. | F57: M. | G57: Reducción | H57: H. | I57: M. | J57: Rescisión | K57: H. | L57: M. | M57: Total Afect. | N57: Hombres | O57: Mujeres
A58: Urte | B58: LH | C58: Expt zb. | D58: Etendura | E58: G. | F58: E. | G58: Murrizketa | H58: G. | I58: E. | J58: Hausketa | K58: G. | L58: E. | M58: Guztira | N58: Gizonak | O58: Emakumeak
A59: Total | B59: Araba | C59: 39 | D59: 2549 | E59: 2219 | F59: 330 | G59: 52 | H59: 45 | I59: 7 | J59: 92 | K59: 49 | L59: 43 | M59: 2693 | N59: 2313 | O59: 380
A60: Acumulado | B60: Gipuzkoa | C60: 95 | D60: 1730 | E60: 1500 | F60: 230 | G60: 212 | H60: 139 | I60: 73 | J60: 453 | K60: 304 | L60: 149 | M60: 2395 | N60: 1943 | O60: 452
A61: Guztira | B61: Bizkaia | C61: 124 | D61: 3813 | E61: 3188 | F61: 625 | G61: 225 | H61: 155 | I61: 70 | J61: 382 | K61: 309 | L61: 73 | M61: 4420 | N61: 3652 | O61: 768
A62: Metatuak | B62: CAE | C62: 258 | D62: 8092 | E62: 6907 | F62: 1185 | G62: 489 | H62: 339 | I62: 150 | J62: 927 | K62: 662 | L62: 265 | M62: 9508 | N62: 7908 | O62: 1600
A69: Fuente: Dirección de Trabajo y Seguridad Social / Iturria: Lan eta Gizarte Segurantza Zuzendaritza | L69: Datos provisionales / Behin behineko datuak
A70: https://www.euskadi.eus/web01-s2lanju/es/contenidos/informacion/estadisticastrabajo/es_esttraba/index.shtml#empleo

Sheet R3 2024
B1: Nº de Exptes de Regulación de Empleo Autorizados y/o Comunicados en la CAE en 2024 por mes, TH y Tipo
B2: Enplegu-erregulazioaren bitartez 2024ko espediente baimendu edo/eta komunikatuak EAEn, hilabeteka, lurraldeka eta motaren arabera
B3: Mes | C3: TH | D3: Nº Exptes Total | E3: Suspensión | F3: Reducción | G3: Rescisión
B4: Hilab. | C4: LH | D4: Expt zb. | E4: Etendura | F4: Murrizketa | G4: Hausketa
C5: Araba | D5: 2 | E5: 2
C6: Gipuzkoa | D6: 9 | E6: 7 | F6: 1 | G6: 1
C7: Bizkaia | D7: 10 | E7: 9 | G7: 1
B8: 1 | C8: CAE | D8: 21 | E8: 18 | F8: 1 | G8: 2
C9: Araba | D9: 3 | E9: 3
C10: Gipuzkoa | D10: 9 | E10: 5 | F10: 4
C11: Bizkaia | D11: 15 | E11: 14 | F11: 1
B12: 2 | C12: CAE | D12: 27 | E12: 22 | F12: 5 | G12: 0
C13: Araba | D13: 8 | E13: 1 | F13: 4 | G13: 3
C14: Gipuzkoa | D14: 9 | E14: 4 | F14: 2 | G14: 3
C15: Bizkaia | D15: 11 | E15: 9 | G15: 2
B16: 3 | C16: CAE | D16: 28 | E16: 14 | F16: 6 | G16: 8
C17: Araba | D17: 5 | E17: 5
C18: Gipuzkoa | D18: 6 | E18: 3 | G18: 3
C19: Bizkaia | D19: 5 | E19: 5
B20: 4 | C20: CAE | D20: 16 | E20: 13 | F20: 0 | G20: 3
C21: Araba | D21: 6 | E21: 5 | F21: 1
C22: Gipuzkoa | D22: 2 | E22: 1 | G22: 1
C23: Bizkaia | D23: 7 | E23: 3 | F23: 2 | G23: 2
B24: 5 | C24: CAE | D24: 15 | E24: 9 | F24: 3 | G24: 3
C25: Araba | D25: 2 | E25: 2
C26: Gipuzkoa | D26: 9 | E26: 4 | F26: 2 | G26: 3
C27: Bizkaia | D27: 14 | E27: 6 | F27: 3 | G27: 5
B28: 6 | C28: CAE | D28: 25 | E28: 12 | F28: 5 | G28: 8
C29: Araba | D29: 3 | E29: 1 | F29: 1 | G29: 1
C30: Gipuzkoa | D30: 11 | E30: 7 | G30: 4
C31: Bizkaia | D31: 11 | E31: 4 | F31: 2 | G31: 5
B32: 7 | C32: CAE | D32: 25 | E32: 12 | F32: 3 | G32: 10
C33: Araba | D33: 1 | G33: 1
C34: Gipuzkoa | D34: 6 | E34: 4 | G34: 2
C35: Bizkaia | D35: 6 | E35: 4 | F35: 2
B36: 8 | C36: CAE | D36: 13 | E36: 8 | F36: 2 | G36: 3
C37: Araba | D37: 0
C38: Gipuzkoa | D38: 2 | E38: 2
C39: Bizkaia | D39: 5 | E39: 3 | F39: 2
B40: 9 | C40: CAE | D40: 7 | E40: 5 | F40: 2 | G40: 0
C41: Araba | D41: 4 | E41: 3 | G41: 1
C42: Gipuzkoa | D42: 11 | E42: 8 | F42: 1 | G42: 2
C43: Bizkaia | D43: 15 | E43: 13 | F43: 1 | G43: 1
B44: 10 | C44: CAE | D44: 30 | E44: 24 | F44: 2 | G44: 4
C45: Araba | D45: 2 | E45: 2
C46: Gipuzkoa | D46: 4 | E46: 2 | G46: 2
C47: Bizkaia | D47: 14 | E47: 8 | F47: 2 | G47: 4
B48: 11 | C48: CAE | D48: 20 | E48: 12 | F48: 2 | G48: 6
C49: Araba | D49: 4 | E49: 3 | G49: 1
C50: Gipuzkoa | D50: 16 | E50: 9 | F50: 4 | G50: 3
C51: Bizkaia | D51: 11 | E51: 7 | F51: 3 | G51: 1
B52: 12 | C52: CAE | D52: 31 | E52: 19 | F52: 7 | G52: 5
B54: Datos acumulados año 2024 / 2024ko datu metatuak | G54: 2024-12
B55: Mes | C55: TH | D55: Nº Exptes Total | E55: Suspensión | F55: Reducción | G55: Rescisión
B56: Hilab. | C56: LH | D56: Expt zb. | E56: Etendura | F56: Murrizketa | G56: Hausketa
B57: Total | C57: Araba | D57: 40 | E57: 27 | F57: 6 | G57: 7
B58: Acumulado | C58: Gipuzkoa | D58: 94 | E58: 56 | F58: 14 | G58: 24
B59: Guztira | C59: Bizkaia | D59: 124 | E59: 85 | F59: 18 | G59: 21
B60: Metatuak | C60: CAE | D60: 258 | E60: 168 | F60: 38 | G60: 52
F63: Datos provisionales / Behin behineko datuak
B64: Fuente: Dirección de Trabajo y Seguridad Social / Iturria: Lan eta Gizarte Segurantza Zuzendaritza
B65: https://www.euskadi.eus/web01-s2lanju/es/contenidos/informacion/estadisticastrabajo/es_esttraba/index.shtml#empleo

Sheet R4 2024
A1: Exptes. ETOP Autorizados-Comunicados / Acordados y Personas Afectadas en la CAE en 2024 (exceptuados exptes Fuerza Mayor)
A2: EAEn izandako ETOP enplegu-erregulazioko espedienteak, eragindako langileak eta hitzartutakoen portzentaiak ("ezinbesteko" espedienteak izan ezik) - 2024 | Q2: ='R1 2024'!P4 -> 2024-12
A3: Mes | B3: Territorio | C3: Nº Exptes | F3: Afectados/as Suspensión | I3: Afectados/as Reducción | L3: Afectados/as Rescisión | O3: Afectados/as Total
A4: Hilab. | B4: Lurralde | C4: Autorizados | D4: Acordados | E4: % | F4: Autorizados | G4: Acordados | H4: % | I4: Autorizados | J4: Acordados | K4: % | L4: Autorizados | M4: Acordados | N4: % | O4: Autorizados | P4: Acordados | Q4: %
B5: Alava | C5: 2 | D5: 2 | E5: 100 | F5: 200 | G5: 200 | H5: 100 | I5: 0 | J5: 0 | L5: 0 | M5: 0 | O5: 200 | P5: 200 | Q5: 100
B6: Gipuzkoa | C6: 8 | D6: 7 | E6: 87.5 | F6: 204 | G6: 50 | H6: 24.509804 | I6: 4 | J6: 4 | K6: 100 | L6: 45 | M6: 45 | N6: 100 | O6: 253 | P6: 99 | Q6: 39.130435
B7: Bizkaia | C7: 9 | D7: 5 | E7: 55.555556 | F7: 306 | G7: 81 | H7: 26.470588 | I7: 3 | J7: 3 | K7: 100 | L7: 4 | M7: 0 | N7: 0 | O7: 313 | P7: 84 | Q7: 26.837061
A8: 1 | B8: CAE | C8: 19 | D8: 14 | E8: 73.684211 | F8: 710 | G8: 331 | H8: 46.619718 | I8: 7 | J8: 7 | K8: 100 | L8: 49 | M8: 45 | N8: 91.836735 | O8: 766 | P8: 383 | Q8: 50
B9: Alava | C9: 3 | D9: 2 | E9: 66.666667 | F9: 850 | G9: 6 | H9: 0.70588235 | I9: 0 | J9: 0 | L9: 0 | M9: 0 | O9: 850 | P9: 6 | Q9: 0.70588235
B10: Gipuzkoa | C10: 6 | D10: 5 | E10: 83.333333 | F10: 9 | G10: 9 | H10: 100 | I10: 31 | J10: 26 | K10: 83.870968 | L10: 0 | M10: 0 | O10: 40 | P10: 35 | Q10: 87.5
B11: Bizkaia | C11: 13 | D11: 8 | E11: 61.538462 | F11: 520 | G11: 107 | H11: 20.576923 | I11: 15 | J11: 15 | K11: 100 | L11: 0 | M11: 0 | O11: 535 | P11: 122 | Q11: 22.803738
A12: 2 | B12: CAE | C12: 22 | D12: 15 | E12: 68.181818 | F12: 1379 | G12: 122 | H12: 8.8469906 | I12: 46 | J12: 41 | K12: 89.130435 | L12: 0 | M12: 0 | O12: 1425 | P12: 163 | Q12: 11.438596
B13: Alava | C13: 8 | D13: 6 | E13: 75 | F13: 60 | G13: 60 | H13: 100 | I13: 35 | J13: 11 | K13: 31.428571 | L13: 35 | M13: 21 | N13: 60 | O13: 130 | P13: 92 | Q13: 70.769231
B14: Gipuzkoa | C14: 6 | D14: 5 | E14: 83.333333 | F14: 17 | G14: 0 | H14: 0 | I14: 7 | J14: 7 | K14: 100 | L14: 30 | M14: 30 | N14: 100 | O14: 54 | P14: 37 | Q14: 68.518519
B15: Bizkaia | C15: 11 | D15: 7 | E15: 63.636364 | F15: 1078 | G15: 722 | H15: 66.975881 | I15: 10 | J15: 10 | K15: 100 | L15: 28 | M15: 16 | N15: 57.142857 | O15: 1116 | P15: 748 | Q15: 67.02509
A16: 3 | B16: CAE | C16: 25 | D16: 18 | E16: 72 | F16: 1155 | G16: 782 | H16: 67.705628 | I16: 52 | J16: 28 | K16: 53.846154 | L16: 93 | M16: 67 | N16: 72.043011 | O16: 1300 | P16: 877 | Q16: 67.461538
B17: Alava | C17: 5 | D17: 3 | E17: 60 | F17: 497 | G17: 449 | H17: 90.342052 | I17: 12 | J17: 0 | K17: 0 | L17: 0 | M17: 0 | O17: 509 | P17: 449 | Q17: 88.212181
B18: Gipuzkoa | C18: 6 | D18: 6 | E18: 100 | F18: 24 | G18: 24 | H18: 100 | I18: 0 | J18: 0 | L18: 63 | M18: 63 | N18: 100 | O18: 87 | P18: 87 | Q18: 100
B19: Bizkaia | C19: 5 | D19: 2 | E19: 40 | F19: 65 | G19: 9 | H19: 13.846154 | I19: 0 | J19: 0 | L19: 0 | M19: 0 | O19: 65 | P19: 9 | Q19: 13.846154
A20: 4 | B20: CAE | C20: 16 | D20: 11 | E20: 68.75 | F20: 586 | G20: 482 | H20: 82.25256 | I20: 12 | J20: 0 | K20: 0 | L20: 63 | M20: 63 | N20: 100 | O20: 661 | P20: 545 | Q20: 82.450832
B21: Alava | C21: 5 | D21: 2 | E21: 40 | F21: 209 | G21: 146 | H21: 69.856459 | I21: 0 | J21: 0 | L21: 0 | M21: 0 | O21: 209 | P21: 146 | Q21: 69.856459
B22: Gipuzkoa | C22: 3 | D22: 3 | E22: 100 | F22: 43 | G22: 43 | H22: 100 | I22: 5 | J22: 5 | K22: 100 | L22: 17 | M22: 17 | N22: 100 | O22: 65 | P22: 65 | Q22: 100
B23: Bizkaia | C23: 7 | D23: 2 | E23: 28.571429 | F23: 115 | G23: 23 | H23: 20 | I23: 17 | J23: 6 | K23: 35.294118 | L23: 153 | M23: 0 | N23: 0 | O23: 285 | P23: 29 | Q23: 10.175439
A24: 5 | B24: CAE | C24: 15 | D24: 7 | E24: 46.666667 | F24: 367 | G24: 212 | H24: 57.765668 | I24: 22 | J24: 11 | K24: 50 | L24: 170 | M24: 17 | N24: 10 | O24: 559 | P24: 240 | Q24: 42.93381
B25: Alava | C25: 2 | D25: 2 | E25: 100 | F25: 31 | G25: 31 | H25: 100 | I25: 0 | J25: 0 | L25: 0 | M25: 0 | O25: 31 | P25: 31 | Q25: 100
B26: Gipuzkoa | C26: 8 | D26: 6 | E26: 75 | F26: 100 | G26: 100 | H26: 100 | I26: 9 | J26: 2 | K26: 22.222222 | L26: 22 | M26: 15 | N26: 68.181818 | O26: 131 | P26: 117 | Q26: 89.312977
B27: Bizkaia | C27: 13 | D27: 9 | E27: 69.230769 | F27: 84 | G27: 82 | H27: 97.619048 | I27: 77 | J27: 7 | K27: 9.0909091 | L27: 52 | M27: 40 | N27: 76.923077 | O27: 213 | P27: 129 | Q27: 60.56338
A28: 6 | B28: CAE | C28: 23 | D28: 17 | E28: 73.913043 | F28: 215 | G28: 213 | H28: 99.069767 | I28: 86 | J28: 9 | K28: 10.465116 | L28: 74 | M28: 55 | N28: 74.324324 | O28: 375 | P28: 277 | Q28: 73.866667
B29: Alava | C29: 3 | D29: 1 | E29: 33.333333 | F29: 299 | G29: 0 | H29: 0 | I29: 5 | J29: 5 | K29: 100 | L29: 30 | M29: 0 | N29: 0 | O29: 334 | P29: 5 | Q29: 1.497006
B30: Gipuzkoa | C30: 11 | D30: 8 | E30: 72.727273 | F30: 376 | G30: 203 | H30: 53.989362 | I30: 19 | J30: 19 | K30: 100 | L30: 105 | M30: 65 | N30: 61.904762 | O30: 500 | P30: 287 | Q30: 57.4
B31: Bizkaia | C31: 11 | D31: 5 | E31: 45.454545 | F31: 224 | G31: 19 | H31: 8.4821429 | I31: 13 | J31: 0 | K31: 0 | L31: 29 | M31: 22 | N31: 75.862069 | O31: 266 | P31: 41 | Q31: 15.413534
A32: 7 | B32: CAE | C32: 25 | D32: 14 | E32: 56 | F32: 899 | G32: 222 | H32: 24.694105 | I32: 37 | J32: 24 | K32: 64.864865 | L32: 164 | M32: 87 | N32: 53.04878 | O32: 1100 | P32: 333 | Q32: 30.272727
B33: Alava | C33: 1 | D33: 1 | E33: 100 | F33: 0 | G33: 0 | I33: 0 | J33: 0 | L33: 9 | M33: 9 | N33: 100 | O33: 9 | P33: 9 | Q33: 100
B34: Gipuzkoa | C34: 6 | D34: 4 | E34: 66.666667 | F34: 9 | G34: 5 | H34: 55.555556 | I34: 16 | J34: 0 | K34: 0 | L34: 64 | M34: 8 | N34: 12.5 | O34: 89 | P34: 13 | Q34: 14.606742
B35: Bizkaia | C35: 6 | D35: 1 | E35: 16.666667 | F35: 44 | G35: 1 | H35: 2.2727273 | I35: 11 | J35: 0 | K35: 0 | L35: 0 | M35: 0 | O35: 55 | P35: 1 | Q35: 1.8181818
A36: 8 | B36: CAE | C36: 13 | D36: 6 | E36: 46.153846 | F36: 53 | G36: 6 | H36: 11.320755 | I36: 27 | J36: 0 | K36: 0 | L36: 73 | M36: 17 | N36: 23.287671 | O36: 153 | P36: 23 | Q36: 15.03268
B37: Alava | C37: 0 | D37: 0 | F37: 0 | G37: 0 | I37: 0 | J37: 0 | L37: 0 | M37: 0 | O37: 0 | P37: 0
B38: Gipuzkoa | C38: 2 | D38: 2 | E38: 100 | F38: 229 | G38: 229 | H38: 100 | I38: 0 | J38: 0 | L38: 0 | M38: 0 | O38: 229 | P38: 229 | Q38: 100
B39: Bizkaia | C39: 4 | D39: 2 | E39: 50 | F39: 8 | G39: 0 | H39: 0 | I39: 14 | J39: 14 | K39: 100 | L39: 0 | M39: 0 | O39: 22 | P39: 14 | Q39: 63.636364
A40: 9 | B40: CAE | C40: 6 | D40: 4 | E40: 66.666667 | F40: 237 | G40: 229 | H40: 96.624473 | I40: 14 | J40: 14 | K40: 100 | L40: 0 | M40: 0 | O40: 251 | P40: 243 | Q40: 96.812749
B41: Alava | C41: 4 | D41: 1 | E41: 25 | F41: 88 | G41: 0 | H41: 0 | I41: 0 | J41: 0 | L41: 12 | M41: 12 | N41: 100 | O41: 100 | P41: 12 | Q41: 12
B42: Gipuzkoa | C42: 10 | D42: 7 | E42: 70 | F42: 350 | G42: 53 | H42: 15.142857 | I42: 19 | J42: 0 | K42: 0 | L42: 28 | M42: 28 | N42: 100 | O42: 397 | P42: 81 | Q42: 20.403023
B43: Bizkaia | C43: 14 | D43: 6 | E43: 42.857143 | F43: 549 | G43: 178 | H43: 32.422587 | I43: 10 | J43: 0 | K43: 0 | L43: 2 | M43: 0 | N43: 0 | O43: 561 | P43: 178 | Q43: 31.729055
A44: 10 | B44: CAE | C44: 28 | D44: 14 | E44: 50 | F44: 987 | G44: 231 | H44: 23.404255 | I44: 29 | J44: 0 | K44: 0 | L44: 42 | M44: 40 | N44: 95.238095 | O44: 1058 | P44: 271 | Q44: 25.614367
B45: Alava | C45: 2 | D45: 2 | E45: 100 | F45: 19 | G45: 19 | H45: 100 | I45: 0 | J45: 0 | L45: 0 | M45: 0 | O45: 19 | P45: 19 | Q45: 100
B46: Gipuzkoa | C46: 4 | D46: 4 | E46: 100 | F46: 15 | G46: 15 | H46: 100 | I46: 0 | J46: 0 | L46: 54 | M46: 54 | N46: 100 | O46: 69 | P46: 69 | Q46: 100
B47: Bizkaia | C47: 11 | D47: 5 | E47: 45.454545 | F47: 617 | G47: 486 | H47: 78.768233 | I47: 35 | J47: 23 | K47: 65.714286 | L47: 55 | M47: 9 | N47: 16.363636 | O47: 707 | P47: 518 | Q47: 73.267327
A48: 11 | B48: CAE | C48: 17 | D48: 11 | E48: 64.705882 | F48: 651 | G48: 520 | H48: 79.877112 | I48: 35 | J48: 23 | K48: 65.714286 | L48: 109 | M48: 63 | N48: 57.798165 | O48: 795 | P48: 606 | Q48: 76.226415
B49: Alava | C49: 4 | D49: 3 | E49: 75 | F49: 296 | G49: 21 | H49: 7.0945946 | I49: 0 | J49: 0 | L49: 6 | M49: 6 | N49: 100 | O49: 302 | P49: 27 | Q49: 8.9403974
B50: Gipuzkoa | C50: 14 | D50: 12 | E50: 85.714286 | F50: 254 | G50: 43 | H50: 16.929134 | I50: 101 | J50: 73 | K50: 72.277228 | L50: 25 | M50: 25 | N50: 100 | O50: 380 | P50: 141 | Q50: 37.105263
B51: Bizkaia | C51: 10 | D51: 5 | E51: 50 | F51: 59 | G51: 37 | H51: 62.711864 | I51: 20 | J51: 16 | K51: 80 | L51: 57 | M51: 0 | N51: 0 | O51: 136 | P51: 53 | Q51: 38.970588
A52: 12 | B52: CAE | C52: 28 | D52: 20 | E52: 71.428571 | F52: 609 | G52: 101 | H52: 16.584565 | I52: 121 | J52: 89 | K52: 73.553719 | L52: 88 | M52: 31 | N52: 35.227273 | O52: 818 | P52: 221 | Q52: 27.017115
A53: ='R2 2024'!A56 -> Datos acumulados año 2024 / 2024ko datu metatuak | N53: ETOP
A54: Año | B54: Territorio | C54: Nº Exptes | F54: Afectados/as Suspensión | I54: Afectados/as Reducción | L54: Afectados/as Rescisión | O54: Afectados/as Total
A55: Urte | B55: Lurralde | C55: Autorizados | D55: Acordados | E55: % | F55: Autorizados | G55: Acordados | H55: % | I55: Autorizados | J55: Acordados | K55: % | L55: Autorizados | M55: Acordados | N55: % | O55: Autorizados | P55: Acordados | Q55: %
A56: Total | B56: Alava | C56: =C5+C9+C13+C17+C21+C25+C29+C33+C37+C41+C45+C49 -> 39 | D56: =D5+D9+D13+D17+D21+D25+D29+D33+D37+D41+D45+D49 -> 25 | E56: =IFERROR(D56*100/C56,"") -> 64.102564 | F56: =F5+F9+F13+F17+F21+F25+F29+F33+F37+F41+F45+F49 -> 2549 | G56: =G5+G9+G13+G17+G21+G25+G29+G33+G37+G41+G45+G49 -> 932 | H56: =IFERROR(G56*100/F56,"") -> 36.563358 | I56: =I5+I9+I13+I17+I21+I25+I29+I33+I37+I41+I45+I49 -> 52 | J56: =J5+J9+J13+J17+J21+J25+J29+J33+J37+J41+J45+J49 -> 16 | K56: =IFERROR(J56*100/I56,"") -> 30.769231 | L56: =L5+L9+L13+L17+L21+L25+L29+L33+L37+L41+L45+L49 -> 92 | M56: =M5+M9+M13+M17+M21+M25+M29+M33+M37+M41+M45+M49 -> 48 | N56: =IFERROR(M56*100/L56,"") -> 52.173913 | O56: =O5+O9+O13+O17+O21+O25+O29+O33+O37+O41+O45+O49 -> 2693 | P56: =P5+P9+P13+P17+P21+P25+P29+P33+P37+P41+P45+P49 -> 996 | Q56: =IFERROR(P56*100/O56,"") -> 36.984775
A57: Acumulado | B57: Gipuzkoa | C57: =C6+C10+C14+C18+C22+C26+C30+C34+C38+C42+C46+C50 -> 84 | D57: =D6+D10+D14+D18+D22+D26+D30+D34+D38+D42+D46+D50 -> 69 | E57: =IFERROR(D57*100/C57,"") -> 82.142857 | F57: =F6+F10+F14+F18+F22+F26+F30+F34+F38+F42+F46+F50 -> 1630 | G57: =G6+G10+G14+G18+G22+G26+G30+G34+G38+G42+G46+G50 -> 774 | H57: =IFERROR(G57*100/F57,"") -> 47.484663 | I57: =I6+I10+I14+I18+I22+I26+I30+I34+I38+I42+I46+I50 -> 211 | J57: =J6+J10+J14+J18+J22+J26+J30+J34+J38+J42+J46+J50 -> 136 | K57: =IFERROR(J57*100/I57,"") -> 64.454976 | L57: =L6+L10+L14+L18+L22+L26+L30+L34+L38+L42+L46+L50 -> 453 | M57: =M6+M10+M14+M18+M22+M26+M30+M34+M38+M42+M46+M50 -> 350 | N57: =IFERROR(M57*100/L57,"") -> 77.262693 | O57: =O6+O10+O14+O18+O22+O26+O30+O34+O38+O42+O46+O50 -> 2294 | P57: =P6+P10+P14+P18+P22+P26+P30+P34+P38+P42+P46+P50 -> 1260 | Q57: =IFERROR(P57*100/O57,"") -> 54.925894
A58: Guztira | B58: Bizkaia | C58: =C7+C11+C15+C19+C23+C27+C31+C35+C39+C43+C47+C51 -> 114 | D58: =D7+D11+D15+D19+D23+D27+D31+D35+D39+D43+D47+D51 -> 57 | E58: =IFERROR(D58*100/C58,"") -> 50 | F58: =F7+F11+F15+F19+F23+F27+F31+F35+F39+F43+F47+F51 -> 3669 | G58: =G7+G11+G15+G19+G23+G27+G31+G35+G39+G43+G47+G51 -> 1745 | H58: =IFERROR(G58*100/F58,"") -> 47.560643 | I58: =I7+I11+I15+I19+I23+I27+I31+I35+I39+I43+I47+I51 -> 225 | J58: =J7+J11+J15+J19+J23+J27+J31+J35+J39+J43+J47+J51 -> 94 | K58: =IFERROR(J58*100/I58,"") -> 41.777778 | L58: =L7+L11+L15+L19+L23+L27+L31+L35+L39+L43+L47+L51 -> 380 | M58: =M7+M11+M15+M19+M23+M27+M31+M35+M39+M43+M47+M51 -> 87 | N58: =IFERROR(M58*100/L58,"") -> 22.894737 | O58: =O7+O11+O15+O19+O23+O27+O31+O35+O39+O43+O47+O51 -> 4274 | P58: =P7+P11+P15+P19+P23+P27+P31+P35+P39+P43+P47+P51 -> 1926 | Q58: =IFERROR(P58*100/O58,"") -> 45.063173
A59: Metatua | B59: CAE | C59: =C8+C12+C16+C20+C24+C28+C32+C36+C40+C44+C48+C52 -> 237 | D59: =D8+D12+D16+D20+D24+D28+D32+D36+D40+D44+D48+D52 -> 151 | E59: =IFERROR(D59*100/C59,"") -> 63.71308 | F59: =F8+F12+F16+F20+F24+F28+F32+F36+F40+F44+F48+F52 -> 7848 | G59: =G8+G12+G16+G20+G24+G28+G32+G36+G40+G44+G48+G52 -> 3451 | H59: =IFERROR(G59*100/F59,"") -> 43.972987 | I59: =I8+I12+I16+I20+I24+I28+I32+I36+I40+I44+I48+I52 -> 488 | J59: =J8+J12+J16+J20+J24+J28+J32+J36+J40+J44+J48+J52 -> 246 | K59: =IFERROR(J59*100/I59,"") -> 50.409836 | L59: =L8+L12+L16+L20+L24+L28+L32+L36+L40+L44+L48+L52 -> 925 | M59: =M8+M12+M16+M20+M24+M28+M32+M36+M40+M44+M48+M52 -> 485 | N59: =IFERROR(M59*100/L59,"") -> 52.432432 | O59: =O8+O12+O16+O20+O24+O28+O32+O36+O40+O44+O48+O52 -> 9261 | P59: =P8+P12+P16+P20+P24+P28+P32+P36+P40+P44+P48+P52 -> 4182 | Q59: =IFERROR(P59*100/O59,"") -> 45.15711
B61: Expedientes de Regulación de Empleo Autorizados por causa de Fuerza Mayor y personas afectados en 2024 en la CAE
B62: "Ezinbesteko" kausa dela-eta 2024ko baimendu edo/eta komunikatutako enplegu-espedienteak EAEn * | M62: FUERZA MAYOR
B63: TH | C63: Nº Exptes | D63: Suspensión | E63: SusHo | F63: SusMu | G63: Reducción | H63: RedHo | I63: RedMu | J63: Rescisión | K63: ResciHo | L63: ResciMu | M63: Total | N63: TotalH | O63: TotalM
B64: Alava | C64: 0 | D64: 0 | E64: 0 | F64: 0 | G64: 0 | H64: 0 | I64: 0 | J64: 0 | K64: 0 | L64: 0 | M64: 0 | N64: 0 | O64: 0
B65: Gipuzkoa | C65: 11 | D65: 100 | E65: 79 | F65: 21 | G65: 1 | H65: 1 | I65: 0 | J65: 0 | K65: 0 | L65: 0 | M65: 101 | N65: 80 | O65: 21
B66: Bizkaia | C66: 10 | D66: 144 | E66: 126 | F66: 18 | G66: 0 | H66: 0 | I66: 0 | J66: 2 | K66: 2 | L66: 0 | M66: 146 | N66: 128 | O66: 18
B67: CAE | C67: 21 | D67: 244 | E67: 205 | F67: 39 | G67: 1 | H67: 1 | I67: 0 | J67: 2 | K67: 2 | L67: 0 | M67: 247 | N67: 208 | O67: 39
A69: ='R2 2024'!A56 -> Datos acumulados año 2024 / 2024ko datu metatuak | O69: ='R2 2024'!$O$56 -> 2024-12
A70: Año | B70: TH | C70: NºExptes | D70: Suspensión | E70: Hombres | F70: Mujeres | G70: Reducción | H70: Hombres | I70: Mujeres | J70: Rescisión | K70: Hombres | L70: Mujeres | M70: Total Afect. | N70: Hombres | O70: Mujeres
A71: Urte | B71: LH | C71: Expt zb. | D71: Etendura | E71: Gizonak | F71: Emakumeak | G71: Murrizketa | H71: Gizonak | I71: Emakumeak | J71: Hausketa | K71: Gizonak | L71: Emakumeak | M71: Guztira | N71: Gizonak | O71: Emakumeak
A72: Total | B72: Araba | C72: ='R2 2024'!C59 -> 39 | D72: ='R2 2024'!D59 -> 2549 | E72: ='R2 2024'!E59 -> 2219 | F72: ='R2 2024'!F59 -> 330 | G72: ='R2 2024'!G59 -> 52 | H72: ='R2 2024'!H59 -> 45 | I72: ='R2 2024'!I59 -> 7 | J72: ='R2 2024'!J59 -> 92 | ... O72: ='R2 2024'!O59 -> 380
A73: Acumulado | B73: Gipuzkoa | C73: ='R2 2024'!C60 -> 95 | D73: ='R2 2024'!D60 -> 1730 | E73: ='R2 2024'!E60 -> 1500 | F73: ='R2 2024'!F60 -> 230 | G73: ='R2 2024'!G60 -> 212 | H73: ='R2 2024'!H60 -> 139 | I73: ='R2 2024'!I60 -> 73 | J73: ='R2 2024'!J60 -> 453 | ... O73: ='R2 2024'!O60 -> 452
A74: Guztira | B74: Bizkaia | C74: ='R2 2024'!C61 -> 124 | D74: ='R2 2024'!D61 -> 3813 | E74: ='R2 2024'!E61 -> 3188 | F74: ='R2 2024'!F61 -> 625 | G74: ='R2 2024'!G61 -> 225 | H74: ='R2 2024'!H61 -> 155 | I74: ='R2 2024'!I61 -> 70 | J74: ='R2 2024'!J61 -> 382 | ... O74: ='R2 2024'!O61 -> 768
A75: Metatuak | B75: CAE | C75: ='R2 2024'!C62 -> 258 | D75: ='R2 2024'!D62 -> 8092 | E75: ='R2 2024'!E62 -> 6907 | F75: ='R2 2024'!F62 -> 1185 | G75: ='R2 2024'!G62 -> 489 | H75: ='R2 2024'!H62 -> 339 | I75: ='R2 2024'!I62 -> 150 | J75: ='R2 2024'!J62 -> 927 | ... O75: ='R2 2024'!O62 -> 1600
A77: Fuente: Dirección de Trabajo y Seguridad Social / Iturria: Lan eta Gizarte-Segurantza zuzendaritza | K77: Datos provisionales / Behin behineko datuak
A78: https://www.euskadi.eus/web01-s2lanju/es/contenidos/informacion/estadisticastrabajo/es_esttraba/index.shtml#empleo

Sheet R5 2024
A1: Nº de Exptes Autorizados y/o Comunicados / Acordados en la CAE en 2024 exceptuados exptes Fuerza Mayor
A2: EAEn izandako enplegu-erregulazioko espedienteak eta hitzartutakoen portzentajeak ("ezinbesteko" espedienteak izan ezik) - 2024 | N2: ='R1 2024'!P4 -> 2024-12
A3: Mes | B3: Territorio | C3: Nº Exptes Suspensión | E3: % | F3: Nº exptes. Reducción | H3: % | I3: Nº exptes. Rescisión | K3: % | L3: Nº exptes. TOTAL | N3: %
A4: Hilab. | B4: Lurralde | C4: Autorizados | D4: Acordados | E4: % | F4: Autorizados | G4: Acordados | H4: % | I4: Autorizados | J4: Acordados | K4: % | L4: Autorizados | M4: Acordados | N4: %
B5: Alava | C5: 2 | D5: 2 | E5: 100 | L5: 2 | M5: 2 | N5: 100
B6: Gipuzkoa | C6: 6 | D6: 5 | E6: 83.333333 | F6: 1 | G6: 1 | H6: 100 | I6: 1 | K6: 0 | L6: 8 | M6: 6 | N6: 75
B7: Bizkaia | C7: 8 | D7: 5 | E7: 62.5 | I7: 1 | J7: 1 | K7: 100 | L7: 9 | M7: 6 | N7: 66.666667
A8: 1 | B8: CAE | C8: 16 | D8: 12 | E8: 75 | F8: 1 | G8: 1 | H8: 100 | I8: 2 | J8: 1 | K8: 50 | L8: 19 | M8: 14 | N8: 73.684211
B9: Alava | C9: 3 | D9: 2 | E9: 66.666667 | L9: 3 | M9: 2 | N9: 66.666667
B10: Gipuzkoa | C10: 2 | D10: 2 | E10: 100 | F10: 4 | G10: 3 | H10: 75 | L10: 6 | M10: 5 | N10: 83.333333
B11: Bizkaia | C11: 12 | D11: 7 | E11: 58.333333 | F11: 1 | G11: 1 | H11: 100 | L11: 13 | M11: 8 | N11: 61.538462
A12: 2 | B12: CAE | C12: 17 | D12: 11 | E12: 64.705882 | F12: 5 | G12: 4 | H12: 80 | I12: 0 | J12: 0 | L12: 22 | M12: 15 | N12: 68.181818
B13: Alava | C13: 1 | D13: 1 | E13: 100 | F13: 4 | G13: 3 | H13: 75 | I13: 3 | J13: 2 | K13: 66.666667 | L13: 8 | M13: 6 | N13: 75
B14: Gipuzkoa | C14: 1 | E14: 0 | F14: 2 | G14: 2 | H14: 100 | I14: 3 | J14: 3 | K14: 100 | L14: 6 | M14: 5 | N14: 83.333333
B15: Bizkaia | C15: 9 | D15: 5 | E15: 55.555556 | I15: 2 | J15: 1 | K15: 50 | L15: 11 | M15: 6 | N15: 54.545455
A16: 3 | B16: CAE | C16: 11 | D16: 6 | E16: 54.545455 | F16: 6 | G16: 5 | H16: 83.333333 | I16: 8 | J16: 6 | K16: 75 | L16: 25 | M16: 17 | N16: 68
B17: Alava | C17: 5 | D17: 3 | E17: 60 | L17: 5 | M17: 3 | N17: 60
B18: Gipuzkoa | C18: 3 | D18: 3 | E18: 100 | I18: 3 | J18: 3 | K18: 100 | L18: 6 | M18: 6 | N18: 100
B19: Bizkaia | C19: 5 | D19: 2 | E19: 40 | L19: 5 | M19: 2 | N19: 40
A20: 4 | B20: CAE | C20: 13 | D20: 8 | E20: 61.538462 | F20: 0 | G20: 0 | I20: 3 | J20: 3 | K20: 100 | L20: 16 | M20: 11 | N20: 68.75
B21: Alava | C21: 5 | D21: 2 | E21: 40 | L21: 5 | M21: 2 | N21: 40
B22: Gipuzkoa | C22: 1 | D22: 1 | E22: 100 | F22: 1 | G22: 1 | H22: 100 | I22: 1 | J22: 1 | K22: 100 | L22: 3 | M22: 3 | N22: 100
B23: Bizkaia | C23: 3 | D23: 1 | E23: 33.333333 | F23: 2 | G23: 1 | H23: 50 | I23: 2 | K23: 0 | L23: 7 | M23: 2 | N23: 28.571429
A24: 5 | B24: CAE | C24: 9 | D24: 4 | E24: 44.444444 | F24: 3 | G24: 2 | H24: 66.666667 | I24: 3 | J24: 1 | K24: 33.333333 | L24: 15 | M24: 7 | N24: 46.666667
B25: Alava | C25: 2 | D25: 2 | E25: 100 | L25: 2 | M25: 2 | N25: 100
B26: Gipuzkoa | C26: 3 | D26: 3 | E26: 100 | F26: 2 | G26: 1 | H26: 50 | I26: 3 | J26: 2 | K26: 66.666667 | L26: 8 | M26: 6 | N26: 75
B27: Bizkaia | C27: 5 | D27: 4 | E27: 80 | F27: 3 | G27: 1 | H27: 33.333333 | I27: 5 | J27: 4 | K27: 80 | L27: 13 | M27: 9 | N27: 69.230769
A28: 6 | B28: CAE | C28: 10 | D28: 9 | E28: 90 | F28: 5 | G28: 2 | H28: 40 | I28: 8 | J28: 6 | K28: 75 | L28: 23 | M28: 17 | N28: 73.913043
B29: Alava | C29: 1 | E29: 0 | F29: 1 | G29: 1 | H29: 100 | I29: 1 | K29: 0 | L29: 3 | M29: 1 | N29: 33.333333
B30: Gipuzkoa | C30: 7 | D30: 5 | E30: 71.428571 | I30: 4 | J30: 3 | K30: 75 | L30: 11 | M30: 8 | N30: 72.727273
B31: Bizkaia | C31: 4 | D31: 2 | E31: 50 | F31: 2 | H31: 0 | I31: 5 | J31: 3 | K31: 60 | L31: 11 | M31: 5 | N31: 45.454545
A32: 7 | B32: CAE | C32: 12 | D32: 7 | E32: 58.333333 | F32: 3 | G32: 1 | H32: 33.333333 | I32: 10 | J32: 6 | K32: 60 | L32: 25 | M32: 14 | N32: 56
B33: Alava | I33: 1 | J33: 1 | K33: 100 | L33: 1 | M33: 1 | N33: 100
B34: Gipuzkoa | C34: 4 | D34: 3 | E34: 75 | I34: 2 | J34: 1 | K34: 50 | L34: 6 | M34: 4 | N34: 66.666667
B35: Bizkaia | C35: 4 | D35: 1 | E35: 25 | F35: 2 | H35: 0 | L35: 6 | M35: 1 | N35: 16.666667
A36: 8 | B36: CAE | C36: 8 | D36: 4 | E36: 50 | F36: 2 | G36: 0 | H36: 0 | I36: 3 | J36: 2 | K36: 66.666667 | L36: 13 | M36: 6 | N36: 46.153846
B37: Alava | L37: 0 | M37: 0
B38: Gipuzkoa | C38: 2 | D38: 2 | E38: 100 | L38: 2 | M38: 2 | N38: 100
B39: Bizkaia | C39: 2 | E39: 0 | F39: 2 | G39: 2 | H39: 100 | L39: 4 | M39: 2 | N39: 50
A40: 9 | B40: CAE | C40: 4 | D40: 2 | E40: 50 | F40: 2 | G40: 2 | H40: 100 | I40: 0 | J40: 0 | L40: 6 | M40: 4 | N40: 66.666667
B41: Alava | C41: 3 | E41: 0 | I41: 1 | J41: 1 | K41: 100 | L41: 4 | M41: 1 | N41: 25
B42: Gipuzkoa | C42: 7 | D42: 5 | E42: 71.428571 | F42: 1 | H42: 0 | I42: 2 | J42: 2 | K42: 100 | L42: 10 | M42: 7 | N42: 70
B43: Bizkaia | C43: 12 | D43: 6 | E43: 50 | F43: 1 | H43: 0 | I43: 1 | K43: 0 | L43: 14 | M43: 6 | N43: 42.857143
A44: 10 | B44: CAE | C44: 22 | D44: 11 | E44: 50 | F44: 2 | G44: 0 | H44: 0 | I44: 4 | J44: 3 | K44: 75 | L44: 28 | M44: 14 | N44: 50
B45: Alava | C45: 2 | D45: 2 | E45: 100 | L45: 2 | M45: 2 | N45: 100
B46: Gipuzkoa | C46: 2 | D46: 2 | E46: 100 | I46: 2 | J46: 2 | K46: 100 | L46: 4 | M46: 4 | N46: 100
B47: Bizkaia | C47: 6 | D47: 3 | E47: 50 | F47: 2 | G47: 1 | H47: 50 | I47: 3 | J47: 1 | K47: 33.333333 | L47: 11 | M47: 5 | N47: 45.454545
A48: 11 | B48: CAE | C48: 10 | D48: 7 | E48: 70 | F48: 2 | G48: 1 | H48: 50 | I48: 5 | J48: 3 | K48: 60 | L48: 17 | M48: 11 | N48: 64.705882
B49: Alava | C49: 3 | D49: 2 | E49: 66.666667 | I49: 1 | J49: 1 | K49: 100 | L49: 4 | M49: 3 | N49: 75
B50: Gipuzkoa | C50: 7 | D50: 5 | E50: 71.428571 | F50: 4 | G50: 4 | H50: 100 | I50: 3 | J50: 3 | K50: 100 | L50: 14 | M50: 12 | N50: 85.714286
B51: Bizkaia | C51: 6 | D51: 3 | E51: 50 | F51: 3 | G51: 2 | H51: 66.666667 | I51: 1 | K51: 0 | L51: 10 | M51: 5 | N51: 50
A52: 12 | B52: CAE | C52: 16 | D52: 10 | E52: 62.5 | F52: 7 | G52: 6 | H52: 85.714286 | I52: 5 | J52: 4 | K52: 80 | L52: 28 | M52: 20 | N52: 71.428571
A53: ='R2 2024'!A56 -> Datos acumulados año 2024 / 2024ko datu metatuak | K53: ETOP
A54: Año | B54: Territorio | C54: Nº Exptes Suspensión | E54: % | F54: Nº exptes. Reducción | H54: % | I54: Nº exptes. Rescisión | K54: % | L54: Nº exptes. TOTAL | N54: %
A55: Urte | B55: Lurralde | C55: Autorizados | D55: Acordados | E55: % | F55: Autorizados | G55: Acordados | H55: % | I55: Autorizados | J55: Acordados | K55: % | L55: Autorizados | M55: Acordados | N55: %
A56: Total | B56: Alava | C56: =C5+C9+C13+C17+C21+C25+C29+C33+C37+C41+C45+C49 -> 27 | D56: =D5+D9+D13+D17+D21+D25+D29+D33+D37+D41+D45+D49 -> 16 | E56: =IFERROR(D56*100/C56,"") -> 59.259259 | F56: =F5+F9+F13+F17+F21+F25+F29+F33+F37+F41+F45+F49 -> 5 | G56: =G5+G9+G13+G17+G21+G25+G29+G33+G37+G41+G45+G49 -> 4 | H56: =IFERROR(G56*100/F56,"") -> 80 | I56: =I5+I9+I13+I17+I21+I25+I29+I33+I37+I41+I45+I49 -> 7 | J56: =J5+J9+J13+J17+J21+J25+J29+J33+J37+J41+J45+J49 -> 5 | K56: =IFERROR(J56*100/I56,"") -> 71.428571 | L56: =L5+L9+L13+L17+L21+L25+L29+L33+L37+L41+L45+L49 -> 39 | M56: =M5+M9+M13+M17+M21+M25+M29+M33+M37+M41+M45+M49 -> 25 | N56: =IFERROR(M56*100/L56,"") -> 64.102564
A57: Acumulado | B57: Gipuzkoa | C57: =C6+C10+C14+C18+C22+C26+C30+C34+C38+C42+C46+C50 -> 45 | D57: =D6+D10+D14+D18+D22+D26+D30+D34+D38+D42+D46+D50 -> 36 | E57: =IFERROR(D57*100/C57,"") -> 80 | F57: =F6+F10+F14+F18+F22+F26+F30+F34+F38+F42+F46+F50 -> 15 | G57: =G6+G10+G14+G18+G22+G26+G30+G34+G38+G42+G46+G50 -> 12 | H57: =IFERROR(G57*100/F57,"") -> 80 | I57: =I6+I10+I14+I18+I22+I26+I30+I34+I38+I42+I46+I50 -> 24 | J57: =J6+J10+J14+J18+J22+J26+J30+J34+J38+J42+J46+J50 -> 20 | K57: =IFERROR(J57*100/I57,"") -> 83.333333 | L57: =L6+L10+L14+L18+L22+L26+L30+L34+L38+L42+L46+L50 -> 84 | M57: =M6+M10+M14+M18+M22+M26+M30+M34+M38+M42+M46+M50 -> 68 | N57: =IFERROR(M57*100/L57,"") -> 80.952381
A58: Guztira | B58: Bizkaia | C58: =C7+C11+C15+C19+C23+C27+C31+C35+C39+C43+C47+C51 -> 76 | D58: =D7+D11+D15+D19+D23+D27+D31+D35+D39+D43+D47+D51 -> 39 | E58: =IFERROR(D58*100/C58,"") -> 51.315789 | F58: =F7+F11+F15+F19+F23+F27+F31+F35+F39+F43+F47+F51 -> 18 | G58: =G7+G11+G15+G19+G23+G27+G31+G35+G39+G43+G47+G51 -> 8 | H58: =IFERROR(G58*100/F58,"") -> 44.444444 | I58: =I7+I11+I15+I19+I23+I27+I31+I35+I39+I43+I47+I51 -> 20 | J58: =J7+J11+J15+J19+J23+J27+J31+J35+J39+J43+J47+J51 -> 10 | K58: =IFERROR(J58*100/I58,"") -> 50 | L58: =L7+L11+L15+L19+L23+L27+L31+L35+L39+L43+L47+L51 -> 114 | M58: =M7+M11+M15+M19+M23+M27+M31+M35+M39+M43+M47+M51 -> 57 | N58: =IFERROR(M58*100/L58,"") -> 50
A59: Metatua | B59: CAE | C59: =C8+C12+C16+C20+C24+C28+C32+C36+C40+C44+C48+C52 -> 148 | D59: =D8+D12+D16+D20+D24+D28+D32+D36+D40+D44+D48+D52 -> 91 | E59: =IFERROR(D59*100/C59,"") -> 61.486486 | F59: =F8+F12+F16+F20+F24+F28+F32+F36+F40+F44+F48+F52 -> 38 | G59: =G8+G12+G16+G20+G24+G28+G32+G36+G40+G44+G48+G52 -> 24 | H59: =IFERROR(G59*100/F59,"") -> 63.157895 | I59: =I8+I12+I16+I20+I24+I28+I32+I36+I40+I44+I48+I52 -> 51 | J59: =J8+J12+J16+J20+J24+J28+J32+J36+J40+J44+J48+J52 -> 35 | K59: =IFERROR(J59*100/I59,"") -> 68.627451 | L59: =L8+L12+L16+L20+L24+L28+L32+L36+L40+L44+L48+L52 -> 237 | M59: =M8+M12+M16+M20+M24+M28+M32+M36+M40+M44+M48+M52 -> 150 | N59: =IFERROR(M59*100/L59,"") -> 63.291139
B61: FUERZA MAYOR / EZINBESTEKO KAUSA | I61: TOTAL / GUZTIRA
B62: EREs Autorizados por causa de Fuerza Mayor en la CAE en 2024 | I62: EREs Autorizados/Comunicados 2024 por TH, según Tipo
B63: Ezinbesteko kausa dela-eta EAEn baimendutako enplegu-espedienteak - 2024 | I63: Enplegu-erregulazioaren bitartez baimendutako espedienteak, lurraldeka - 2024
B64: TH | C64: Suspensión | D64: Reducción | E64: Rescisión | F64: Nº Exp. Total | I64: TH | J64: Suspensión | K64: Reducción | L64: Rescisión | M64: Nº Exp.Total
B65: Alava | C65: 0 | D65: 0 | E65: 0 | F65: 0 | I65: Alava | J65: =C56+C65 -> 27 | K65: =F56+D65 -> 5 | L65: =I56+E65 -> 7 | M65: =SUM(J65:L65) -> 39
B66: Gipuzkoa | C66: 11 | D66: 0 | E66: 0 | F66: 11 | I66: Gipuzkoa | J66: =C57+C66 -> 56 | K66: =F57+D66 -> 15 | L66: =I57+E66 -> 24 | M66: =SUM(J66:L66) -> 95
B67: Bizkaia | C67: 9 | D67: 0 | E67: 1 | F67: 10 | I67: Bizkaia | J67: =C58+C67 -> 85 | K67: =F58+D67 -> 18 | L67: =I58+E67 -> 21 | M67: =SUM(J67:L67) -> 124
B68: CAE | C68: 20 | D68: 0 | E68: 1 | F68: 21 | I68: CAE | J68: =C59+C68 -> 168 | K68: =F59+D68 -> 38 | L68: =I59+E68 -> 52 | M68: =SUM(J68:L68) -> 258
A71: ='R2 2024'!A56 -> Datos acumulados año 2024 / 2024ko datu metatuak | O71: ='R2 2024'!O56 -> 2024-12
A72: ='R2 2024'!A57 -> Año | B72: ='R2 2024'!B57 -> TH | C72: ='R2 2024'!C57 -> NºExptes | D72: ='R2 2024'!D57 -> Suspensión | E72: ='R2 2024'!E57 -> H. | F72: ='R2 2024'!F57 -> M. | G72: ='R2 2024'!G57 -> Reducción | H72: ='R2 2024'!H57 -> H. | ... O72: ='R2 2024'!O57 -> Mujeres
A73: ='R2 2024'!A58 -> Urte | B73: ='R2 2024'!B58 -> LH | C73: ='R2 2024'!C58 -> Expt zb. | D73: ='R2 2024'!D58 -> Etendura | E73: ='R2 2024'!E58 -> G. | F73: ='R2 2024'!F58 -> E. | G73: ='R2 2024'!G58 -> Murrizketa | H73: ='R2 2024'!H58 -> G. | ... O73: ='R2 2024'!O58 -> Emakumeak
A74: Total | B74: Araba | C74: ='R2 2024'!C59 -> 39 | D74: ='R2 2024'!D59 -> 2549 | E74: ='R2 2024'!E59 -> 2219 | F74: ='R2 2024'!F59 -> 330 | G74: ='R2 2024'!G59 -> 52 | H74: ='R2 2024'!H59 -> 45 | I74: ='R2 2024'!I59 -> 7 | J74: ='R2 2024'!J59 -> 92 | ... O74: ='R2 2024'!O59 -> 380
A75: Acumulado | B75: Gipuzkoa | C75: ='R2 2024'!C60 -> 95 | D75: ='R2 2024'!D60 -> 1730 | E75: ='R2 2024'!E60 -> 1500 | F75: ='R2 2024'!F60 -> 230 | G75: ='R2 2024'!G60 -> 212 | H75: ='R2 2024'!H60 -> 139 | I75: ='R2 2024'!I60 -> 73 | J75: ='R2 2024'!J60 -> 453 | ... O75: ='R2 2024'!O60 -> 452
A76: Guztira | B76: Bizkaia | C76: ='R2 2024'!C61 -> 124 | D76: ='R2 2024'!D61 -> 3813 | E76: ='R2 2024'!E61 -> 3188 | F76: ='R2 2024'!F61 -> 625 | G76: ='R2 2024'!G61 -> 225 | H76: ='R2 2024'!H61 -> 155 | I76: ='R2 2024'!I61 -> 70 | J76: ='R2 2024'!J61 -> 382 | ... O76: ='R2 2024'!O61 -> 768
A77: Metatuak | B77: CAE | C77: ='R2 2024'!C62 -> 258 | D77: ='R2 2024'!D62 -> 8092 | E77: ='R2 2024'!E62 -> 6907 | F77: ='R2 2024'!F62 -> 1185 | G77: ='R2 2024'!G62 -> 489 | H77: ='R2 2024'!H62 -> 339 | I77: ='R2 2024'!I62 -> 150 | J77: ='R2 2024'!J62 -> 927 | ... O77: ='R2 2024'!O62 -> 1600
A80: Fuente: Dirección de Trabajo y Seguridad Social / Iturria: Lan eta Gizarte-Segurantza zuzendaritza | K80: Datos provisionales / Behin behineko datuak
A81: https://www.euskadi.eus/web01-s2lanju/es/contenidos/informacion/estadisticastrabajo/es_esttraba/index.shtml#empleo

Sheet R6 2024
A1: Expedientes de Regulación de Empleo Autorizados / Comunicados y afectados/as por TH y Sector de Actividad Económica en la CAE en 2024 | G1: ='R2 2024'!$O$56 -> 2024-12
A2: Enplegu-erregulazioaren bitartez 2024ko espediente baimendu edo-eta komunikatuak eta eragindako langileak EAEn, lurraldeka eta sektor ekonomikoaren arabera
A3: Sector Actividad | B3: TH | C3: Nº Exptes | D3: Suspensión | E3: Reducción | F3: Rescisión | G3: TOTAL
B4: Araba | C4: 0 | D4: 0 | E4: 0 | F4: 0 | G4: 0
B5: Gipuzkoa | C5: 5 | D5: 43 | E5: 0 | F5: 0 | G5: 43
A6: Nekazaritza | B6: Bizkaia | C6: 5 | D6: 69 | E6: 11 | F6: 12 | G6: 92
A7: Agrario | B7: CAE | C7: 10 | D7: 112 | E7: 11 | F7: 12 | G7: 135
B8: Alava | C8: 1 | D8: 0 | E8: 0 | F8: 14 | G8: 14
B9: Gipuzkoa | C9: 1 | D9: 0 | E9: 0 | F9: 45 | G9: 45
A10: Eraikuntza | B10: Bizkaia | C10: 8 | D10: 73 | E10: 11 | F10: 35 | G10: 119
A11: Construcción | B11: CAE | C11: 10 | D11: 73 | E11: 11 | F11: 94 | G11: 178
B12: Alava | C12: 22 | D12: 2244 | E12: 34 | F12: 30 | G12: 2308
B13: Gipuzkoa | C13: 54 | D13: 1551 | E13: 138 | F13: 282 | G13: 1971
A14: Industria | B14: Bizkaia | C14: 63 | D14: 3284 | E14: 135 | F14: 262 | G14: 3681
A15: Industria | B15: CAE | C15: 139 | D15: 7079 | E15: 307 | F15: 574 | G15: 7960
B16: Alava | C16: 16 | D16: 305 | E16: 18 | F16: 48 | G16: 371
B17: Gipuzkoa | C17: 35 | D17: 136 | E17: 74 | F17: 126 | G17: 336
A18: Zerbitzuak | B18: Bizkaia | C18: 48 | D18: 387 | E18: 68 | F18: 73 | G18: 528
A19: Servicios | B19: CAE | C19: 99 | D19: 828 | E19: 160 | F19: 247 | G19: 1235
B20: Alava | C20: 39 | D20: 2549 | E20: 52 | F20: 92 | G20: 2693
B21: Gipuzkoa | C21: 95 | D21: 1730 | E21: 212 | F21: 453 | G21: 2395
A22: GUZTIRA | B22: Bizkaia | C22: 124 | D22: 3813 | E22: 225 | F22: 382 | G22: 4420
A23: TOTAL | B23: CAE | C23: 258 | D23: 8092 | E23: 489 | F23: 927 | G23: 9508
A24: Agrario (%) | C24: 3.875969 | D24: 1.384083 | E24: 2.2494888 | F24: 1.2944984 | G24: 1.419857
A25: Construcción (%) | C25: 3.875969 | D25: 0.90212556 | E25: 2.2494888 | F25: 10.140237 | G25: 1.8721077
A26: Industria (%) | C26: 53.875969 | D26: 87.481463 | E26: 62.781186 | F26: 61.920173 | G26: 83.718973
A27: Servicios (%) | C27: 38.372093 | D27: 10.232328 | E27: 32.719836 | F27: 26.645092 | G27: 12.989062
A28: TOTAL (%) | C28: 100 | D28: 100 | E28: 100 | F28: 100 | G28: 100
A66: Fuente: Dirección de Trabajo y Seguridad Social / Iturria: Lan eta Gizarte-Segurantza zuzendaritza | F66: Datos provisionales / Behin behineko datuak
A67: https://www.euskadi.eus/web01-s2lanju/es/contenidos/informacion/estadisticastrabajo/es_esttraba/index.shtml#empleo

Sheet R7 2024
A1: Nº de Exptes Autorizados y/o Comunicados y Personas Afectadas por Regulación de Empleo en la CAE por Ramas de Actividad según CNAE-2009
A2: Enplegu-erregulazioaren bitartez espediente baimendu edo-eta komunikatuak eta eragindako langileak EAEn 2009ko jardun-kodearen arabera | N2: ='R2 2024'!O56 -> 2024-12
A3: Actividad | B3: NºExptes | C3: Suspensión | D3: Hombres | E3: Mujeres | F3: Reducción | G3: Hombres | H3: Mujeres | I3: Rescisión | J3: Hombres | K3: Mujeres | L3: Total Afect. | M3: Hombres | N3: Mujeres
A4: Jarduera | B4: Expt zb. | C4: Etendura | D4: Gizonak | E4: Emakum. | F4: Murrizketa | G4: Gizonak | H4: Emakum. | I4: Hausketa | J4: Gizonak | K4: Emakum. | L4: Guztira | M4: Gizonak | N4: Emakumeak
A5: A- Agropesquero | B5: 10 | C5: 112 | D5: 108 | E5: 4 | F5: 11 | G5: 6 | H5: 5 | I5: 12 | J5: 12 | K5: 0 | L5: 135 | M5: 126 | N5: 9
A6: B- Industria Extractiva | B6: 1 | C6: 1 | D6: 1 | E6: 0 | F6: 4 | G6: 3 | H6: 1 | I6: 0 | J6: 0 | K6: 0 | L6: 5 | M6: 4 | N6: 1
A7: C-10,11,12 Ind alimentación,bebida y tabaco | B7: 4 | C7: 12 | D7: 3 | E7: 9 | F7: 7 | G7: 5 | H7: 2 | I7: 28 | J7: 13 | K7: 15 | L7: 47 | M7: 21 | N7: 26
A8: C-13,14,15 Ind textil, cuero y calzado | B8: 1 | C8: 4 | D8: 2 | E8: 2 | F8: 16 | G8: 12 | H8: 4 | I8: 0 | J8: 0 | K8: 0 | L8: 20 | M8: 14 | N8: 6
A9: C-16,17 Ind madera y papel | B9: 11 | C9: 371 | D9: 349 | E9: 22 | F9: 28 | G9: 20 | H9: 8 | I9: 20 | J9: 18 | K9: 2 | L9: 419 | M9: 387 | N9: 32
A10: C-18 Artes gráficas | B10: 2 | C10: 0 | D10: 0 | E10: 0 | F10: 0 | G10: 0 | H10: 0 | I10: 92 | J10: 70 | K10: 22 | L10: 92 | M10: 70 | N10: 22
A11: C-19,20,21,22,23 Ind petróleo, química, farmacia, caucho, plástico y prod minerales | B11: 15 | C11: 875 | D11: 703 | E11: 172 | F11: 15 | G11: 12 | H11: 3 | I11: 138 | J11: 98 | K11: 40 | L11: 1028 | M11: 813 | N11: 215
A12: C-24,25 Metalurgia y fab. prod metálic | B12: 59 | C12: 3942 | D12: 3556 | E12: 386 | F12: 127 | G12: 106 | H12: 21 | I12: 89 | J12: 68 | K12: 21 | L12: 4158 | M12: 3730 | N12: 428
A13: C-26,27 Fab. prod inform y elect | B13: 3 | C13: 59 | D13: 43 | E13: 16 | F13: 0 | G13: 0 | H13: 0 | I13: 0 | J13: 0 | K13: 0 | L13: 59 | M13: 43 | N13: 16
A14: C-28 Fab. maquinaria | B14: 23 | C14: 1246 | D14: 1027 | E14: 219 | F14: 70 | G14: 49 | H14: 21 | I14: 6 | J14: 5 | K14: 1 | L14: 1322 | M14: 1081 | N14: 241
A15: C-29,30 Fab vehiculos | B15: 9 | C15: 371 | D15: 324 | E15: 47 | F15: 10 | G15: 7 | H15: 3 | I15: 192 | J15: 187 | K15: 5 | L15: 573 | M15: 518 | N15: 55
A16: C-31Fab. muebles | B16: 2 | C16: 0 | D16: 0 | E16: 0 | F16: 16 | G16: 11 | H16: 5 | I16: 9 | J16: 8 | K16: 1 | L16: 25 | M16: 19 | N16: 6
... A24: H-49 Transporte terrestre | B24: 2 | C24: 0 | D24: 0 | E24: 0 | F24: 7 | G24: 7 | H24: 0 | I24: 8 | J24: 7 | K24: 1 | L24: 15 | M24: 14 | N24: 1
A25: H-50 Transp marítimo
A26: H-51 Transp aéreo
A27: H-52 Almacenamiento y Activs. anexas transp | B27: 4 | C27: 54 | D27: 52 | E27: 2 | F27: 0 | G27: 0 | H27: 0 | I27: 14 | J27: 13 | K27: 1 | L27: 68 | M27: 65 | N27: 3
A28: H-53 Actvs postales y correos | B28: 1 | C28: 1 | D28: 1 | E28: 0 | F28: 0 | G28: 0 | H28: 0 | I28: 0 | J28: 0 | K28: 0 | L28: 1 | M28: 1 | N28: 0
A29: I-55,56 Hostelería | B29: 27 | C29: 189 | D29: 91 | E29: 98 | F29: 1 | G29: 1 | H29: 0 | I29: 97 | J29: 41 | K29: 56 | L29: 287 | M29: 133 | N29: 154
A30: J-58,59,60 Edición, Activs cine, video, musica, tv, radio | B30: 3 | C30: 9 | D30: 7 | E30: 2 | F30: 7 | G30: 2 | H30: 5 | I30: 0 | J30: 0 | K30: 0 | L30: 16 | M30: 9 | N30: 7
A31: J-61 Telecomunicaciones | B31: 2 | C31: 2 | D31: 2 | E31: 0 | F31: 12 | G31: 6 | H31: 6 | I31: 0 | J31: 0 | K31: 0 | L31: 14 | M31: 8 | N31: 6
A32: J-62 Actvs Informáticas | B32: 1 | C32: 4 | D32: 3 | E32: 1 | F32: 0 | G32: 0 | H32: 0 | I32: 0 | J32: 0 | K32: 0 | L32: 4 | M32: 3 | N32: 1
A33: J-63 Servicios Información
A34: K-64,65,66 Activs financieras y seguros
A35: K-68 Activs inmobiliarias | B35: 1 | C35: 0 | D35: 0 | E35: 0 | F35: 0 | G35: 0 | H35: 0 | I35: 2 | J35: 1 | K35: 1 | L35: 2 | M35: 1 | N35: 1
A36: M-69-75 Activs Profesionales, científicas y técnicas | B36: 13 | C36: 65 | D36: 40 | E36: 25 | F36: 54 | G36: 34 | H36: 20 | I36: 22 | J36: 7 | K36: 15 | L36: 141 | M36: 81 | N36: 60
A37: N-77-82 Activs admtvas, y servs auxiliares | B37: 14 | C37: 143 | D37: 70 | E37: 73 | F37: 24 | G37: 8 | H37: 16 | I37: 14 | J37: 7 | K37: 7 | L37: 181 | M37: 85 | N37: 96
A38: O-84 Admon Pública, Defensa y Seg Social
A39: P-85 Educación | B39: 5 | C39: 3 | D39: 3 | E39: 0 | F39: 0 | G39: 0 | H39: 0 | I39: 59 | J39: 23 | K39: 36 | L39: 62 | M39: 26 | N39: 36
A40: Q-86,87,88 Activs. Sanitarias y Servs. sociales | B40: 2 | C40: 72 | D40: 12 | E40: 60 | F40: 0 | G40: 0 | H40: 0 | I40: 0 | J40: 0 | K40: 0 | L40: 72 | M40: 12 | N40: 60
A41: R-90,91,92,93 Actvs. Artísticas, recreativas y de entrenemiento | B41: 2 | C41: 7 | D41: 2 | E41: 5 | F41: 0 | G41: 0 | H41: 0 | I41: 11 | J41: 7 | K41: 4 | L41: 18 | M41: 9 | N41: 9
A42: S-94,95,96 Otros Servicios | B42: 3 | C42: 2 | D42: 0 | E42: 2 | F42: 0 | G42: 0 | H42: 0 | I42: 6 | J42: 0 | K42: 6 | L42: 8 | M42: 0 | N42: 8
A43: T-97,98 Activs. de los Hogares: empleadores domésticos, bienes y servicios
A44: U-99 Activs. Organizaciones y Organismos extraterritoriales
A45: TOTAL CAE | B45: 258 | C45: 8092 | D45: 6907 | E45: 1185 | F45: 489 | G45: 339 | H45: 150 | I45: 927 | J45: 662 | K45: 265 | L45: 9508 | M45: 7908 | N45: 1600
A67: Fuente: Dirección de Trabajo y Seguridad Social / Iturria: Lan eta Gizarte-Segurantza zuzendaritza | J67: Datos provisionales / Behin behineko datuak
A68: https://www.euskadi.eus/web01-s2lanju/es/contenidos/informacion/estadisticastrabajo/es_esttraba/index.shtml#empleo

Sheet R8 2024
A1: Nº de Exptes Autorizados y/o Comunicados y Personas Afectadas por Regulación de Empleo en ÁLAVA por Ramas de Actividad según CNAE-2009
A2: Enplegu-erregulazioaren bitartez espediente baimendu edo-eta komunikatuak eta eragindako langileak ARABAn 2009ko jardun-kodearen arabera | N2: ='R2 2024'!O56 -> 2024-12
A3: Actividad | B3: NºExptes | C3: Suspensión | D3: Hombres | E3: Mujeres | F3: Reducción | G3: Hombres | H3: Mujeres | I3: Rescisión | J3: Hombres | K3: Mujeres | L3: Total Afect. | M3: Hombres | N3: Mujeres
A4: Jarduera | B4: Expt zb. | C4: Etendura | D4: Gizonak | E4: Emakum. | F4: Murrizketa | G4: Gizonak | H4: Emakum. | I4: Hausketa | J4: Gizonak | K4: Emakum. | L4: Guztira | M4: Gizonak | N4: Emakumeak
A5: A- Agropesquero
A6: B- Industria Extractiva | B6: 1 | C6: 1 | D6: 1 | E6: 0 | F6: 4 | G6: 3 | H6: 1 | I6: 0 | J6: 0 | K6: 0 | L6: 5 | M6: 4 | N6: 1
A7: C-10,11,12 Ind alimentación,bebida y tabaco | B7: 1 | C7: 0 | D7: 0 | E7: 0 | F7: 6 | G7: 5 | H7: 1 | I7: 0 | J7: 0 | K7: 0 | L7: 6 | M7: 5 | N7: 1
A8: C-13,14,15 Ind textil, cuero y calzado
A9: C-16,17 Ind madera y papel | B9: 2 | C9: 20 | D9: 19 | E9: 1 | F9: 0 | G9: 0 | H9: 0 | I9: 0 | J9: 0 | K9: 0 | L9: 20 | M9: 19 | N9: 1
A10: C-18 Artes gráficas
A11: C-19,20,21,22,23 Ind petróleo, química, farmacia, caucho, plástico y prod minerales | B11: 5 | C11: 588 | D11: 520 | E11: 68 | F11: 0 | G11: 0 | H11: 0 | I11: 0 | J11: 0 | K11: 0 | L11: 588 | M11: 520 | N11: 68
A12: C-24,25 Metalurgia y fab. prod metálic | B12: 6 | C12: 1051 | D12: 971 | E12: 80 | F12: 24 | G12: 24 | H12: 0 | I12: 30 | J12: 15 | K12: 15 | L12: 1105 | M12: 1010 | N12: 95
A13: C-26,27 Fab. prod inform y elect | B13: 1 | C13: 51 | D13: 35 | E13: 16 | F13: 0 | G13: 0 | H13: 0 | I13: 0 | J13: 0 | K13: 0 | L13: 51 | M13: 35 | N13: 16
A14: C-28 Fab. maquinaria | B14: 3 | C14: 362 | D14: 244 | E14: 118 | F14: 0 | G14: 0 | H14: 0 | I14: 0 | J14: 0 | K14: 0 | L14: 362 | M14: 244 | N14: 118
A15: C-29,30 Fab vehiculos
A16: C-31Fab. muebles
A17: C-32,33 Otras ind manufact y Rep. maquinaria | B17: 3 | C17: 171 | D17: 164 | E17: 7 | F17: 0 | G17: 0 | H17: 0 | I17: 0 | J17: 0 | K17: 0 | L17: 171 | M17: 164 | N17: 7
A18: D-35 Suministro Energía
A19: E-36,37,38,39 Suministro agua,saneamiento,gestión residuos
A20: F-41,42,43 Construcción | B20: 1 | C20: 0 | D20: 0 | E20: 0 | F20: 0 | G20: 0 | H20: 0 | I20: 14 | J20: 14 | K20: 0 | L20: 14 | M20: 14 | N20: 0
A21: G-45 Venta y reparac vehículos | B21: 2 | C21: 198 | D21: 187 | E21: 11 | F21: 0 | G21: 0 | H21: 0 | I21: 0 | J21: 0 | K21: 0 | L21: 198 | M21: 187 | N21: 11
A22: G-46 Comercio por Mayor | B22: 1 | C22: 45 | D22: 45 | E22: 0 | F22: 12 | G22: 8 | H22: 4 | I22: 0 | J22: 0 | K22: 0 | L22: 57 | M22: 53 | N22: 4
A23: G-47 Comercio por menor | B23: 2 | C23: 0 | D23: 0 | E23: 0 | F23: 1 | G23: 1 | H23: 0 | I23: 12 | J23: 3 | K23: 9 | L23: 13 | M23: 4 | N23: 9
A24: H-49 Transporte terrestre
A25: H-50 Transp marítimo
A26: H-51 Transp aéreo
A27: H-52 Almacenamiento y Activs. anexas transp | B27: 2 | C27: 5 | D27: 4 | E27: 1 | F27: 0 | G27: 0 | H27: 0 | I27: 14 | J27: 13 | K27: 1 | L27: 19 | M27: 17 | N27: 2
A28: H-53 Actvs postales y correos
A29: I-55,56 Hostelería | B29: 2 | C29: 5 | D29: 0 | E29: 5 | F29: 0 | G29: 0 | H29: 0 | I29: 9 | J29: 4 | K29: 5 | L29: 14 | M29: 4 | N29: 10
A30: J-58,59,60 Edición, Activs cine, video, musica, tv, radio
A31: J-61 Telecomunicaciones
A32: J-62 Actvs Informáticas
A33: J-63 Servicios Información
A34: K-64,65,66 Activs financieras y seguros
A35: K-68 Activs inmobiliarias
A36: M-69-75 Activs Profesionales, científicas y técnicas | B36: 3 | C36: 45 | D36: 26 | E36: 19 | F36: 5 | G36: 4 | H36: 1 | I36: 0 | J36: 0 | K36: 0 | L36: 50 | M36: 30 | N36: 20
A37: N-77-82 Activs admtvas, y servs auxiliares | B37: 3 | C37: 7 | D37: 3 | E37: 4 | F37: 0 | G37: 0 | H37: 0 | I37: 7 | J37: 0 | K37: 7 | L37: 14 | M37: 3 | N37: 11
A38: O-84 Admon Pública, Defensa y Seg Social
A39: P-85 Educación
A40: Q-86,87,88 Activs. Sanitarias y Servs. sociales
A41: R-90,91,92,93 Actvs. Artísticas, recreativas y de entrenemiento
A42: S-94,95,96 Otros Servicios | B42: 1 | C42: 0 | D42: 0 | E42: 0 | F42: 0 | G42: 0 | H42: 0 | I42: 6 | J42: 0 | K42: 6 | L42: 6 | M42: 0 | N42: 6
A43: T-97,98 Activs. de los Hogares: empleadores domésticos, bienes y servicios
A44: U-99 Activs. Organizaciones y Organismos extraterritoriales
A45: TOTAL ARABA | B45: 39 | C45: 2549 | D45: 2219 | E45: 330 | F45: 52 | G45: 45 | H45: 7 | I45: 92 | J45: 49 | K45: 43 | L45: 2693 | M45: 2313 | N45: 380
A63: Fuente: Dirección de Trabajo y Seguridad Social / Iturria: Lan eta Gizarte-Segurantza zuzendaritza | J63: Datos provisionales / Behin behineko datuak
A64: https://www.euskadi.eus/web01-s2lanju/es/contenidos/informacion/estadisticastrabajo/es_esttraba/index.shtml#empleo

Sheet R9 2024
A1: Nº de Exptes Autorizados y/o Comunicados y Personas Afectadas por Regulación de Empleo en GIPUZKOA por Ramas de Actividad según CNAE-2009
A2: Enplegu-erregulazioaren bitartez espediente baimendu edo-eta komunikatuak eta eragindako langileak GIPUZKOAn 2009ko jardun-kodearen arabera | N2: ='R2 2024'!O56 -> 2024-12
A3: Actividad | B3: NºExptes | C3: Suspensión | D3: Hombres | E3: Mujeres | F3: Reducción | G3: Hombres | H3: Mujeres | I3: Rescisión | J3: Hombres | K3: Mujeres | L3: Total Afect. | M3: Hombres | N3: Mujeres
A4: Jarduera | B4: Expt zb. | C4: Etendura | D4: Gizonak | E4: Emakum. | F4: Murrizketa | G4: Gizonak | H4: Emakum. | I4: Hausketa | J4: Gizonak | K4: Emakum. | L4: Guztira | M4: Gizonak | N4: Emakumeak
A5: A- Agropesquero | B5: 5 | C5: 43 | D5: 42 | E5: 1 | F5: 0 | G5: 0 | H5: 0 | I5: 0 | J5: 0 | K5: 0 | L5: 43 | M5: 42 | N5: 1
A6: B- Industria Extractiva
A7: C-10,11,12 Ind alimentación,bebida y tabaco | B7: 3 | C7: 12 | D7: 3 | E7: 9 | F7: 1 | G7: 0 | H7: 1 | I7: 28 | J7: 13 | K7: 15 | L7: 41 | M7: 16 | N7: 25
A8: C-13,14,15 Ind textil, cuero y calzado | B8: 1 | C8: 4 | D8: 2 | E8: 2 | F8: 16 | G8: 12 | H8: 4 | I8: 0 | J8: 0 | K8: 0 | L8: 20 | M8: 14 | N8: 6
A9: C-16,17 Ind madera y papel | B9: 7 | C9: 351 | D9: 330 | E9: 21 | F9: 28 | G9: 20 | H9: 8 | I9: 9 | J9: 8 | K9: 1 | L9: 388 | M9: 358 | N9: 30
A10: C-18 Artes gráficas | B10: 1 | C10: 0 | D10: 0 | E10: 0 | F10: 0 | G10: 0 | H10: 0 | I10: 35 | J10: 26 | K10: 9 | L10: 35 | M10: 26 | N10: 9
A11: C-19,20,21,22,23 Ind petróleo, química, farmacia, caucho, plástico y prod minerales | B11: 4 | C11: 101 | D11: 70 | E11: 31 | F11: 0 | G11: 0 | H11: 0 | I11: 91 | J11: 57 | K11: 34 | L11: 192 | M11: 127 | N11: 65
A12: C-24,25 Metalurgia y fab. prod metálic | B12: 17 | C12: 399 | D12: 365 | E12: 34 | F12: 67 | G12: 56 | H12: 11 | I12: 54 | J12: 48 | K12: 6 | L12: 520 | M12: 469 | N12: 51
A13: C-26,27 Fab. prod inform y elect
A14: C-28 Fab. maquinaria | B14: 12 | C14: 406 | D14: 383 | E14: 23 | F14: 0 | G14: 0 | H14: 0 | I14: 6 | J14: 5 | K14: 1 | L14: 412 | M14: 388 | N14: 24
A15: C-29,30 Fab vehiculos | B15: 4 | C15: 278 | D15: 236 | E15: 42 | F15: 0 | G15: 0 | H15: 0 | I15: 50 | J15: 46 | K15: 4 | L15: 328 | M15: 282 | N15: 46
A16: C-31Fab. muebles | B16: 2 | C16: 0 | D16: 0 | E16: 0 | F16: 16 | G16: 11 | H16: 5 | I16: 9 | J16: 8 | K16: 1 | L16: 25 | M16: 19 | N16: 6
A17: C-32,33 Otras ind manufact y Rep. maquinaria | B17: 2 | C17: 0 | D17: 0 | E17: 0 | F17: 7 | G17: 2 | H17: 5 | I17: 0 | J17: 0 | K17: 0 | L17: 7 | M17: 2 | N17: 5
A18: D-35 Suministro Energía | B18: 1 | C18: 0 | D18: 0 | E18: 0 | F18: 3 | G18: 2 | H18: 1 | I18: 0 | J18: 0 | K18: 0 | L18: 3 | M18: 2 | N18: 1
A19: E-36,37,38,39 Suministro agua,saneamiento,gestión residuos
A20: F-41,42,43 Construcción | B20: 1 | C20: 0 | D20: 0 | E20: 0 | F20: 0 | G20: 0 | H20: 0 | I20: 45 | J20: 39 | K20: 6 | L20: 45 | M20: 39 | N20: 6
A21: G-45 Venta y reparac vehículos
A22: G-46 Comercio por Mayor | B22: 4 | C22: 2 | D22: 1 | E22: 1 | F22: 28 | G22: 19 | H22: 9 | I22: 0 | J22: 0 | K22: 0 | L22: 30 | M22: 20 | N22: 10
A23: G-47 Comercio por menor | B23: 4 | C23: 10 | D23: 5 | E23: 5 | F23: 2 | G23: 0 | H23: 2 | I23: 0 | J23: 0 | K23: 0 | L23: 12 | M23: 5 | N23: 7
A24: H-49 Transporte terrestre | B24: 1 | C24: 0 | D24: 0 | E24: 0 | F24: 0 | G24: 0 | H24: 0 | I24: 8 | J24: 7 | K24: 1 | L24: 8 | M24: 7 | N24: 1
A25: H-50 Transp marítimo
A26: H-51 Transp aéreo
A27: H-52 Almacenamiento y Activs. anexas transp
A28: H-53 Actvs postales y correos | B28: 1 | C28: 1 | D28: 1 | E28: 0 | F28: 0 | G28: 0 | H28: 0 | I28: 0 | J28: 0 | K28: 0 | L28: 1 | M28: 1 | N28: 0
A29: I-55,56 Hostelería | B29: 13 | C29: 114 | D29: 59 | E29: 55 | F29: 1 | G29: 1 | H29: 0 | I29: 45 | J29: 13 | K29: 32 | L29: 160 | M29: 73 | N29: 87
A30: J-58,59,60 Edición, Activs cine, video, musica, tv, radio | B30: 1 | C30: 0 | D30: 0 | E30: 0 | F30: 7 | G30: 2 | H30: 5 | I30: 0 | J30: 0 | K30: 0 | L30: 7 | M30: 2 | N30: 5
A31: J-61 Telecomunicaciones
A32: J-62 Actvs Informáticas
A33: J-63 Servicios Información
A34: K-64,65,66 Activs financieras y seguros
A35: K-68 Activs inmobiliarias
A36: M-69-75 Activs Profesionales, científicas y técnicas | B36: 4 | C36: 1 | D36: 0 | E36: 1 | F36: 15 | G36: 6 | H36: 9 | I36: 15 | J36: 4 | K36: 11 | L36: 31 | M36: 10 | N36: 21
A37: N-77-82 Activs admtvas, y servs auxiliares | B37: 3 | C37: 4 | D37: 0 | E37: 4 | F37: 21 | G37: 8 | H37: 13 | I37: 7 | J37: 7 | K37: 0 | L37: 32 | M37: 15 | N37: 17
A38: O-84 Admon Pública, Defensa y Seg Social
A39: P-85 Educación | B39: 2 | C39: 3 | D39: 3 | E39: 0 | F39: 0 | G39: 0 | H39: 0 | I39: 40 | J39: 16 | K39: 24 | L39: 43 | M39: 19 | N39: 24
A40: Q-86,87,88 Activs. Sanitarias y Servs. sociales
A41: R-90,91,92,93 Actvs. Artísticas, recreativas y de entrenemiento | B41: 1 | C41: 0 | D41: 0 | E41: 0 | F41: 0 | G41: 0 | H41: 0 | I41: 11 | J41: 7 | K41: 4 | L41: 11 | M41: 7 | N41: 4
A42: S-94,95,96 Otros Servicios | B42: 1 | C42: 1 | D42: 0 | E42: 1 | F42: 0 | G42: 0 | H42: 0 | I42: 0 | J42: 0 | K42: 0 | L42: 1 | M42: 0 | N42: 1
A43: T-97,98 Activs. de los Hogares: empleadores domésticos, bienes y servicios
A44: U-99 Activs. Organizaciones y Organismos extraterritoriales
A45: TOTAL GIPUZKOA | B45: 95 | C45: 1730 | D45: 1500 | E45: 230 | F45: 212 | G45: 139 | H45: 73 | I45: 453 | J45: 304 | K45: 149 | L45: 2395 | M45: 1943 | N45: 452
A65: Fuente: Dirección de Trabajo y Seguridad Social / Iturria: Lan eta Gizarte-Segurantza zuzendaritza | J65: Datos provisionales / Behin behineko datuak
A66: https://www.euskadi.eus/web01-s2lanju/es/contenidos/informacion/estadisticastrabajo/es_esttraba/index.shtml#empleo

Sheet R10 2024
A1: Nº de Exptes Autorizados y/o Comunicados y Personas Afectadas por Regulación de Empleo en BIZKAIA por Ramas de Actividad según CNAE-2009
A2: Enplegu-erregulazioaren bitartez espediente baimendu edo-eta komunikatuak eta eragindako langileak BIZKAIAn 2009ko jardun-kodearen arabera | N2: ='R2 2024'!O56 -> 2024-12
A3: Actividad | B3: NºExptes | C3: Suspensión | D3: Hombres | E3: Mujeres | F3: Reducción | G3: Hombres | H3: Mujeres | I3: Rescisión | J3: Hombres | K3: Mujeres | L3: Total Afect. | M3: Hombres | N3: Mujeres
A4: Jarduera | B4: Expt zb. | C4: Etendura | D4: Gizonak | E4: Emakum. | F4: Murrizketa | G4: Gizonak | H4: Emakum. | I4: Hausketa | J4: Gizonak | K4: Emakum. | L4: Guztira | M4: Gizonak | N4: Emakumeak
A5: A- Agropesquero | B5: 5 | C5: 69 | D5: 66 | E5: 3 | F5: 11 | G5: 6 | H5: 5 | I5: 12 | J5: 12 | K5: 0 | L5: 92 | M5: 84 | N5: 8
A6: B- Industria Extractiva
A7: C-10,11,12 Ind alimentación,bebida y tabaco
A8: C-13,14,15 Ind textil, cuero y calzado
A9: C-16,17 Ind madera y papel | B9: 2 | C9: 0 | D9: 0 | E9: 0 | F9: 0 | G9: 0 | H9: 0 | I9: 11 | J9: 10 | K9: 1 | L9: 11 | M9: 10 | N9: 1
A10: C-18 Artes gráficas | B10: 1 | C10: 0 | D10: 0 | E10: 0 | F10: 0 | G10: 0 | H10: 0 | I10: 57 | J10: 44 | K10: 13 | L10: 57 | M10: 44 | N10: 13
A11: C-19,20,21,22,23 Ind petróleo, química, farmacia, caucho, plástico y prod minerales | B11: 6 | C11: 186 | D11: 113 | E11: 73 | F11: 15 | G11: 12 | H11: 3 | I11: 47 | J11: 41 | K11: 6 | L11: 248 | M11: 166 | N11: 82
A12: C-24,25 Metalurgia y fab. prod metálic | B12: 36 | C12: 2492 | D12: 2220 | E12: 272 | F12: 36 | G12: 26 | H12: 10 | I12: 5 | J12: 5 | K12: 0 | L12: 2533 | M12: 2251 | N12: 282
A13: C-26,27 Fab. prod inform y elect | B13: 2 | C13: 8 | D13: 8 | E13: 0 | F13: 0 | G13: 0 | H13: 0 | I13: 0 | J13: 0 | K13: 0 | L13: 8 | M13: 8 | N13: 0
A14: C-28 Fab. maquinaria | B14: 8 | C14: 478 | D14: 400 | E14: 78 | F14: 70 | G14: 49 | H14: 21 | I14: 0 | J14: 0 | K14: 0 | L14: 548 | M14: 449 | N14: 99
A15: C-29,30 Fab vehiculos | B15: 5 | C15: 93 | D15: 88 | E15: 5 | F15: 10 | G15: 7 | H15: 3 | I15: 142 | J15: 141 | K15: 1 | L15: 245 | M15: 236 | N15: 9
A16: C-31Fab. muebles
A17: C-32,33 Otras ind manufact y Rep. maquinaria | B17: 2 | C17: 27 | D17: 27 | E17: 0 | F17: 0 | G17: 0 | H17: 0 | I17: 0 | J17: 0 | K17: 0 | L17: 27 | M17: 27 | N17: 0
A18: D-35 Suministro Energía
A19: E-36,37,38,39 Suministro agua,saneamiento,gestión residuos | B19: 1 | C19: 0 | D19: 0 | E19: 0 | F19: 4 | G19: 3 | H19: 1 | I19: 0 | J19: 0 | K19: 0 | L19: 4 | M19: 3 | N19: 1
A20: F-41,42,43 Construcción | B20: 8 | C20: 73 | D20: 71 | E20: 2 | F20: 11 | G20: 6 | H20: 5 | I20: 35 | J20: 20 | K20: 15 | L20: 119 | M20: 97 | N20: 22
A21: G-45 Venta y reparac vehículos | B21: 1 | C21: 7 | D21: 4 | E21: 3 | F21: 0 | G21: 0 | H21: 0 | I21: 0 | J21: 0 | K21: 0 | L21: 7 | M21: 4 | N21: 3
A22: G-46 Comercio por Mayor | B22: 2 | C22: 13 | D22: 2 | E22: 11 | F22: 12 | G22: 9 | H22: 3 | I22: 0 | J22: 0 | K22: 0 | L22: 25 | M22: 11 | N22: 14
A23: G-47 Comercio por menor | B23: 3 | C23: 2 | D23: 2 | E23: 0 | F23: 0 | G23: 0 | H23: 0 | I23: 2 | J23: 1 | K23: 1 | L23: 4 | M23: 3 | N23: 1
A24: H-49 Transporte terrestre | B24: 1 | C24: 0 | D24: 0 | E24: 0 | F24: 7 | G24: 7 | H24: 0 | I24: 0 | J24: 0 | K24: 0 | L24: 7 | M24: 7 | N24: 0
A25: H-50 Transp marítimo
A26: H-51 Transp aéreo
A27: H-52 Almacenamiento y Activs. anexas transp | B27: 2 | C27: 49 | D27: 48 | E27: 1 | F27: 0 | G27: 0 | H27: 0 | I27: 0 | J27: 0 | K27: 0 | L27: 49 | M27: 48 | N27: 1
A28: H-53 Actvs postales y correos
A29: I-55,56 Hostelería | B29: 12 | C29: 70 | D29: 32 | E29: 38 | F29: 0 | G29: 0 | H29: 0 | I29: 43 | J29: 24 | K29: 19 | L29: 113 | M29: 56 | N29: 57
A30: J-58,59,60 Edición, Activs cine, video, musica, tv, radio | B30: 2 | C30: 9 | D30: 7 | E30: 2 | F30: 0 | G30: 0 | H30: 0 | I30: 0 | J30: 0 | K30: 0 | L30: 9 | M30: 7 | N30: 2
A31: J-61 Telecomunicaciones | B31: 2 | C31: 2 | D31: 2 | E31: 0 | F31: 12 | G31: 6 | H31: 6 | I31: 0 | J31: 0 | K31: 0 | L31: 14 | M31: 8 | N31: 6
A32: J-62 Actvs Informáticas | B32: 1 | C32: 4 | D32: 3 | E32: 1 | F32: 0 | G32: 0 | H32: 0 | I32: 0 | J32: 0 | K32: 0 | L32: 4 | M32: 3 | N32: 1
A33: J-63 Servicios Información
A34: K-64,65,66 Activs financieras y seguros
A35: K-68 Activs inmobiliarias | B35: 1 | C35: 0 | D35: 0 | E35: 0 | F35: 0 | G35: 0 | H35: 0 | I35: 2 | J35: 1 | K35: 1 | L35: 2 | M35: 1 | N35: 1
A36: M-69-75 Activs Profesionales, científicas y técnicas | B36: 6 | C36: 19 | D36: 14 | E36: 5 | F36: 34 | G36: 24 | H36: 10 | I36: 7 | J36: 3 | K36: 4 | L36: 60 | M36: 41 | N36: 19
A37: N-77-82 Activs admtvas, y servs auxiliares | B37: 8 | C37: 132 | D37: 67 | E37: 65 | F37: 3 | G37: 0 | H37: 3 | I37: 0 | J37: 0 | K37: 0 | L37: 135 | M37: 67 | N37: 68
A38: O-84 Admon Pública, Defensa y Seg Social
A39: P-85 Educación | B39: 3 | C39: 0 | D39: 0 | E39: 0 | F39: 0 | G39: 0 | H39: 0 | I39: 19 | J39: 7 | K39: 12 | L39: 19 | M39: 7 | N39: 12
A40: Q-86,87,88 Activs. Sanitarias y Servs. sociales | B40: 2 | C40: 72 | D40: 12 | E40: 60 | F40: 0 | G40: 0 | H40: 0 | I40: 0 | J40: 0 | K40: 0 | L40: 72 | M40: 12 | N40: 60
A41: R-90,91,92,93 Actvs. Artísticas, recreativas y de entrenemiento | B41: 1 | C41: 7 | D41: 2 | E41: 5 | F41: 0 | G41: 0 | H41: 0 | I41: 0 | J41: 0 | K41: 0 | L41: 7 | M41: 2 | N41: 5
A42: S-94,95,96 Otros Servicios | B42: 1 | C42: 1 | D42: 0 | E42: 1 | F42: 0 | G42: 0 | H42: 0 | I42: 0 | J42: 0 | K42: 0 | L42: 1 | M42: 0 | N42: 1
A43: T-97,98 Activs. de los Hogares: empleadores domésticos, bienes y servicios
A44: U-99 Activs. Organizaciones y Organismos extraterritoriales
A45: TOTAL BIZKAIA | B45: 124 | C45: 3813 | D45: 3188 | E45: 625 | F45: 225 | G45: 155 | H45: 70 | I45: 382 | J45: 309 | K45: 73 | L45: 4420 | M45: 3652 | N45: 768
A61: Fuente: Dirección de Trabajo y Seguridad Social / Iturria: Lan eta Gizarte-Segurantza zuzendaritza | J61: Datos provisionales / Behin behineko datuak
A62: https://www.euskadi.eus/web01-s2lanju/es/contenidos/informacion/estadisticastrabajo/es_esttraba/index.shtml#empleo

Sheet R11 2024
A1: Nº de Exptes Autorizados y/o Comunicados y Personas Afectadas por Regulación de Empleo en la CAE según Causa por TH - 2024
A2: Enplegu-erregulazioaren bitartez espediente baimendu edo-eta komunikatuak eta eragindako langileak EAEn kausaren arabera, lurraldeka - 2024 | N2: 2024-12
A3: Causa | B3: NºExptes | C3: Suspensión | D3: Hombres | E3: Mujeres | F3: Reducción | G3: Hombres | H3: Mujeres | I3: Rescisión | J3: Hombres | K3: Mujeres | L3: Total Afect. | M3: Hombres | N3: Mujeres
A4: Kausa | B4: Expt zb. | C4: Etendura | D4: Gizonak | E4: Emakum. | F4: Murrizketa | G4: Gizonak | H4: Emakum. | I4: Hausketa | J4: Gizonak | K4: Emakum. | L4: Guztira | M4: Gizonak | N4: Emakumeak
A5: 1- Restricción demanda o producción | B5: 24 | C5: 2013 | D5: 1720 | E5: 293 | F5: 42 | G5: 37 | H5: 5 | I5: 51 | J5: 28 | K5: 23 | L5: 2106 | M5: 1785 | N5: 321
A6: 2- Técnicas y Organizativas | B6: 5 | C6: 319 | D6: 296 | E6: 23 | F6: 0 | G6: 0 | H6: 0 | I6: 0 | J6: 0 | K6: 0 | L6: 319 | M6: 296 | N6: 23
A7: 3- Fuerza Mayor | B7: 0 | C7: 0 | D7: 0 | E7: 0 | F7: 0 | G7: 0 | H7: 0 | I7: 0 | J7: 0 | K7: 0 | L7: 0 | M7: 0 | N7: 0
A8: 4- Problemas económicos y financieros | B8: 10 | C8: 217 | D8: 203 | E8: 14 | F8: 10 | G8: 8 | H8: 2 | I8: 41 | J8: 21 | K8: 20 | L8: 268 | M8: 232 | N8: 36
A9: 5- Procesos concursales y reestructuraciones | B9: 0 | C9: 0 | D9: 0 | E9: 0 | F9: 0 | G9: 0 | H9: 0 | I9: 0 | J9: 0 | K9: 0 | L9: 0 | M9: 0 | N9: 0
A10: 6- Otras | B10: 0 | C10: 0 | D10: 0 | E10: 0 | F10: 0 | G10: 0 | H10: 0 | I10: 0 | J10: 0 | K10: 0 | L10: 0 | M10: 0 | N10: 0
A11: ARABA | B11: 39 | C11: 2549 | D11: 2219 | E11: 330 | F11: 52 | G11: 45 | H11: 7 | I11: 92 | J11: 49 | K11: 43 | L11: 2693 | M11: 2313 | N11: 380
A12: 1- Restricción demanda o producción | B12: 43 | C12: 1264 | D12: 1130 | E12: 134 | F12: 156 | G12: 104 | H12: 52 | I12: 49 | J12: 47 | K12: 2 | L12: 1469 | M12: 1281 | N12: 188
A13: 2- Técnicas y Organizativas | B13: 12 | C13: 63 | D13: 33 | E13: 30 | F13: 0 | G13: 0 | H13: 0 | I13: 118 | J13: 95 | K13: 23 | L13: 181 | M13: 128 | N13: 53
A14: 3- Fuerza Mayor | B14: 11 | C14: 100 | D14: 79 | E14: 21 | F14: 1 | G14: 1 | H14: 0 | I14: 0 | J14: 0 | K14: 0 | L14: 101 | M14: 80 | N14: 21
A15: 4- Problemas económicos y financieros | B15: 29 | C15: 303 | D15: 258 | E15: 45 | F15: 55 | G15: 34 | H15: 21 | I15: 286 | J15: 162 | K15: 124 | L15: 644 | M15: 454 | N15: 190
A16: 5- Procesos concursales y reestructuraciones | B16: 0 | C16: 0 | D16: 0 | E16: 0 | F16: 0 | G16: 0 | H16: 0 | I16: 0 | J16: 0 | K16: 0 | L16: 0 | M16: 0 | N16: 0
... A32: CAE | B32: 258 | C32: 8092 | D32: 6907 | E32: 1185 | F32: 489 | G32: 339 | H32: 150 | I32: 927 | J32: 662 | K32: 265 | L32: 9508 | M32: 7908 | N32: 1600
A34: Datos acumulados año 2024 / 2024ko datu metatuak
A35: TH | B35: NºExptes | C35: Suspensión | D35: Hombres | E35: Mujeres | F35: Reducción | G35: Hombres | H35: Mujeres | I35: Rescisión | J35: Hombres | K35: Mujeres | L35: Total Afect. | M35: Hombres | N35: Mujeres
A36: LH | B36: Expt zb. | C36: Etendura | D36: Gizonak | E36: Emakum. | F36: Murrizketa | G36: Gizonak | H36: Emakum. | I36: Hausketa | J36: Gizonak | K36: Emakum. | L36: Guztira | M36: Gizonak | N36: Emakumeak
A37: Araba | B37: 39 | C37: 2549 | D37: 2219 | E37: 330 | F37: 52 | G37: 45 | H37: 7 | I37: 92 | J37: 49 | K37: 43 | L37: 2693 | M37: 2313 | N37: 380
A38: Gipuzkoa | B38: 95 | C38: 1730 | D38: 1500 | E38: 230 | F38: 212 | G38: 139 | H38: 73 | I38: 453 | J38: 304 | K38: 149 | L38: 2395 | M38: 1943 | N38: 452
A39: Bizkaia | B39: 124 | C39: 3813 | D39: 3188 | E39: 625 | F39: 225 | G39: 155 | H39: 70 | I39: 382 | J39: 309 | K39: 73 | L39: 4420 | M39: 3652 | N39: 768
A40: CAE | B40: 258 | C40: 8092 | D40: 6907 | E40: 1185 | F40: 489 | G40: 339 | H40: 150 | I40: 927 | J40: 662 | K40: 265 | L40: 9508 | M40: 7908 | N40: 1600
A77: Fuente: Dirección de Trabajo y Seguridad Social / Iturria: Lan eta Gizarte-Segurantza zuzendaritza | J77: Datos provisionales / Behin behineko datuak
A78: https://www.euskadi.eus/web01-s2lanju/es/contenidos/informacion/estadisticastrabajo/es_esttraba/index.shtml#empleo

Sheet R12 2024
A1: Nº de Exptes Autorizados y/o Comunicados y Personas Afectadas por Regulación de Empleo en la CAE por Comarcas y TH - 2024
A2: Enplegu-erregulazioaren bitartez espediente baimendu edo-eta komunikatuak eta eragindako langileak EAEn, eskualdeka eta lurraldeka | N2: 2024-12
A4: Eskualdea | B4: NºExptes | C4: Suspensión | D4: Hombres | E4: Mujeres | F4: Reducción | G4: Hombres | H4: Mujeres | I4: Rescisión | J4: Hombres | K4: Mujeres | L4: Total Afect. | M4: Hombres | N4: Mujeres
A5: Comarca | B5: Expt zb. | C5: Etendura | D5: Gizonak | E5: Emakum. | F5: Murrizketa | G5: Gizonak | H5: Emakum. | I5: Hausketa | J5: Gizonak | K5: Emakum. | L5: Guztira | M5: Gizonak | N5: Emakumeak
A6: Llanada Alavesa | B6: 23 | C6: 1084 | D6: 844 | E6: 240 | F6: 42 | G6: 37 | H6: 5 | I6: 92 | J6: 49 | K6: 43 | L6: 1218 | M6: 930 | N6: 288
A7: Montaña Alavesa | B7: 0 | C7: 0 | D7: 0 | E7: 0 | F7: 0 | G7: 0 | H7: 0 | I7: 0 | J7: 0 | K7: 0 | L7: 0 | M7: 0 | N7: 0
A8: Rioja Alavesa | B8: 5 | C8: 23 | D8: 22 | E8: 1 | F8: 6 | G8: 5 | H8: 1 | I8: 0 | J8: 0 | K8: 0 | L8: 29 | M8: 27 | N8: 2
A9: Valles Alaveses | B9: 1 | C9: 5 | D9: 4 | E9: 1 | F9: 0 | G9: 0 | H9: 0 | I9: 0 | J9: 0 | K9: 0 | L9: 5 | M9: 4 | N9: 1
A10: Cantábrica Alavesa | B10: 8 | C10: 1408 | D10: 1325 | E10: 83 | F10: 4 | G10: 3 | H10: 1 | I10: 0 | J10: 0 | K10: 0 | L10: 1412 | M10: 1328 | N10: 84
A11: Estribaciones del Gorbeia | B11: 2 | C11: 29 | D11: 24 | E11: 5 | F11: 0 | G11: 0 | H11: 0 | I11: 0 | J11: 0 | K11: 0 | L11: 29 | M11: 24 | N11: 5
A12: ARABA | B12: 39 | C12: 2549 | D12: 2219 | E12: 330 | F12: 52 | G12: 45 | H12: 7 | I12: 92 | J12: 49 | K12: 43 | L12: 2693 | M12: 2313 | N12: 380
A13: Alto Deba | B13: 9 | C13: 295 | D13: 250 | E13: 45 | F13: 28 | G13: 22 | H13: 6 | I13: 21 | J13: 6 | K13: 15 | L13: 344 | M13: 278 | N13: 66
A14: Bajo Bidasoa | B14: 8 | C14: 44 | D14: 19 | E14: 25 | F14: 18 | G14: 11 | H14: 7 | I14: 72 | J14: 33 | K14: 39 | L14: 134 | M14: 63 | N14: 71
A15: Bajo Deba | B15: 14 | C15: 182 | D15: 155 | E15: 27 | F15: 18 | G15: 10 | H15: 8 | I15: 64 | J15: 55 | K15: 9 | L15: 264 | M15: 220 | N15: 44
A16: Donostialdea | B16: 35 | C16: 444 | D16: 360 | E16: 84 | F16: 40 | G16: 25 | H16: 15 | I16: 236 | J16: 160 | K16: 76 | L16: 720 | M16: 545 | N16: 175
A17: Urola Kosta | B17: 11 | C17: 155 | D17: 150 | E17: 5 | F17: 25 | G17: 14 | H17: 11 | I17: 45 | J17: 37 | K17: 8 | L17: 225 | M17: 201 | N17: 24
... A28: BIZKAIA | B28: 124 | C28: 3813 | D28: 3188 | E28: 625 | F28: 225 | G28: 155 | H28: 70 | I28: 382 | J28: 309 | K28: 73 | L28: 4420 | M28: 3652 | N28: 768
A30: Datos acumulados año 2024 / 2024ko datu metatuak
A31: TH | B31: NºExptes | C31: Suspensión | D31: Hombres | E31: Mujeres | F31: Reducción | G31: Hombres | H31: Mujeres | I31: Rescisión | J31: Hombres | K31: Mujeres | L31: Total Afect. | M31: Hombres | N31: Mujeres
A32: LH | B32: Expt zb. | C32: Etendura | D32: Gizonak | E32: Emakum. | F32: Murrizketa | G32: Gizonak | H32: Emakum. | I32: Hausketa | J32: Gizonak | K32: Emakum. | L32: Guztira | M32: Gizonak | N32: Emakumeak
A33: Araba | B33: 39 | C33: 2549 | D33: 2219 | E33: 330 | F33: 52 | G33: 45 | H33: 7 | I33: 92 | J33: 49 | K33: 43 | L33: 2693 | M33: 2313 | N33: 380
A34: Gipuzkoa | B34: 95 | C34: 1730 | D34: 1500 | E34: 230 | F34: 212 | G34: 139 | H34: 73 | I34: 453 | J34: 304 | K34: 149 | L34: 2395 | M34: 1943 | N34: 452
A35: Bizkaia | B35: 124 | C35: 3813 | D35: 3188 | E35: 625 | F35: 225 | G35: 155 | H35: 70 | I35: 382 | J35: 309 | K35: 73 | L35: 4420 | M35: 3652 | N35: 768
A36: CAE | B36: 258 | C36: 8092 | D36: 6907 | E36: 1185 | F36: 489 | G36: 339 | H36: 150 | I36: 927 | J36: 662 | K36: 265 | L36: 9508 | M36: 7908 | N36: 1600
A75: Fuente: Dirección de Trabajo y Seguridad Social / Iturria: Lan eta Gizarte-Segurantza zuzendaritza | J75: Datos provisionales / Behin behineko datuak
A76: https://www.euskadi.eus/web01-s2lanju/es/contenidos/informacion/estadisticastrabajo/es_esttraba/index.shtml#empleo

Sheet R13 2024
A1: Nº de Exptes Autorizados y/o Comunicados y Personas Afectadas por Regulación de Empleo en la CAE según Rangos de Plantilla por TH - 2024
A2: Enplegu-erregulazioaren bitartez espediente baimendu edo-eta komunikatuak eta eragindako langileak EAEn plantila kopuruaren arabera, lurraldeka - 2024 | N2: 2024-12
A3: Plantilla | B3: NºExptes | C3: Suspensión | D3: Hombres | E3: Mujeres | F3: Reducción | G3: Hombres | H3: Mujeres | I3: Rescisión | J3: Hombres | K3: Mujeres | L3: Total Afect. | M3: Hombres | N3: Mujeres
A4: Plantila kopurua | B4: Expt zb. | C4: Etendura | D4: Gizonak | E4: Emakum. | F4: Murrizketa | G4: Gizonak | H4: Emakum. | I4: Hausketa | J4: Gizonak | K4: Emakum. | L4: Guztira | M4: Gizonak | N4: Emakumeak
A5: 1- Plantilla menor de 25 trabajadores | B5: 23 | C5: 90 | D5: 65 | E5: 25 | F5: 16 | G5: 13 | H5: 3 | I5: 62 | J5: 34 | K5: 28 | L5: 168 | M5: 112 | N5: 56
A6: 2- Plantilla entre 25 y 50 trabajadores | B6: 2 | C6: 28 | D6: 18 | E6: 10 | F6: 0 | G6: 0 | H6: 0 | I6: 30 | J6: 15 | K6: 15 | L6: 58 | M6: 33 | N6: 25
A7: 3- Plantilla entre 51 y 100 trabajadores | B7: 5 | C7: 229 | D7: 201 | E7: 28 | F7: 36 | G7: 32 | H7: 4 | I7: 0 | J7: 0 | K7: 0 | L7: 265 | M7: 233 | N7: 32
A8: 4- Plantilla entre 101 y 250 trabajadores | B8: 6 | C8: 784 | D8: 638 | E8: 146 | F8: 0 | G8: 0 | H8: 0 | I8: 0 | J8: 0 | K8: 0 | L8: 784 | M8: 638 | N8: 146
A9: 5- Plantilla mayor de 250 trabajadores | B9: 3 | C9: 1418 | D9: 1297 | E9: 121 | F9: 0 | G9: 0 | H9: 0 | I9: 0 | J9: 0 | K9: 0 | L9: 1418 | M9: 1297 | N9: 121
A10: ARABA | B10: 39 | C10: 2549 | D10: 2219 | E10: 330 | F10: 52 | G10: 45 | H10: 7 | I10: 92 | J10: 49 | K10: 43 | L10: 2693 | M10: 2313 | N10: 380
A11: 1- Plantilla menor de 25 trabajadores | B11: 68 | C11: 304 | D11: 236 | E11: 68 | F11: 128 | G11: 75 | H11: 53 | I11: 155 | J11: 82 | K11: 73 | L11: 587 | M11: 393 | N11: 194
A12: 2- Plantilla entre 25 y 50 trabajadores | B12: 10 | C12: 149 | D12: 110 | E12: 39 | F12: 0 | G12: 0 | H12: 0 | I12: 169 | J12: 128 | K12: 41 | L12: 318 | M12: 238 | N12: 80
A13: 3- Plantilla entre 51 y 100 trabajadores | B13: 6 | C13: 191 | D13: 182 | E13: 9 | F13: 19 | G13: 17 | H13: 2 | I13: 34 | J13: 9 | K13: 25 | L13: 244 | M13: 208 | N13: 36
A14: 4- Plantilla entre 101 y 250 trabajadores | B14: 8 | C14: 843 | D14: 771 | E14: 72 | F14: 44 | G14: 32 | H14: 12 | I14: 56 | J14: 51 | K14: 5 | L14: 943 | M14: 854 | N14: 89
A15: 5- Plantilla mayor de 250 trabajadores | B15: 3 | C15: 243 | D15: 201 | E15: 42 | F15: 21 | G15: 15 | H15: 6 | I15: 39 | J15: 34 | K15: 5 | L15: 303 | M15: 250 | N15: 53
A16: GIPUZKOA | B16: 95 | C16: 1730 | D16: 1500 | E16: 230 | F16: 212 | G16: 139 | H16: 73 | I16: 453 | J16: 304 | K16: 149 | L16: 2395 | M16: 1943 | N16: 452
... A28: CAE | B28: 258 | C28: 8092 | D28: 6907 | E28: 1185 | F28: 489 | G28: 339 | H28: 150 | I28: 927 | J28: 662 | K28: 265 | L28: 9508 | M28: 7908 | N28: 1600
A30: Datos acumulados año 2024 / 2024ko datu metatuak
A31: TH | B31: NºExptes | C31: Suspensión | D31: Hombres | E31: Mujeres | F31: Reducción | G31: Hombres | H31: Mujeres | I31: Rescisión | J31: Hombres | K31: Mujeres | L31: Total Afect. | M31: Hombres | N31: Mujeres
A32: LH | B32: Expt zb. | C32: Etendura | D32: Gizonak | E32: Emakum. | F32: Murrizketa | G32: Gizonak | H32: Emakum. | I32: Hausketa | J32: Gizonak | K32: Emakum. | L32: Guztira | M32: Gizonak | N32: Emakumeak
A33: Araba | B33: 39 | C33: 2549 | D33: 2219 | E33: 330 | F33: 52 | G33: 45 | H33: 7 | I33: 92 | J33: 49 | K33: 43 | L33: 2693 | M33: 2313 | N33: 380
A34: Gipuzkoa | B34: 95 | C34: 1730 | D34: 1500 | E34: 230 | F34: 212 | G34: 139 | H34: 73 | I34: 453 | J34: 304 | K34: 149 | L34: 2395 | M34: 1943 | N34: 452
A35: Bizkaia | B35: 124 | C35: 3813 | D35: 3188 | E35: 625 | F35: 225 | G35: 155 | H35: 70 | I35: 382 | J35: 309 | K35: 73 | L35: 4420 | M35: 3652 | N35: 768
A36: CAE | B36: 258 | C36: 8092 | D36: 6907 | E36: 1185 | F36: 489 | G36: 339 | H36: 150 | I36: 927 | J36: 662 | K36: 265 | L36: 9508 | M36: 7908 | N36: 1600
A76: Fuente: Dirección de Trabajo y Seguridad Social / Iturria: Lan eta Gizarte-Segurantza zuzendaritza | J76: Datos provisionales / Behin behineko datuak
A77: https://www.euskadi.eus/web01-s2lanju/es/contenidos/informacion/estadisticastrabajo/es_esttraba/index.shtml#empleo

Sheet R14 2024
A1: Nº de Exptes Autorizados y/o Comunicados y Personas Afectadas por Regulación de Empleo en la CAE según SA, SL y Otras por TH - 2024
A2: Enplegu-erregulazioaren bitartez espediente baimendu edo-eta komunikatuak eta eragindako langileak EAEn SA, SL eta bestelakoen arabera, lurraldeka - 2024 | N2: 2024-12
A3: Plantilla | B3: NºExptes | C3: Suspensión | D3: Hombres | E3: Mujeres | F3: Reducción | G3: Hombres | H3: Mujeres | I3: Rescisión | J3: Hombres | K3: Mujeres | L3: Total Afect. | M3: Hombres | N3: Mujeres
A4: Plantila kopurua | B4: Expt zb. | C4: Etendura | D4: Gizonak | E4: Emakum. | F4: Murrizketa | G4: Gizonak | H4: Emakum. | I4: Hausketa | J4: Gizonak | K4: Emakum. | L4: Guztira | M4: Gizonak | N4: Emakumeak
A5: 1- Sociedades Anónimas | B5: 10 | C5: 970 | D5: 807 | E5: 163 | F5: 30 | G5: 29 | H5: 1 | I5: 0 | J5: 0 | K5: 0 | L5: 1000 | M5: 836 | N5: 164
A6: 2- Sociedades Limitadas | B6: 28 | C6: 1579 | D6: 1412 | E6: 167 | F6: 22 | G6: 16 | H6: 6 | I6: 85 | J6: 49 | K6: 36 | L6: 1686 | M6: 1477 | N6: 209
A7: 3- Otras | B7: 1 | C7: 0 | D7: 0 | E7: 0 | F7: 0 | G7: 0 | H7: 0 | I7: 7 | J7: 0 | K7: 7 | L7: 7 | M7: 0 | N7: 7
A8: ARABA | B8: 39 | C8: 2549 | D8: 2219 | E8: 330 | F8: 52 | G8: 45 | H8: 7 | I8: 92 | J8: 49 | K8: 43 | L8: 2693 | M8: 2313 | N8: 380
A9: 1- Sociedades Anónimas | B9: 23 | C9: 824 | D9: 739 | E9: 85 | F9: 88 | G9: 68 | H9: 20 | I9: 206 | J9: 186 | K9: 20 | L9: 1118 | M9: 993 | N9: 125
A10: 2- Sociedades Limitadas | B10: 53 | C10: 844 | D10: 706 | E10: 138 | F10: 88 | G10: 49 | H10: 39 | I10: 191 | J10: 84 | K10: 107 | L10: 1123 | M10: 839 | N10: 284
A11: 3- Otras | B11: 19 | C11: 62 | D11: 55 | E11: 7 | F11: 36 | G11: 22 | H11: 14 | I11: 56 | J11: 34 | K11: 22 | L11: 154 | M11: 111 | N11: 43
A12: GIPUZKOA | B12: 95 | C12: 1730 | D12: 1500 | E12: 230 | F12: 212 | G12: 139 | H12: 73 | I12: 453 | J12: 304 | K12: 149 | L12: 2395 | M12: 1943 | N12: 452
A13: 1- Sociedades Anónimas | B13: 31 | C13: 2317 | D13: 2039 | E13: 278 | F13: 80 | G13: 47 | H13: 33 | I13: 166 | J13: 163 | K13: 3 | L13: 2563 | M13: 2249 | N13: 314
A14: 2- Sociedades Limitadas | B14: 78 | C14: 1341 | D14: 1071 | E14: 270 | F14: 145 | G14: 108 | H14: 37 | I14: 208 | J14: 143 | K14: 65 | L14: 1694 | M14: 1322 | N14: 372
A15: 3- Otras | B15: 15 | C15: 155 | D15: 78 | E15: 77 | F15: 0 | G15: 0 | H15: 0 | I15: 8 | J15: 3 | K15: 5 | L15: 163 | M15: 81 | N15: 82
A16: BIZKAIA | B16: 124 | C16: 3813 | D16: 3188 | E16: 625 | F16: 225 | G16: 155 | H16: 70 | I16: 382 | J16: 309 | K16: 73 | L16: 4420 | M16: 3652 | N16: 768
... A20: CAE | B20: 258 | C20: 8092 | D20: 6907 | E20: 1185 | F20: 489 | G20: 339 | H20: 150 | I20: 927 | J20: 662 | K20: 265 | L20: 9508 | M20: 7908 | N20: 1600
A22: Datos acumulados año 2024 / 2024ko datu metatuak
A23: TH | B23: NºExptes | C23: Suspensión | D23: Hombres | E23: Mujeres | F23: Reducción | G23: Hombres | H23: Mujeres | I23: Rescisión | J23: Hombres | K23: Mujeres | L23: Total Afect. | M23: Hombres | N23: Mujeres
A24: LH | B24: Expt zb. | C24: Etendura | D24: Gizonak | E24: Emakum. | F24: Murrizketa | G24: Gizonak | H24: Emakum. | I24: Hausketa | J24: Gizonak | K24: Emakum. | L24: Guztira | M24: Gizonak | N24: Emakumeak
A25: Araba | B25: 39 | C25: 2549 | D25: 2219 | E25: 330 | F25: 52 | G25: 45 | H25: 7 | I25: 92 | J25: 49 | K25: 43 | L25: 2693 | M25: 2313 | N25: 380
A26: Gipuzkoa | B26: 95 | C26: 1730 | D26: 1500 | E26: 230 | F26: 212 | G26: 139 | H26: 73 | I26: 453 | J26: 304 | K26: 149 | L26: 2395 | M26: 1943 | N26: 452
A27: Bizkaia | B27: 124 | C27: 3813 | D27: 3188 | E27: 625 | F27: 225 | G27: 155 | H27: 70 | I27: 382 | J27: 309 | K27: 73 | L27: 4420 | M27: 3652 | N27: 768
A28: CAE | B28: 258 | C28: 8092 | D28: 6907 | E28: 1185 | F28: 489 | G28: 339 | H28: 150 | I28: 927 | J28: 662 | K28: 265 | L28: 9508 | M28: 7908 | N28: 1600
A74: Fuente: Dirección de Trabajo y Seguridad Social / Iturria: Lan eta Gizarte-Segurantza zuzendaritza | J74: Datos provisionales / Behin behineko datuak
A75: https://www.euskadi.eus/web01-s2lanju/es/contenidos/informacion/estadisticastrabajo/es_esttraba/index.shtml#empleo

Sheet R15 2024
A1: Nº de Exptes Autorizados y Personas Afectadas por Regulación de Empleo en ÁLAVA por Municipio
A2: Enplegu-erregulazioaren bitartez espediente baimenduak eta eragindako langileak ARABAn, herriz herri | N2: ='R2 2024'!O56 -> 2024-12
A3: Municipio | B3: NºExptes | C3: Suspensión | D3: Hombres | E3: Mujeres | F3: Reducción | G3: Hombres | H3: Mujeres | I3: Rescisión | J3: Hombres | K3: Mujeres | L3: Total Afect. | M3: Hombres | N3: Mujeres
A4: Udalerria | B4: Expt zb. | C4: Etendura | D4: Gizonak | E4: Emakum. | F4: Murrizketa | G4: Gizonak | H4: Emakum. | I4: Hausketa | J4: Gizonak | K4: Emakum. | L4: Guztira | M4: Gizonak | N4: Emakumeak
A5: Agurain/Salvatierra
A6: Alegría-Dulantzi
A7: Amurrio | B7: 3 | C7: 906 | D7: 848 | E7: 58 | F7: 0 | G7: 0 | H7: 0 | I7: 0 | J7: 0 | K7: 0 | L7: 906 | M7: 848 | N7: 58
A8: Añana
A9: Aramaio
A10: Armiñón
A11: Arraia-Maeztu
A12: Arratzua-Ubarrundia
A13: Artziniega
A14: Asparrena
A15: Ayala/Aiara | B15: 1 | C15: 4 | D15: 3 | E15: 1 | F15: 0 | G15: 0 | H15: 0 | I15: 0 | J15: 0 | K15: 0 | L15: 4 | M15: 3 | N15: 1
A16: Baños de Ebro/Mañueta
A17: Barrundia
A18: Berantevilla
A19: Bernedo
A20: Campezo/Kanpezu
A21: Elburgo/Burgelu
A22: Elciego
A23: Elvillar/Bilar
A24: Erriberagoitia/Ribera Alta
A25: Harana/Valle de Arana
A26: Iruña Oka/Iruña de Oca | B26: 2 | C26: 74 | D26: 62 | E26: 12 | F26: 24 | G26: 24 | H26: 0 | I26: 0 | J26: 0 | K26: 0 | L26: 98 | M26: 86 | N26: 12
A27: Iruraiz-Gauna
A28: Kripan
A29: Kuartango
A30: Labastida/Bastida | B30: 1 | C30: 0 | D30: 0 | E30: 0 | F30: 6 | G30: 5 | H30: 1 | I30: 0 | J30: 0 | K30: 0 | L30: 6 | M30: 5 | N30: 1
A31: Lagrán
A32: Laguardia | B32: 1 | C32: 17 | D32: 16 | E32: 1 | F32: 0 | G32: 0 | H32: 0 | I32: 0 | J32: 0 | K32: 0 | L32: 17 | M32: 16 | N32: 1
A33: Lanciego/Lantziego
A34: Lantarón
A35: Lapuebla de Labarca
A36: Laudio/Llodio | B36: 4 | C36: 498 | D36: 474 | E36: 24 | F36: 4 | G36: 3 | H36: 1 | I36: 0 | J36: 0 | K36: 0 | L36: 502 | M36: 477 | N36: 25
A37: Legutio | B37: 1 | C37: 18 | D37: 15 | E37: 3 | F37: 0 | G37: 0 | H37: 0 | I37: 0 | J37: 0 | K37: 0 | L37: 18 | M37: 15 | N37: 3
A38: Leza
A39: Moreda de Álava/Moreda Araba
A40: Navaridas
A41: Okondo
A42: Oyón-Oion | B42: 3 | C42: 6 | D42: 6 | E42: 0 | F42: 0 | G42: 0 | H42: 0 | I42: 0 | J42: 0 | K42: 0 | L42: 6 | M42: 6 | N42: 0
A43: Peñacerrada-Urizaharra
A44: Ribera Baja/Erribera Beitia | B44: 1 | C44: 5 | D44: 4 | E44: 1 | F44: 0 | G44: 0 | H44: 0 | I44: 0 | J44: 0 | K44: 0 | L44: 5 | M44: 4 | N44: 1
A45: Samaniego
A46: San Millán/Donemiliaga
A47: Urkabustaiz | B47: 1 | C47: 11 | D47: 9 | E47: 2 | F47: 0 | G47: 0 | H47: 0 | I47: 0 | J47: 0 | K47: 0 | L47: 11 | M47: 9 | N47: 2
A48: Valdegovía/Gaubea
A49: Villabuena de Álava / Eskuernaga
A50: Vitoria-Gasteiz | B50: 21 | C50: 1010 | D50: 782 | E50: 228 | F50: 18 | G50: 13 | H50: 5 | I50: 92 | J50: 49 | K50: 43 | L50: 1120 | M50: 844 | N50: 276
A51: Yécora/Iekora
A52: Zalduondo
A53: Zambrana
A54: Zigoitia
A55: Zuia
A56: TOTAL ARABA | B56: 39 | C56: 2549 | D56: 2219 | E56: 330 | F56: 52 | G56: 45 | H56: 7 | I56: 92 | J56: 49 | K56: 43 | L56: 2693 | M56: 2313 | N56: 380
A74: Fuente: Dirección de Trabajo y Seguridad Social / Iturria: Lan eta Gizarte-Segurantza zuzendaritza | J74: Datos provisionales / Behin behineko datuak
A75: https://www.euskadi.eus/web01-s2lanju/es/contenidos/informacion/estadisticastrabajo/es_esttraba/index.shtml#empleo

Sheet R16 2024
A1: Nº de Exptes Autorizados y Personas Afectadas por Regulación de Empleo en GIPUZKOA por Municipio
A2: Enplegu-erregulazioaren bitartez espediente baimenduak eta eragindako langileak GIPUZKOAn, herriz herri | N2: ='R2 2024'!O56 -> 2024-12
A3: Municipio | B3: NºExptes | C3: Suspensión | D3: Hombres | E3: Mujeres | F3: Reducción | G3: Hombres | H3: Mujeres | I3: Rescisión | J3: Hombres | K3: Mujeres | L3: Total Afect. | M3: Hombres | N3: Mujeres
A4: Udalerria | B4: Expt zb. | C4: Etendura | D4: Gizonak | E4: Emakum. | F4: Murrizketa | G4: Gizonak | H4: Emakum. | I4: Hausketa | J4: Gizonak | K4: Emakum. | L4: Guztira | M4: Gizonak | N4: Emakumeak
A5: Abaltzisketa
A6: Aduna | B6: 1 | C6: 0 | D6: 0 | E6: 0 | F6: 3 | G6: 2 | H6: 1 | I6: 0 | J6: 0 | K6: 0 | L6: 3 | M6: 2 | N6: 1
A7: Aia
A8: Aizarnazabal
A9: Albiztur
A10: Alegia
A11: Alkiza
A12: Altzaga
A13: Altzo | B13: 1 | C13: 0 | D13: 0 | E13: 0 | F13: 0 | G13: 0 | H13: 0 | I13: 9 | J13: 8 | K13: 1 | L13: 9 | M13: 8 | N13: 1
A14: Amezketa
A15: Andoain
A16: Anoeta
A17: Antzuola
A18: Arama
A19: Aretxabaleta
A20: Arrasate/Mondragón | B20: 3 | C20: 213 | D20: 174 | E20: 39 | F20: 9 | G20: 5 | H20: 4 | I20: 15 | J20: 4 | K20: 11 | L20: 237 | M20: 183 | N20: 54
A21: Asteasu | B21: 1 | C21: 0 | D21: 0 | E21: 0 | F21: 6 | G21: 4 | H21: 2 | I21: 0 | J21: 0 | K21: 0 | L21: 6 | M21: 4 | N21: 2
A22: Astigarraga | B22: 2 | C22: 5 | D22: 5 | E22: 0 | F22: 1 | G22: 1 | H22: 0 | I22: 0 | J22: 0 | K22: 0 | L22: 6 | M22: 6 | N22: 0
A23: Ataun
A24: Azkoitia | B24: 1 | C24: 0 | D24: 0 | E24: 0 | F24: 6 | G24: 6 | H24: 0 | I24: 0 | J24: 0 | K24: 0 | L24: 6 | M24: 6 | N24: 0
A25: Azpeitia | B25: 2 | C25: 57 | D25: 57 | E25: 0 | F25: 0 | G25: 0 | H25: 0 | I25: 0 | J25: 0 | K25: 0 | L25: 57 | M25: 57 | N25: 0
A26: Baliarrain
A27: Beasain | B27: 1 | C27: 0 | D27: 0 | E27: 0 | F27: 2 | G27: 0 | H27: 2 | I27: 0 | J27: 0 | K27: 0 | L27: 2 | M27: 0 | N27: 2
A28: Beizama
A29: Belauntza | B29: 1 | C29: 4 | D29: 2 | E29: 2 | F29: 16 | G29: 12 | H29: 4 | I29: 0 | J29: 0 | K29: 0 | L29: 20 | M29: 14 | N29: 6
A30: Berastegi | B30: 1 | C30: 154 | D30: 138 | E30: 16 | F30: 0 | G30: 0 | H30: 0 | I30: 0 | J30: 0 | K30: 0 | L30: 154 | M30: 138 | N30: 16
A31: Bergara | B31: 5 | C31: 82 | D31: 76 | E31: 6 | F31: 19 | G31: 17 | H31: 2 | I31: 0 | J31: 0 | K31: 0 | L31: 101 | M31: 93 | N31: 8
A32: Berrobi
A33: Bidania-Goiatz
A34: Deba | B34: 4 | C34: 106 | D34: 98 | E34: 8 | F34: 10 | G34: 8 | H34: 2 | I34: 42 | J34: 40 | K34: 2 | L34: 158 | M34: 146 | N34: 12
A35: Donostia / San Sebastián | B35: 21 | C35: 92 | D35: 51 | E35: 41 | F35: 10 | G35: 3 | H35: 7 | I35: 186 | J35: 125 | K35: 61 | L35: 288 | M35: 179 | N35: 109
A36: Eibar | B36: 4 | C36: 19 | D36: 14 | E36: 5 | F36: 0 | G36: 0 | H36: 0 | I36: 7 | J36: 1 | K36: 6 | L36: 26 | M36: 15 | N36: 11
A37: Elduain | B37: 1 | C37: 15 | D37: 15 | E37: 0 | F37: 0 | G37: 0 | H37: 0 | I37: 0 | J37: 0 | K37: 0 | L37: 15 | M37: 15 | N37: 0
A38: Elgeta
A39: Elgoibar
A40: Errenteria | B40: 3 | C40: 10 | D40: 8 | E40: 2 | F40: 0 | G40: 0 | H40: 0 | I40: 35 | J40: 26 | K40: 9 | L40: 45 | M40: 34 | N40: 11
A41: Errezil
A42: Eskoriatza | B42: 1 | C42: 0 | D42: 0 | E42: 0 | F42: 0 | G42: 0 | H42: 0 | I42: 6 | J42: 2 | K42: 4 | L42: 6 | M42: 2 | N42: 4
A43: Ezkio-Itsaso | B43: 1 | C43: 30 | D43: 27 | E43: 3 | F43: 21 | G43: 15 | H43: 6 | I43: 0 | J43: 0 | K43: 0 | L43: 51 | M43: 42 | N43: 9
A44: Gabiria
A45: Gaintza
A46: Gaztelu
A47: Getaria | B47: 2 | C47: 18 | D47: 18 | E47: 0 | F47: 0 | G47: 0 | H47: 0 | I47: 0 | J47: 0 | K47: 0 | L47: 18 | M47: 18 | N47: 0
A48: Hernani
A49: Hernialde
A50: Hondarribia | B50: 1 | C50: 0 | D50: 0 | E50: 0 | F50: 0 | G50: 0 | H50: 0 | I50: 17 | J50: 6 | K50: 11 | L50: 17 | M50: 6 | N50: 11
A51: Ibarra
A52: Idiazabal
A53: Ikaztegieta
A54: Irun | B54: 7 | C54: 44 | D54: 19 | E54: 25 | F54: 18 | G54: 11 | H54: 7 | I54: 55 | J54: 27 | K54: 28 | L54: 117 | M54: 57 | N54: 60
A55: Irura
A56: Itsasondo | B56: 1 | C56: 0 | D56: 0 | E56: 0 | F56: 6 | G56: 1 | H56: 5 | I56: 0 | J56: 0 | K56: 0 | L56: 6 | M56: 1 | N56: 5
A57: Larraul
A58: Lasarte-Oria | B58: 1 | C58: 0 | D58: 0 | E58: 0 | F58: 0 | G58: 0 | H58: 0 | I58: 7 | J58: 7 | K58: 0 | L58: 7 | M58: 7 | N58: 0
A59: Lazkao | B59: 1 | C59: 0 | D59: 0 | E59: 0 | F59: 0 | G59: 0 | H59: 0 | I59: 6 | J59: 5 | K59: 1 | L59: 6 | M59: 5 | N59: 1
A60: Leaburu
A61: Legazpi | B61: 2 | C61: 321 | D61: 309 | E61: 12 | F61: 0 | G61: 0 | H61: 0 | I61: 0 | J61: 0 | K61: 0 | L61: 321 | M61: 309 | N61: 12
A62: Legorreta
A63: Leintz Gatzaga
A64: Lezo | B64: 1 | C64: 157 | D64: 154 | E64: 3 | F64: 28 | G64: 20 | H64: 8 | I64: 0 | J64: 0 | K64: 0 | L64: 185 | M64: 174 | N64: 11
A65: Lizartza
A66: Mendaro | B66: 1 | C66: 31 | D66: 27 | E66: 4 | F66: 0 | G66: 0 | H66: 0 | I66: 0 | J66: 0 | K66: 0 | L66: 31 | M66: 27 | N66: 4
A67: Mutiloa
A68: Mutriku | B68: 3 | C68: 12 | D68: 3 | E68: 9 | F68: 8 | G68: 2 | H68: 6 | I68: 0 | J68: 0 | K68: 0 | L68: 20 | M68: 5 | N68: 15
A69: Oiartzun | B69: 1 | C69: 54 | D69: 48 | E69: 6 | F69: 0 | G69: 0 | H69: 0 | I69: 0 | J69: 0 | K69: 0 | L69: 54 | M69: 48 | N69: 6
A70: Olaberria | B70: 1 | C70: 0 | D70: 0 | E70: 0 | F70: 13 | G70: 12 | H70: 1 | I70: 0 | J70: 0 | K70: 0 | L70: 13 | M70: 12 | N70: 1
A71: Oñati
A72: Ordizia
A73: Orendain
A74: Orexa
A75: Orio
A76: Ormaiztegi
A77: Pasaia | B77: 2 | C77: 24 | D77: 24 | E77: 0 | F77: 0 | G77: 0 | H77: 0 | I77: 0 | J77: 0 | K77: 0 | L77: 24 | M77: 24 | N77: 0
A78: Segura
A79: Soraluze-Placencia de las Armas | B79: 2 | C79: 14 | D79: 13 | E79: 1 | F79: 0 | G79: 0 | H79: 0 | I79: 15 | J79: 14 | K79: 1 | L79: 29 | M79: 27 | N79: 2
A80: Tolosa | B80: 1 | C80: 11 | D80: 11 | E80: 0 | F80: 0 | G80: 0 | H80: 0 | I80: 0 | J80: 0 | K80: 0 | L80: 11 | M80: 11 | N80: 0
A81: Urnieta | B81: 2 | C81: 101 | D81: 70 | E81: 31 | F81: 0 | G81: 0 | H81: 0 | I81: 8 | J81: 2 | K81: 6 | L81: 109 | M81: 72 | N81: 37
A82: Urretxu
A83: Usurbil | B83: 2 | C83: 1 | D83: 0 | E83: 1 | F83: 1 | G83: 1 | H83: 0 | I83: 0 | J83: 0 | K83: 0 | L83: 2 | M83: 1 | N83: 1
A84: Villabona
A85: Zaldibia | B85: 3 | C85: 33 | D85: 23 | E85: 10 | F85: 16 | G85: 11 | H85: 5 | I85: 0 | J85: 0 | K85: 0 | L85: 49 | M85: 34 | N85: 15
A86: Zarautz | B86: 1 | C86: 3 | D86: 3 | E86: 0 | F86: 0 | G86: 0 | H86: 0 | I86: 0 | J86: 0 | K86: 0 | L86: 3 | M86: 3 | N86: 0
A87: Zegama
A88: Zerain
A89: Zestoa | B89: 1 | C89: 1 | D89: 0 | E89: 1 | F89: 19 | G89: 8 | H89: 11 | I89: 0 | J89: 0 | K89: 0 | L89: 20 | M89: 8 | N89: 12
A90: Zizurkil
A91: Zumaia | B91: 4 | C91: 76 | D91: 72 | E91: 4 | F91: 0 | G91: 0 | H91: 0 | I91: 45 | J91: 37 | K91: 8 | L91: 121 | M91: 109 | N91: 12
A92: Zumarraga | B92: 1 | C92: 42 | D92: 41 | E92: 1 | F92: 0 | G92: 0 | H92: 0 | I92: 0 | J92: 0 | K92: 0 | L92: 42 | M92: 41 | N92: 1
A93: TOTAL GIPUZKOA | B93: 95 | C93: 1730 | D93: 1500 | E93: 230 | F93: 212 | G93: 139 | H93: 73 | I93: 453 | J93: 304 | K93: 149 | L93: 2395 | M93: 1943 | N93: 452
A95: Fuente: Dirección de Trabajo y Seguridad Social / Iturria: Lan eta Gizarte Segurantza Zuzendaritza | I95: Datos provisionales / Behin behineko datuak
A96: https://www.euskadi.eus/web01-s2lanju/es/contenidos/informacion/estadisticastrabajo/es_esttraba/index.shtml#empleo

Sheet R17 2024
A1: Nº de Exptes Autorizados y Personas Afectadas por Regulación de Empleo en BIZKAIA por Municipio
A2: Enplegu-erregulazioaren bitartez espediente baimenduak eta eragindako langileak BIZKAIAn, herriz herri | N2: ='R2 2024'!O56 -> 2024-12
A3: Municipio | B3: NºExptes | C3: Suspensión | D3: Hombres | E3: Mujeres | F3: Reducción | G3: Hombres | H3: Mujeres | I3: Rescisión | J3: Hombres | K3: Mujeres | L3: Total Afect. | M3: Hombres | N3: Mujeres
A4: Udalerria | B4: Expt zb. | C4: Etendura | D4: Gizonak | E4: Emakum. | F4: Murrizketa | G4: Gizonak | H4: Emakum. | I4: Hausketa | J4: Gizonak | K4: Emakum. | L4: Guztira | M4: Gizonak | N4: Emakumeak
A5: Abadiño | B5: 5 | C5: 958 | D5: 839 | E5: 119 | F5: 10 | G5: 9 | H5: 1 | I5: 0 | J5: 0 | K5: 0 | L5: 968 | M5: 848 | N5: 120
A6: Abanto y Ciérvana-Abanto Zierbena
A7: Ajangiz
A8: Alonsotegi | B8: 1 | C8: 0 | D8: 0 | E8: 0 | F8: 22 | G8: 22 | H8: 0 | I8: 0 | J8: 0 | K8: 0 | L8: 22 | M8: 22 | N8: 0
A9: Amorebieta-Etxano | B9: 3 | C9: 286 | D9: 200 | E9: 86 | F9: 4 | G9: 4 | H9: 0 | I9: 0 | J9: 0 | K9: 0 | L9: 290 | M9: 204 | N9: 86
A10: Amoroto
A11: Arakaldo
A12: Arantzazu
A13: Areatza
A14: Arrankudiaga
A15: Arratzu
A16: Arrieta
A17: Arrigorriaga | B17: 2 | C17: 0 | D17: 0 | E17: 0 | F17: 0 | G17: 0 | H17: 0 | I17: 4 | J17: 3 | K17: 1 | L17: 4 | M17: 3 | N17: 1
A18: Artea | B18: 2 | C18: 0 | D18: 0 | E18: 0 | F18: 11 | G18: 9 | H18: 2 | I18: 0 | J18: 0 | K18: 0 | L18: 11 | M18: 9 | N18: 2
A19: Artzentales
A20: Atxondo
A21: Aulesti
A22: Bakio
A23: Balmaseda
A24: Barakaldo | B24: 2 | C24: 18 | D24: 12 | E24: 6 | F24: 0 | G24: 0 | H24: 0 | I24: 0 | J24: 0 | K24: 0 | L24: 18 | M24: 12 | N24: 6
A25: Barrika
A26: Basauri | B26: 5 | C26: 158 | D26: 138 | E26: 20 | F26: 5 | G26: 2 | H26: 3 | I26: 7 | J26: 6 | K26: 1 | L26: 170 | M26: 146 | N26: 24
A27: Bedia | B27: 1 | C27: 31 | D27: 29 | E27: 2 | F27: 0 | G27: 0 | H27: 0 | I27: 0 | J27: 0 | K27: 0 | L27: 31 | M27: 29 | N27: 2
A28: Berango | B28: 1 | C28: 3 | D28: 3 | E28: 0 | F28: 0 | G28: 0 | H28: 0 | I28: 0 | J28: 0 | K28: 0 | L28: 3 | M28: 3 | N28: 0
A29: Bermeo
A30: Berriatua | B30: 1 | C30: 7 | D30: 4 | E30: 3 | F30: 11 | G30: 6 | H30: 5 | I30: 0 | J30: 0 | K30: 0 | L30: 18 | M30: 10 | N30: 8
A31: Berriz | B31: 3 | C31: 35 | D31: 23 | E31: 12 | F31: 0 | G31: 0 | H31: 0 | I31: 0 | J31: 0 | K31: 0 | L31: 35 | M31: 23 | N31: 12
A32: Bilbao | B32: 28 | C32: 296 | D32: 170 | E32: 126 | F32: 45 | G32: 30 | H32: 15 | I32: 87 | J32: 55 | K32: 32 | L32: 428 | M32: 255 | N32: 173
A33: Busturia
A34: Derio | B34: 2 | C34: 26 | D34: 26 | E34: 0 | F34: 0 | G34: 0 | H34: 0 | I34: 0 | J34: 0 | K34: 0 | L34: 26 | M34: 26 | N34: 0
A35: Dima
A36: Durango | B36: 1 | C36: 107 | D36: 95 | E36: 12 | F36: 0 | G36: 0 | H36: 0 | I36: 0 | J36: 0 | K36: 0 | L36: 107 | M36: 95 | N36: 12
A37: Ea
A38: Elantxobe
A39: Elorrio | B39: 7 | C39: 497 | D39: 411 | E39: 86 | F39: 55 | G39: 34 | H39: 21 | I39: 0 | J39: 0 | K39: 0 | L39: 552 | M39: 445 | N39: 107
A40: Erandio | B40: 1 | C40: 37 | D40: 36 | E40: 1 | F40: 0 | G40: 0 | H40: 0 | I40: 0 | J40: 0 | K40: 0 | L40: 37 | M40: 36 | N40: 1
A41: Ereño
A42: Ermua | B42: 5 | C42: 15 | D42: 2 | E42: 13 | F42: 6 | G42: 2 | H42: 4 | I42: 7 | J42: 3 | K42: 4 | L42: 28 | M42: 7 | N42: 21
A43: Errigoiti
A44: Etxebarri | B44: 2 | C44: 51 | D44: 49 | E44: 2 | F44: 0 | G44: 0 | H44: 0 | I44: 0 | J44: 0 | K44: 0 | L44: 51 | M44: 49 | N44: 2
A45: Etxebarria
A46: Forua
A47: Fruiz
A48: Galdakao | B48: 5 | C48: 38 | D48: 34 | E48: 4 | F48: 8 | G48: 6 | H48: 2 | I48: 0 | J48: 0 | K48: 0 | L48: 46 | M48: 40 | N48: 6
A49: Galdames
A50: Gamiz-Fika
A51: Garai
A52: Gatika
A53: Gautegiz Arteaga
A54: Gernika-Lumo | B54: 1 | C54: 41 | D54: 34 | E54: 7 | F54: 0 | G54: 0 | H54: 0 | I54: 0 | J54: 0 | K54: 0 | L54: 41 | M54: 34 | N54: 7
A55: Getxo | B55: 3 | C55: 41 | D55: 13 | E55: 28 | F55: 3 | G55: 0 | H55: 3 | I55: 0 | J55: 0 | K55: 0 | L55: 44 | M55: 13 | N55: 31
A56: Gizaburuaga
A57: Gordexola
A58: Gorliz
A59: Güeñes
A60: Ibarrangelu
A61: Igorre
A62: Ispaster
A63: Iurreta | B63: 3 | C63: 104 | D63: 96 | E63: 8 | F63: 0 | G63: 0 | H63: 0 | I63: 0 | J63: 0 | K63: 0 | L63: 104 | M63: 96 | N63: 8
A64: Izurtza
A65: Karrantza Harana/Valle de Carranza
A66: Kortezubi
A67: Lanestosa
A68: Larrabetzu
A69: Laukiz
A70: Leioa | B70: 3 | C70: 14 | D70: 8 | E70: 6 | F70: 0 | G70: 0 | H70: 0 | I70: 6 | J70: 3 | K70: 3 | L70: 20 | M70: 11 | N70: 9
A71: Lekeitio
A72: Lemoa | B72: 3 | C72: 7 | D72: 7 | E72: 0 | F72: 4 | G72: 3 | H72: 1 | I72: 0 | J72: 0 | K72: 0 | L72: 11 | M72: 10 | N72: 1
A73: Lemoiz
A74: Lezama
A75: Loiu
A76: Mallabia | B76: 2 | C76: 3 | D76: 3 | E76: 0 | F76: 12 | G76: 9 | H76: 3 | I76: 0 | J76: 0 | K76: 0 | L76: 15 | M76: 12 | N76: 3
A77: Mañaria
A78: Markina-Xemein
A79: Maruri-Jatabe
A80: Mendata
A81: Mendexa
A82: Meñaka
A83: Morga
A84: Mundaka
A85: Mungia
A86: Munitibar-Arbatzegi Gerrikaitz
A87: Murueta
A88: Muskiz
... A90: Nabarniz
A91: Ondarroa | B91: 2 | C91: 23 | D91: 23 | E91: 0 | F91: 0 | G91: 0 | H91: 0 | I91: 12 | J91: 12 | K91: 0 | L91: 35 | M91: 35 | N91: 0
A92: Orozko
A93: Ortuella | B93: 1 | C93: 0 | D93: 0 | E93: 0 | F93: 0 | G93: 0 | H93: 0 | I93: 12 | J93: 4 | K93: 8 | L93: 12 | M93: 4 | N93: 8
A94: Otxandio
A95: Plentzia
A96: Portugalete | B96: 3 | C96: 4 | D96: 2 | E96: 2 | F96: 0 | G96: 0 | H96: 0 | I96: 0 | J96: 0 | K96: 0 | L96: 4 | M96: 2 | N96: 2
A97: Santurtzi | B97: 3 | C97: 30 | D97: 26 | E97: 4 | F97: 10 | G97: 7 | H97: 3 | I97: 16 | J97: 13 | K97: 3 | L97: 56 | M97: 46 | N97: 10
A98: Sestao | B98: 3 | C98: 38 | D98: 36 | E98: 2 | F98: 0 | G98: 0 | H98: 0 | I98: 11 | J98: 7 | K98: 4 | L98: 49 | M98: 43 | N98: 6
A99: Sondika
A100: Sopela
A101: Sopuerta | B101: 1 | C101: 0 | D101: 0 | E101: 0 | F101: 7 | G101: 6 | H101: 1 | I101: 0 | J101: 0 | K101: 0 | L101: 7 | M101: 6 | N101: 1
...

Sheet R18 2013-2024
A1: Trabajadores/as Afectados por Regulación de Empleo en la CAE 2013 / 2024 por mes | O1: ='R2 2024'!O56 -> 2024-12
A2: Enplegu-erregulazioaren bitartez 2013 / 2024ko eragindako langileak EAEn, hilabeteka
B3: Nº de trabajadores afectados/as (Total) | I3: Eragindako langileak EAEn (Guztira)
B4: Ene | C4: Feb | D4: Mar | E4: Abr | F4: May | G4: Jun | H4: Jul | I4: Ago | J4: Sept | K4: Oct | L4: Nov | M4: Dic | N4: Total | O4: %Acum.
A5: 2013 | B5: 4198 | C5: 3938 | D5: 2826 | E5: 2844 | F5: 2305 | G5: 2503 | H5: 6018 | I5: 634 | J5: 826 | K5: 1573 | L5: 1813 | M5: 2312 | N5: 31790
A6: 2014 | B6: 3227 | C6: 1452 | D6: 2700 | E6: 1219 | F6: 833 | G6: 1631 | H6: 1185 | I6: 390 | J6: 370 | K6: 1474 | L6: 641 | M6: 1625 | N6: 16747 | O6: -47.319912
A7: 2015 | B7: 1712 | C7: 803 | D7: 1063 | E7: 628 | F7: 303 | G7: 752 | H7: 431 | I7: 163 | J7: 241 | K7: 616 | L7: 346 | M7: 1050 | N7: 8108 | O7: -51.585359
A8: 2016 | B8: 492 | C8: 840 | D8: 820 | E8: 469 | F8: 396 | G8: 790 | H8: 478 | I8: 63 | J8: 447 | K8: 219 | L8: 545 | M8: 724 | N8: 6283 | O8: -22.508633
A9: 2017 | B9: 301 | C9: 751 | D9: 378 | E9: 215 | F9: 215 | G9: 220 | H9: 238 | I9: 314 | J9: 258 | K9: 469 | L9: 209 | M9: 774 | N9: 4342 | O9: -30.892886
A10: 2018 | B10: 275 | C10: 352 | D10: 260 | E10: 68 | F10: 157 | G10: 119 | H10: 29 | I10: 87 | J10: 16 | K10: 100 | L10: 1099 | M10: 625 | N10: 3187 | O10: -26.600645
A11: 2019 | B11: 178 | C11: 189 | D11: 124 | E11: 339 | F11: 249 | G11: 107 | H11: 127 | I11: 81 | J11: 64 | K11: 421 | L11: 317 | M11: 253 | N11: 2449 | O11: -23.156574
A12: 2020 | B12: 258 | C12: 202 | D12: 61901 | E12: 71489 | F12: 20475 | G12: 8105 | H12: 4613 | I12: 1032 | J12: 3529 | K12: 3852 | L12: 29522 | M12: 5041 | N12: 210019 | O12: 8475.7044
A13: 2021 | B13: 2429 | C13: 3631 | D13: 3065 | E13: 1952 | F13: 960 | G13: 1913 | H13: 7620 | I13: 1147 | J13: 3519 | K13: 3277 | L13: 2112 | M13: 1098 | N13: 32723 | O13: -84.419029
A14: 2022 | B14: 3981 | C14: 5895 | D14: 2415 | E14: 2406 | F14: 617 | G14: 278 | H14: 271 | I14: 42 | J14: 1341 | K14: 388 | L14: 413 | M14: 1725 | N14: 19772 | O14: -39.577667
A15: 2023 | B15: 1032 | C15: 341 | D15: 451 | E15: 461 | F15: 487 | G15: 765 | H15: 1301 | I15: 533 | J15: 449 | K15: 567 | L15: 359 | M15: 658 | N15: 7404 | O15: -62.553105
A16: 2024-12 | B16: 768 | C16: 1498 | D16: 1333 | E16: 661 | F16: 559 | G16: 408 | H16: 1100 | I16: 153 | J16: 267 | K16: 1090 | L16: 814 | M16: 857 | N16: 9508 | O16: 28.417072
A17: mes anterior | B17: 16.717325 | C17: 95.052083 | D17: -11.014686 | E17: -50.412603 | F17: -15.431165 | G17: -27.012522 | H17: 169.60784 | I17: -86.090909 | J17: 74.509804 | K17: 308.2397 | L17: -25.321101 | M17: 5.2825553
A18: mes año ant. | B18: -25.581395 | C18: 339.29619 | D18: 195.56541 | E18: 43.383948 | F18: 14.784394 | G18: -46.666667 | H18: -15.449654 | I18: -71.294559 | J18: -40.534521 | K18: 92.239859 | L18: 126.74095 | M18: 30.243161
B22: Nº de Trabajadores afectados por Suspensión | I22: Eragindako langileak EAEn (Etendura) | O22: =O3 -> 0
B23: Ene | C23: Feb | D23: Mar | E23: Abr | F23: May | G23: Jun | H23: Jul | I23: Ago | J23: Sept | K23: Oct | L23: Nov | M23: Dic | N23: Total | O23: %Acum.
A24: 2013 | B24: 2897 | C24: 3120 | D24: 2152 | E24: 2124 | F24: 1572 | G24: 2024 | H24: 5361 | I24: 329 | J24: 574 | K24: 1078 | L24: 1257 | M24: 1617 | N24: 24105
A25: 2014 | B25: 2473 | C25: 954 | D25: 1986 | E25: 860 | F25: 487 | G25: 1242 | H25: 816 | I25: 123 | J25: 209 | K25: 1234 | L25: 422 | M25: 1285 | N25: 12091 | O25: -49.840282
A26: 2015 | B26: 1149 | C26: 646 | D26: 883 | E26: 426 | F26: 103 | G26: 600 | H26: 249 | I26: 101 | J26: 143 | K26: 415 | L26: 243 | M26: 760 | N26: 5718 | O26: -52.708626
A27: 2016 | B27: 293 | C27: 664 | D27: 621 | E27: 364 | F27: 306 | G27: 559 | H27: 386 | I27: 50 | J27: 122 | K27: 85 | L27: 412 | M27: 611 | N27: 4473 | O27: -21.773347
A28: 2017 | B28: 217 | C28: 595 | D28: 132 | E28: 153 | F28: 122 | G28: 192 | H28: 120 | I28: 224 | J28: 216 | K28: 273 | L28: 97 | M28: 523 | N28: 2864 | O28: -35.971384
A29: 2018 | B29: 94 | C29: 262 | D29: 168 | E29: 20 | F29: 104 | G29: 33 | H29: 24 | I29: 3 | J29: 3 | K29: 27 | L29: 1041 | M29: 520 | N29: 2299 | O29: -19.727654
A30: 2019 | B30: 103 | C30: 129 | D30: 99 | E30: 310 | F30: 224 | G30: 33 | H30: 80 | I30: 46 | J30: 47 | K30: 381 | L30: 246 | M30: 235 | N30: 1933 | O30: -15.919965
A31: 2020 | B31: 131 | C31: 154 | D31: 59689 | E31: 61388 | F31: 15211 | G31: 6224 | H31: 2922 | I31: 769 | J31: 3012 | K31: 3069 | L31: 26075 | M31: 3819 | N31: 182463 | O31: 9339.3689
A32: 2021 | B32: 1875 | C32: 2919 | D32: 1899 | E32: 1701 | F32: 755 | G32: 1724 | H32: 7465 | I32: 1028 | J32: 3445 | K32: 2828 | L32: 1863 | M32: 975 | N32: 28477 | O32: -84.393
A33: 2022 | B33: 3663 | C33: 5549 | D33: 2306 | E33: 2118 | F33: 537 | G33: 239 | H33: 230 | I33: 10 | J33: 1265 | K33: 257 | L33: 377 | M33: 1519 | N33: 18070 | O33: -36.545282
A34: 2023 | B34: 750 | C34: 271 | D34: 297 | E34: 402 | F34: 414 | G34: 533 | H34: 1198 | I34: 455 | J34: 418 | K34: 484 | L34: 279 | M34: 550 | N34: 6051 | O34: -66.513558
A35: 2024-12 | B35: 712 | C35: 1452 | D35: 1187 | E35: 586 | F35: 367 | G35: 248 | H35: 899 | I35: 53 | J35: 253 | K35: 1019 | L35: 668 | M35: 648 | N35: 8092 | O35: 33.729962
A36: mes anterior | B36: 29.454545 | C36: 103.93258 | D36: -18.250689 | E36: -50.631845 | F36: -37.372014 | G36: -32.425068 | H36: 262.5 | I36: -94.104561 | J36: 377.35849 | K36: 302.7668 | L36: -34.445535 | M36: -2.994012
A37: mes año ant. | B37: -5.0666667 | C37: 435.79336 | D37: 299.6633 | E37: 45.771144 | F37: -11.352657 | G37: -53.470919 | H37: -24.958264 | I37: -88.351648 | J37: -39.473684 | K37: 110.53719 | L37: 139.42652 | M37: 17.818182
B40: Nº de Trabajadores afectados por Reducción de jornada | I40: Eragindako langileak EAEn (Murrizketa) | O40: =O3 -> 0
B41: Ene | C41: Feb | D41: Mar | E41: Abr | F41: May | G41: Jun | H41: Jul | I41: Ago | J41: Sept | K41: Oct | L41: Nov | M41: Dic | N41: Total | O41: %Acum.
A42: 2013 | B42: 615 | C42: 340 | D42: 324 | E42: 230 | F42: 327 | G42: 228 | H42: 228 | I42: 133 | J42: 133 | K42: 204 | L42: 154 | M42: 280 | N42: 3196
A43: 2014 | B43: 216 | C43: 111 | D43: 128 | E43: 148 | F43: 120 | G43: 139 | H43: 101 | I43: 48 | J43: 61 | K43: 162 | L43: 69 | M43: 227 | N43: 1530 | O43: -52.12766
A44: 2015 | B44: 150 | C44: 153 | D44: 138 | E44: 92 | F44: 65 | G44: 154 | H44: 91 | I44: 10 | J44: 35 | K44: 132 | L44: 88 | M44: 64 | N44: 1172 | O44: -23.398693
A45: 2016 | B45: 37 | C45: 78 | D45: 57 | E45: 6 | F45: 44 | G45: 18 | H45: 4 | I45: 24 | J45: 41 | K45: 10 | L45: 97 | M45: 65 | N45: 481 | O45: -58.959044
A46: 2017 | B46: 131 | C46: 28 | D46: 6 | E46: 4 | F46: 11 | G46: 39 | H46: 5 | I46: 15 | J46: 11 | K46: 3 | L46: 49 | M46: 53 | N46: 355 | O46: -26.195426
A47: 2018 | B47: 15 | C47: 20 | D47: 12 | E47: 5 | F47: 15 | G47: 2 | H47: 7 | I47: 8 | J47: 6 | K47: 40 | L47: 71 | M47: 18 | N47: 219 | O47: -38.309859
A48: 2019 | B48: 73 | C48: 16 | D48: 2205 | E48: 9883 | F48: 5144 | G48: 1770 | H48: 1641 | I48: 201 | J48: 447 | K48: 664 | L48: 3171 | M48: 1028 | N48: 26243 | O48: 11883.105
A49: 2020 | B49: 73 | C49: 16 | D49: 2205 | E49: 9883 | F49: 5144 | G49: 1770 | H49: 1641 | I49: 201 | J49: 447 | K49: 664 | L49: 3171 | M49: 1028 | N49: 26243 | O49: 0
A50: 2021 | B50: 365 | C50: 664 | D50: 970 | E50: 177 | F50: 128 | G50: 156 | H50: 63 | I50: 84 | J50: 67 | K50: 388 | L50: 210 | M50: 60 | N50: 3332 | O50: -87.303281
A51: 2022 | B51: 318 | C51: 301 | D51: 109 | E51: 169 | F51: 64 | G51: 8 | H51: 26 | I51: 11 | J51: 45 | K51: 113 | L51: 21 | M51: 80 | N51: 1265 | O51: -62.034814
A52: 2023 | B52: 201 | C52: 31 | D52: 15 | E52: 2 | F52: 3 | G52: 86 | H52: 16 | I52: 53 | J52: 8 | K52: 36 | L52: 22 | M52: 52 | N52: 525 | O52: -58.498024
A53: 2024-12 | B53: 7 | C53: 46 | D53: 53 | E53: 12 | F53: 22 | G53: 86 | H53: 37 | I53: 27 | J53: 14 | K53: 29 | L53: 35 | M53: 121 | N53: 489 | O53: -6.8571429
A54: mes anterior | B54: -86.538462 | C54: 557.14286 | D54: 15.217391 | E54: -77.358491 | F54: 83.333333 | G54: 290.90909 | H54: -56.976744 | I54: -27.027027 | J54: -48.148148 | K54: 107.14286 | L54: 20.689655 | M54: 245.71429
A55: mes año ant. | B55: -96.517413 | C55: 48.387097 | D55: 253.33333 | E55: 500 | F55: 633.33333 | G55: 0 | H55: 131.25 | I55: -49.056604 | J55: 75 | K55: -19.444444 | L55: 59.090909 | M55: 132.69231
B58: Nº de Trabajadores afectados por Rescisión | I58: Eragindako langileak EAEn (Hausketa) | O58: =O3 -> 0
B59: Ene | C59: Feb | D59: Mar | E59: Abr | F59: May | G59: Jun | H59: Jul | I59: Ago | J59: Sept | K59: Oct | L59: Nov | M59: Dic | N59: Total | O59: %Acum.
A60: 2013 | B60: 340 | C60: 175 | D60: 93 | E60: 210 | F60: 301 | G60: 197 | H60: 107 | I60: 110 | J60: 47 | K60: 91 | L60: 74 | M60: 127 | N60: 1872
A61: 2014 | B61: 139 | C61: 158 | D61: 390 | E61: 129 | F61: 19 | G61: 161 | H61: 141 | I61: 134 | J61: 28 | K61: 36 | L61: 65 | M61: 60 | N61: 1460 | O61: -22.008547
A62: 2015 | B62: 347 | C62: 46 | D62: 52 | E62: 54 | F62: 80 | G62: 13 | H62: 81 | I62: 14 | J62: 37 | K62: 39 | L62: 34 | M62: 63 | N62: 860 | O62: -41.09589
A63: 2016 | B63: 49 | C63: 23 | D63: 61 | E63: 13 | F63: 25 | G63: 77 | H63: 1 | I63: 3 | J63: 290 | K63: 2 | L63: 45 | M63: 49 | N63: 638 | O63: -25.813953
A64: 2017 | B64: 47 | C64: 78 | D64: 189 | E64: 56 | F64: 49 | G64: 10 | H64: 114 | I64: 66 | J64: 1 | K64: 186 | L64: 15 | M64: 186 | N64: 997 | O64: 56.269592
A65: 2018 | B65: 50 | C65: 62 | D65: 86 | E65: 44 | F65: 42 | G65: 47 | H65: 0 | I65: 69 | J65: 2 | K65: 70 | L65: 9 | M65: 52 | N65: 533 | O65: -46.539619
A66: 2019 | B66: 60 | C66: 40 | D66: 13 | E66: 24 | F66: 10 | G66: 72 | H66: 40 | I66: 27 | J66: 11 | K66: 0 | L66: 0 | M66: 0 | N66: 297 | O66: -44.277674
A67: 2020 | B67: 54 | C67: 32 | D67: 7 | E67: 218 | F67: 120 | G67: 111 | H67: 50 | I67: 62 | J67: 70 | K67: 119 | L67: 276 | M67: 194 | N67: 1313 | O67: 342.08754
A68: 2021 | B68: 189 | C68: 48 | D68: 196 | E68: 74 | F68: 77 | G68: 33 | H68: 92 | I68: 35 | J68: 7 | K68: 61 | L68: 39 | M68: 63 | N68: 914 | O68: -30.388423
A69: 2022 | B69: 0 | C69: 45 | D69: 0 | E69: 119 | F69: 16 | G69: 31 | H69: 15 | I69: 21 | J69: 31 | K69: 18 | L69: 15 | M69: 126 | N69: 437 | O69: -52.188184
A70: 2023 | B70: 81 | C70: 39 | D70: 139 | E70: 57 | F70: 70 | G70: 146 | H70: 87 | I70: 25 | J70: 23 | K70: 47 | L70: 58 | M70: 56 | N70: 828 | O70: 89.473684
A71: 2024-12 | B71: 49 | C71: 0 | D71: 93 | E71: 63 | F71: 170 | G71: 74 | H71: 164 | I71: 73 | J71: 0 | K71: 42 | L71: 111 | M71: 88 | N71: 927 | O71: 11.956522
A72: mes anterior | B72: -12.5 | C72: -100 | E72: -32.258065 | F72: 169.84127 | G72: -56.470588 | H72: 121.62162 | I72: -55.487805 | J72: -100 | L72: 164.28571 | M72: -20.720721
A73: mes año ant. | B73: -39.506173 | C73: -100 | D73: -33.093525 | E73: 10.526316 | F73: 142.85714 | G73: -49.315068 | H73: 88.505747 | I73: 192 | J73: -100 | K73: -10.638298 | L73: 91.37931 | M73: 57.142857
A76: Fuente: Dirección de Trabajo y Seguridad Social / Iturria: Lan eta Gizarte Segurantza Zuzendaritza | K76: Datos provisionales / Behin behineko datuak
A77: https://www.euskadi.eus/web01-s2lanju/es/contenidos/informacion/estadisticastrabajo/es_esttraba/index.shtml#empleo

Sheet R19 1994-2024
A1: Expedientes autorizados/comunicados y trabajadores/as afectados por regulación de empleo en Euskadi 1993/2023 | M1: ='R2 2024'!$O$56 -> 2024-12
A2: Enplegu-erregulazioaren bitartez espediente aimenduak/komunikatuak eta eragindako langileak 1993eta 2023ko bitartean EAEn
A3: AÑO | B3: NºExptes | C3: D n/n-1 | D3: Suspensión/Etendura | F3: Reducción/Murrizketa | H3: Rescisión/Hausketa | J3: Total Afectados/Guztira | L3: D n/n-1
A4: URTE | B4: Espte kop. | D4: Homb./Giz. | E4: Muj/Emak. | F4: Homb/Giz. | G4: Muj/Emak. | H4: Homb/Giz. | I4: Muj/Emak. | J4: Homb/Giz. | K4: Muj/Emak. | L4: Ho. / Giz. | M4: Mu./Em.
A5: 1994 | B5: 2155 | C5: -46.68481 | D5: 38179 | F5: 1411 | H5: 8451 | J5: 48041 | L5: -44.24599
D6: 34132 | E6: 4047 | F6: 1335 | G6: 76 | H6: 7220 | I6: 1231 | J6: 42687 | K6: 5354 | L6: -44.02806 | M6: -45.924654
A7: 1995 | B7: 588 | C7: -72.714617 | D7: 12965 | F7: 2294 | H7: 5340 | J7: 20599 | L7: -57.122042
D8: 11093 | E8: 1872 | F8: 2091 | G8: 203 | H8: 4616 | I8: 724 | J8: 17800 | K8: 2799 | L8: -58.301122 | M8: -47.72133
A9: 1996 | B9: 419 | C9: -28.741497 | D9: 7696 | F9: 30 | H9: 4090 | J9: 11816 | L9: -42.637992
D10: 6655 | E10: 1041 | F10: 15 | G10: 15 | H10: 3213 | I10: 877 | J10: 9883 | K10: 1933 | L10: -44.477528 | M10: -30.939621
A11: 1997 | B11: 391 | C11: -6.6825776 | D11: 11155 | F11: 3424 | H11: 2901 | J11: 17480 | L11: 47.935003
D12: 9756 | E12: 1399 | F12: 2992 | G12: 432 | H12: 2305 | I12: 596 | J12: 15053 | K12: 2427 | L12: 52.312051 | M12: 25.55613
A13: 1998 | B13: 191 | C13: -51.150895 | D13: 3046 | F13: 2172 | H13: 2596 | J13: 7814 | L13: -55.297483
D14: 2409 | E14: 637 | F14: 1906 | G14: 266 | H14: 2255 | I14: 341 | J14: 6570 | K14: 1244 | L14: -56.354215 | M14: -48.743304
A15: 1999 | B15: 203 | C15: 6.2827225 | D15: 3441 | F15: 2129 | H15: 1473 | J15: 7043 | L15: -9.8669056
D16: 2680 | E16: 761 | F16: 1845 | G16: 284 | H16: 1176 | I16: 297 | J16: 5701 | K16: 1342 | L16: -13.226788 | M16: 7.8778135
A17: 2000 | B17: 179 | C17: -11.82266 | D17: 3442 | F17: 1064 | H17: 1751 | J17: 6257 | L17: -11.160017
D18: 2801 | E18: 641 | F18: 912 | G18: 152 | H18: 1370 | I18: 381 | J18: 5083 | K18: 1174 | L18: -10.840203 | M18: -12.518629
A19: 2001 | B19: 226 | C19: 26.256983 | D19: 4252 | F19: 32 | H19: 1508 | J19: 5792 | L19: -7.4316765
D20: 3518 | E20: 734 | F20: 23 | G20: 9 | H20: 1174 | I20: 334 | J20: 4715 | K20: 1077 | L20: -7.239819 | M20: -8.2623509
A21: 2002 | B21: 211 | C21: -6.6371681 | D21: 3331 | F21: 21 | H21: 2298 | J21: 5650 | L21: -2.4516575
D22: 2643 | E22: 688 | F22: 9 | G22: 12 | H22: 1646 | I22: 652 | J22: 4298 | K22: 1352 | L22: -8.8441145 | M22: 25.53389
A23: 2003 | B23: 292 | C23: 38.388626 | D23: 8624 | F23: 155 | H23: 3256 | J23: 12035 | L23: 113.00885
D24: 7445 | E24: 1179 | F24: 133 | G24: 22 | H24: 2546 | I24: 710 | J24: 10124 | K24: 1911 | L24: 135.55142 | M24: 41.346154
A25: 2004 | B25: 261 | C25: -10.616438 | D25: 3478 | F25: 25 | H25: 2111 | J25: 5614 | L25: -53.352721
D26: 2859 | E26: 619 | F26: 12 | G26: 13 | H26: 1715 | I26: 396 | J26: 4586 | K26: 1028 | L26: -54.701699 | M26: -46.206175
A27: 2005 | B27: 328 | C27: 25.670498 | D27: 4714 | F27: 41 | H27: 1403 | J27: 6158 | L27: 9.6900606
D28: 4212 | E28: 502 | F28: 28 | G28: 13 | H28: 930 | I28: 473 | J28: 5170 | K28: 988 | L28: 12.734409 | M28: -3.8910506
A29: 2006 | B29: 173 | C29: -47.256098 | D29: 1704 | F29: 4 | H29: 1630 | J29: 3338 | L29: -45.794089
D30: 1388 | E30: 316 | F30: 1 | G30: 3 | H30: 1285 | I30: 345 | J30: 2674 | K30: 664 | L30: -48.27853 | M30: -32.793522
A31: 2007 | B31: 282 | C31: 63.00578 | D31: 3856 | F31: 17 | H31: 942 | J31: 4815 | L31: 44.248053
D32: 3262 | E32: 594 | F32: 8 | G32: 9 | H32: 759 | I32: 183 | J32: 4029 | K32: 786 | L32: 50.673149 | M32: 18.373494
A33: 2008 | B33: 496 | C33: 75.886525 | D33: 11216 | F33: 108 | H33: 1470 | J33: 12794 | L33: 165.71132
D34: 9280 | E34: 1936 | F34: 79 | G34: 29 | H34: 1037 | I34: 433 | J34: 10396 | K34: 2398 | L34: 158.02929 | M34: 205.08906
A35: 2009 | B35: 2565 | C35: 417.1371 | D35: 65574 | F35: 1170 | H35: 1978 | J35: 68722 | L35: 437.14241
D36: 54470 | E36: 11104 | F36: 948 | G36: 222 | H36: 1519 | I36: 459 | J36: 56937 | K36: 11785 | L36: 447.6818 | M36: 391.45121
A37: 2010 | B37: 1993 | C37: -22.300195 | D37: 32349 | F37: 1051 | H37: 2026 | J37: 35426 | L37: -48.450278
D38: 26547 | E38: 5802 | F38: 751 | G38: 300 | H38: 1538 | I38: 488 | J38: 28836 | K38: 6590 | L38: -49.35455 | M38: -44.081459
A39: 2011 | B39: 1560 | C39: -21.726041 | D39: 17991 | F39: 2203 | H39: 1878 | J39: 22072 | L39: -37.695478
D40: 14615 | E40: 3376 | F40: 1398 | G40: 805 | H40: 1387 | I40: 491 | J40: 17400 | K40: 4672 | L40: -39.65876 | M40: -29.104704
A41: 2012 | B41: 2636 | C41: 68.974359 | D41: 28627 | F41: 5466 | H41: 3336 | J41: 37429 | L41: 69.576839
D42: 23550 | E42: 5077 | F42: 3491 | G42: 1975 | H42: 2717 | I42: 619 | J42: 29758 | K42: 7671 | L42: 71.022989 | M42: 64.190925
A43: 2013 | B43: 2426 | C43: -7.9666161 | D43: 24104 | F43: 5814 | H43: 1872 | J43: 31790 | L43: -15.065858
D44: 19499 | E44: 4605 | F44: 3707 | G44: 2107 | H44: 1356 | I44: 516 | J44: 24562 | K44: 7228 | L44: -17.460851 | M44: -5.7749967
A45: 2014 | B45: 1434 | C45: -40.890354 | D45: 12091 | F45: 3196 | H45: 1460 | J45: 16747 | L45: -47.319912
D46: 10084 | E46: 2007 | F46: 1984 | G46: 1212 | H46: 980 | I46: 480 | J46: 13048 | K46: 3699 | L46: -46.87729 | M46: -48.824018
A47: 2015 | B47: 695 | C47: -51.53417 | D47: 5718 | F47: 1530 | H47: 860 | J47: 8108 | L47: -51.585359
D48: 4798 | E48: 920 | F48: 997 | G48: 533 | H48: 518 | I48: 342 | J48: 6313 | K48: 1795 | L48: -51.617106 | M48: -51.473371
A49: 2016 | B49: 446 | C49: -35.827338 | D49: 4473 | F49: 1172 | H49: 638 | J49: 6283 | L49: -22.508633
D50: 3813 | E50: 660 | F50: 825 | G50: 347 | H50: 470 | I50: 168 | J50: 5108 | K50: 1175 | L50: -19.087597 | M50: -34.54039
A51: 2017 | B51: 266 | C51: -40.358744 | D51: 2864 | F51: 481 | H51: 997 | J51: 4342 | L51: -30.892886
D52: 2230 | E52: 634 | F52: 274 | G52: 207 | H52: 683 | I52: 314 | J52: 3187 | K52: 1155 | L52: -37.607674 | M52: -1.7021277
A53: 2018 | B53: 187 | C53: -29.699248 | D53: 2299 | F53: 355 | H53: 533 | J53: 3187 | L53: -26.600645
D54: 1981 | E54: 318 | F54: 213 | G54: 142 | H54: 388 | I54: 145 | J54: 2582 | K54: 605 | L54: -18.98337 | M54: -47.619048
A55: 2019 | B55: 173 | C55: -7.486631 | D55: 1933 | F55: 219 | H55: 297 | J55: 2449 | L55: -23.156574
D56: 1527 | E56: 406 | F56: 103 | G56: 116 | H56: 178 | I56: 119 | J56: 1808 | K56: 641 | L56: -29.976762 | M56: 5.9504132
A57: 2020 | B57: 30690 | C57: 16311.765 | D57: 182463 | F57: 26243 | H57: 1313 | J57: 210019 | L57: 8475.7044
D58: 101358 | E58: 81105 | F58: 15593 | G58: 10650 | H58: 991 | I58: 322 | J58: 117942 | K58: 92077 | L58: 6423.3407 | M58: 14264.587
A59: 2021 | B59: 1858 | C59: -93.945911 | D59: 28477 | F59: 3332 | H59: 914 | J59: 32723 | L59: -84.419029
D60: 21556 | E60: 6921 | F60: 2101 | G60: 1231 | H60: 608 | I60: 306 | J60: 24265 | K60: 8458 | L60: -79.426328 | M60: -90.81421
A61: 2022 | B61: 565 | C61: -98.159009 | D61: 18070 | F61: 1265 | H61: 437 | J61: 19772 | L61: -90.585614
D62: 14352 | E62: 3718 | F62: 786 | G62: 479 | H62: 283 | I62: 154 | J62: 15421 | K62: 4351 | L62: -86.924929 | M62: -95.274607
A63: 2023 | B63: 276 | C63: -85.145318 | D63: 6051 | F63: 525 | H63: 828 | J63: 7404 | L63: -77.373713
D64: 4980 | E64: 1071 | F64: 364 | G64: 161 | H64: 478 | I64: 350 | J64: 5822 | K64: 1582 | L64: -76.006594 | M64: -81.295815
A65: =M1 -> 2024-12 | B65: 258 | C65: -54.336283 | D65: 8092 | F65: 489 | H65: 927 | J65: 9508 | L65: -51.911794
D66: 6907 | E66: 1185 | F66: 339 | G66: 150 | H66: 662 | I66: 265 | J66: 7908 | K66: 1600 | L66: -48.719279 | M66: -63.226844
A71: Fuente: Dirección de Trabajo y Seguridad Social / Iturria: Lan eta Gizarte Segurantza Zuzendaritza | J71: Datos provisionales / Behin behineko datuak
A72: https://www.euskadi.eus/web01-s2lanju/es/contenidos/informacion/estadisticastrabajo/es_esttraba/index.shtml#empleo
