Workbook

Sheet Índice
A1: Índice | C1: Expedientes de regulación de empleo / Enplegu-erregulazioaren espedienteak | N1: ='R2 2024'!O56 -> 2024-12
A7: 1 - | B7: ='R1 2024'!A3 -> Nº de Expedientes de regulación de empleo y personas afectadas en la CAE. Datos acumulados año 2024
B8: ='R1 2024'!A4 -> Enplegu-erregulazioaren bitartez 2024ko espedienteak eta eragindako langileak EAEn, hilabeteka eta lurraldeka. Datu metatuak 2024ko urtean
A10: 2 - | B10: ='R2 2024'!A1 -> Expedientes de regulación de empleo Autorizados / Comunicados y Personas Afectadas por Regulación de Empleo en la CAE en 2024 por mes y TH
B11: ='R2 2024'!A2 -> Enplegu-erregulazioaren bitartez 2024ko espediente baimendu eta/edo komunikatuak eta eragindako langileak EAEn, hilabeteka eta lurraldeka
A13: 3 - | B13: ='R3 2024'!B1 -> Nº de Exptes de Regulación de Empleo Autorizados y/o Comunicados en la CAE en 2024 por mes, TH y Tipo
B14: ='R3 2024'!B2 -> Enplegu-erregulazioaren bitartez 2024ko espediente baimendu edo/eta komunikatuak EAEn, hilabeteka, lurraldeka eta motaren arabera
A16: 4 - | B16: ='R4 2024'!A1 -> Exptes. ETOP Autorizados-Comunicados / Acordados y Personas Afectadas en la CAE en 2024 (exceptuados exptes Fuerza Mayor)
B17: ='R4 2024'!A2 -> EAEn izandako ETOP enplegu-erregulazioko espedienteak, eragindako langileak eta hitzartutakoen portzentaiak ("ezinbesteko" espedienteak izan ezik) - 2024
A19: 5 - | B19: ='R5 2024'!A1 -> Nº de Exptes Autorizados y/o Comunicados / Acordados en la CAE en 2024 exceptuados exptes Fuerza Mayor
B20: EAEn izandako enplegu-erregulazioko espedienteak eta hitzartutakoen portzentajeak ("ezinbesteko" espedienteak izan ezik) - 2022
A22: 6 - | B22: ='R6 2024'!A1 -> Expedientes de Regulación de Empleo Autorizados / Comunicados y afectados/as por TH y Sector de Actividad Económica en la CAE en 2024
B23: ='R6 2024'!A2 -> Enplegu-erregulazioaren bitartez 2024ko espediente baimendu edo-eta komunikatuak eta eragindako langileak EAEn, lurraldeka eta sektor ekonomikoaren arabera
A25: 7 - | B25: ='R7 2024'!A1 -> Nº de Exptes Autorizados y/o Comunicados y Personas Afectadas por Regulación de Empleo en la CAE por Ramas de Actividad según CNAE-2009
B26: ='R7 2024'!A2 -> Enplegu-erregulazioaren bitartez espediente baimendu edo-eta komunikatuak eta eragindako langileak EAEn 2009ko jardun-kodearen arabera
A28: 8 - | B28: ='R8 2024'!A1 -> Nº de Exptes Autorizados y/o Comunicados y Personas Afectadas por Regulación de Empleo en ÁLAVA por Ramas de Actividad según CNAE-2009
B29: ='R8 2024'!A2 -> Enplegu-erregulazioaren bitartez espediente baimendu edo-eta komunikatuak eta eragindako langileak ARABAn 2009ko jardun-kodearen arabera
A31: 9 - | B31: ='R9 2024'!A1 -> Nº de Exptes Autorizados y/o Comunicados y Personas Afectadas por Regulación de Empleo en GIPUZKOA por Ramas de Actividad según CNAE-2009
B32: ='R9 2024'!A2 -> Enplegu-erregulazioaren bitartez espediente baimendu edo-eta komunikatuak eta eragindako langileak GIPUZKOAn 2009ko jardun-kodearen arabera
A34: 10 - | B34: ='R10 2024'!A1 -> Nº de Exptes Autorizados y/o Comunicados y Personas Afectadas por Regulación de Empleo en BIZKAIA por Ramas de Actividad según CNAE-2009
B35: ='R10 2024'!A2 -> Enplegu-erregulazioaren bitartez espediente baimendu edo-eta komunikatuak eta eragindako langileak BIZKAIAn 2009ko jardun-kodearen arabera
A37: 11 - | B37: ='R11 2024'!A1 -> Nº de Exptes Autorizados y/o Comunicados y Personas Afectadas por Regulación de Empleo en la CAE según Causa por TH - 2024
B38: ='R11 2024'!A2 -> Enplegu-erregulazioaren bitartez espediente baimendu edo-eta komunikatuak eta eragindako langileak EAEn kausaren arabera, lurraldeka - 2024
A40: 12 - | B40: ='R12 2024'!A1 -> Nº de Exptes Autorizados y/o Comunicados y Personas Afectadas por Regulación de Empleo en la CAE por Comarcas y TH - 2024
B41: ='R12 2024'!A2 -> Enplegu-erregulazioaren bitartez espediente baimendu edo-eta komunikatuak eta eragindako langileak EAEn, eskualdeka eta lurraldeka
A43: 13 - | B43: ='R13 2024'!A1 -> Nº de Exptes Autorizados y/o Comunicados y Personas Afectadas por Regulación de Empleo en la CAE según Rangos de Plantilla por TH - 2024
B44: ='R13 2024'!A2 -> Enplegu-erregulazioaren bitartez espediente baimendu edo-eta komunikatuak eta eragindako langileak EAEn plantila kopuruaren arabera, lurraldeka - 2024
A46: 14 - | B46: ='R14 2024'!A1 -> Nº de Exptes Autorizados y/o Comunicados y Personas Afectadas por Regulación de Empleo en la CAE según SA, SL y Otras por TH - 2024
B47: ='R14 2024'!A2 -> Enplegu-erregulazioaren bitartez espediente baimendu edo-eta komunikatuak eta eragindako langileak EAEn SA, SL eta bestelakoen arabera, lurraldeka - 2024
A49: 15 - | B49: ='R15 2024'!A1 -> Nº de Exptes Autorizados y Personas Afectadas por Regulación de Empleo en ÁLAVA por Municipio
B50: ='R15 2024'!A2 -> Enplegu-erregulazioaren bitartez espediente baimenduak eta eragindako langileak ARABAn, herriz herri
A52: 16 - | B52: ='R16 2024'!A1 -> Nº de Exptes Autorizados y Personas Afectadas por Regulación de Empleo en GIPUZKOA por Municipio
B53: ='R16 2024'!A2 -> Enplegu-erregulazioaren bitartez espediente baimenduak eta eragindako langileak GIPUZKOAn, herriz herri
A55: 17 - | B55: ='R17 2024'!A1 -> Nº de Exptes Autorizados y Personas Afectadas por Regulación de Empleo en BIZKAIA por Municipio
B56: ='R17 2024'!A2 -> Enplegu-erregulazioaren bitartez espediente baimenduak eta eragindako langileak BIZKAIAn, herriz herri
A58: 18 - | B58: ='R18 2013-2024'!A1 -> Trabajadores/as Afectados por Regulación de Empleo en la CAE 2013 / 2024 por mes
B59: ='R18 2013-2024'!A2 -> Enplegu-erregulazioaren bitartez 2013 / 2024ko eragindako langileak EAEn, hilabeteka
A61: 19 - | B61: ='R19 1994-2024'!A1 -> Expedientes autorizados/comunicados y trabajadores/as afectados por regulación de empleo en Euskadi 1993/2023
B62: ='R19 1994-2024'!A2 -> Enplegu-erregulazioaren bitartez espediente aimenduak/komunikatuak eta eragindako langileak 1993eta 2023ko bitartean EAEn
A68: Fuente: Dirección de Trabajo y Seguridad Social / Iturria: Lan eta Gizarte Segurantza Zuzendaritza | F68: Datos provisionales / Behin behineko datuak
...

Sheet R1 2024
A3: Nº de Expedientes de regulación de empleo y personas afectadas en la CAE. Datos acumulados año 2024
A4: Enplegu-erregulazioaren bitartez 2024ko espedienteak eta eragindako langileak EAEn, hilabeteka eta lurraldeka. Datu metatuak 2024ko urtean | P4: 2024-12
A5: Urte | B5: Emaitza | C5: LH | D5: Expt zb. | E5: Etendura | F5: Gizonak | G5: Emakum. | H5: Murrizketa | I5: Gizonak | J5: Emakum. | K5: Hausketa | L5: Gizonak | M5: Emakum. | N5: Guztira | O5: Gizonak | P5: Emakum.
A6: Año | B6: Resultado | C6: TH | D6: Nº Exptes | E6: Suspensión | F6: TotalH | G6: TotalM | H6: Reducción | I6: TotalH | J6: TotalM | K6: Rescisión | L6: TotalH | M6: TotalM | N6: Total | O6: TotalH | P6: TotalM
C7: Araba | D7: 39 | E7: 2549 | F7: 2219 | G7: 330 | H7: 52 | I7: 45 | J7: 7 | K7: 92 | L7: 49 | M7: 43 | N7: 2693 | O7: 2313 | P7: 380
C8: Gipuzkoa | D8: 95 | E8: 1730 | F8: 1500 | G8: 230 | H8: 212 | I8: 139 | J8: 73 | K8: 453 | L8: 304 | M8: 149 | N8: 2395 | O8: 1943 | P8: 452
C9: Bizkaia | D9: 124 | E9: 3813 | F9: 3188 | G9: 625 | H9: 225 | I9: 155 | J9: 70 | K9: 382 | L9: 309 | M9: 73 | N9: 4420 | O9: 3652 | P9: 768
B10: Autorizado y/o Comunicado | C10: CAE | D10: 258 | E10: 8092 | F10: 6907 | G10: 1185 | H10: 489 | I10: 339 | J10: 150 | K10: 927 | L10: 662 | M10: 265 | N10: 9508 | O10: 7908 | P10: 1600
C11: Araba | D11: 8 | E11: 155 | F11: 132 | G11: 23 | H11: 5 | I11: 4 | J11: 1 | K11: 38 | L11: 22 | M11: 16 | N11: 198 | O11: 158 | P11: 40
C12: Gipuzkoa | D12: 17 | E12: 89 | F12: 71 | G12: 18 | H12: 19 | I12: 11 | J12: 8 | K12: 80 | L12: 66 | M12: 14 | N12: 188 | O12: 148 | P12: 40
C13: Bizkaia | D13: 39 | E13: 623 | F13: 495 | G13: 128 | H13: 58 | I13: 45 | J13: 13 | K13: 64 | L13: 54 | M13: 10 | N13: 745 | O13: 594 | P13: 151
B14: Desistidos | C14: CAE | D14: 64 | E14: 867 | F14: 698 | G14: 169 | H14: 82 | I14: 60 | J14: 22 | K14: 182 | L14: 142 | M14: 40 | N14: 1131 | O14: 900 | P14: 231
C15: Araba | D15: 0 | E15: 0 | F15: 0 | G15: 0 | H15: 0 | I15: 0 | J15: 0 | K15: 0 | L15: 0 | M15: 0 | N15: 0 | O15: 0 | P15: 0
C16: Gipuzkoa | D16: 2 | E16: 15 | F16: 9 | G16: 6 | H16: 0 | I16: 0 | J16: 0 | K16: 0 | L16: 0 | M16: 0 | N16: 15 | O16: 9 | P16: 6
C17: Bizkaia | D17: 4 | E17: 46 | F17: 23 | G17: 23 | H17: 0 | I17: 0 | J17: 0 | K17: 0 | L17: 0 | M17: 0 | N17: 46 | O17: 23 | P17: 23
B18: No Autorizados | C18: CAE | D18: 6 | E18: 61 | F18: 32 | G18: 29 | H18: 0 | I18: 0 | J18: 0 | K18: 0 | L18: 0 | M18: 0 | N18: 61 | O18: 32 | P18: 29
C19: Araba | D19: 0 | E19: 0 | F19: 0 | G19: 0 | H19: 0 | I19: 0 | J19: 0 | K19: 0 | L19: 0 | M19: 0 | N19: 0 | O19: 0 | P19: 0
C20: Gipuzkoa | D20: 0 | E20: 0 | F20: 0 | G20: 0 | H20: 0 | I20: 0 | J20: 0 | K20: 0 | L20: 0 | M20: 0 | N20: 0 | O20: 0 | P20: 0
C21: Bizkaia | D21: 0 | E21: 0 | F21: 0 | G21: 0 | H21: 0 | I21: 0 | J21: 0 | K21: 0 | L21: 0 | M21: 0 | N21: 0 | O21: 0 | P21: 0
B22: Archivados | C22: CAE | D22: 0 | E22: 0 | F22: 0 | G22: 0 | H22: 0 | I22: 0 | J22: 0 | K22: 0 | L22: 0 | M22: 0 | N22: 0 | O22: 0 | P22: 0
A23: Total | B23: Total | C23: Araba | D23: 47 | E23: 2704 | F23: 2351 | G23: 353 | H23: 57 | I23: 49 | J23: 8 | K23: 130 | L23: 71 | M23: 59 | N23: 2891 | O23: 2471 | P23: 420
A24: Acum. | B24: Total | C24: Gipuzkoa | D24: 114 | E24: 1834 | F24: 1580 | G24: 254 | H24: 231 | I24: 150 | J24: 81 | K24: 533 | L24: 370 | M24: 163 | N24: 2598 | O24: 2100 | P24: 498
A25: Año | B25: Total | C25: Bizkaia | D25: 167 | E25: 4482 | F25: 3706 | G25: 776 | H25: 283 | I25: 200 | J25: 83 | K25: 446 | L25: 363 | M25: 83 | N25: 5211 | O25: 4269 | P25: 942
A26: 2024 | B26: TOTAL | C26: CAE | D26: 328 | E26: 9020 | F26: 7637 | G26: 1383 | H26: 571 | I26: 399 | J26: 172 | K26: 1109 | L26: 804 | M26: 305 | N26: 10700 | O26: 8840 | P26: 1860
A65: Fuente: Dirección de Trabajo y Seguridad Social / Iturria: Lan eta Gizarte Segurantza Zuzendaritza | L65: Datos provisionales / Behin behineko datuak
A66: https://www.euskadi.eus/web01-s2lanju/es/contenidos/informacion/estadisticastrabajo/es_esttraba/index.shtml#empleo

Sheet R2 2024
A1: Expedientes de regulación de empleo Autorizados / Comunicados y Personas Afectadas por Regulación de Empleo en la CAE en 2024 por mes y TH
A2: Enplegu-erregulazioaren bitartez 2024ko espediente baimendu eta/edo komunikatuak eta eragindako langileak EAEn, hilabeteka eta lurraldeka
A4: Mes | B4: TH | C4: NºExptes | D4: Suspensión | E4: H. | F4: M. | G4: Reducción | H4: H. | I4: M. | J4: Rescisión | K4: H. | L4: M. | M4: Total Afect. | N4: Hombres | O4: Mujeres
A5: Hilab. | B5: LH | C5: Expt zb. | D5: Etendura | E5: G. | F5: E. | G5: Murrizketa | H5: G. | I5: E. | J5: Hausketa | K5: G. | L5: E. | M5: Guztira | N5: Gizonak | O5: Emakumeak
B6: Araba | C6: 2 | D6: 200 | E6: 184 | F6: 16 | G6: 0 | J6: 0 | M6: 200 | N6: 184 | O6: 16
B7: Gipuzkoa | C7: 9 | D7: 205 | E7: 165 | F7: 40 | G7: 4 | H7: 2 | I7: 2 | J7: 45 | K7: 39 | L7: 6 | M7: 254 | N7: 206 | O7: 48
B8: Bizkaia | C8: 10 | D8: 307 | E8: 211 | F8: 96 | G8: 3 | I8: 3 | J8: 4 | K8: 1 | L8: 3 | M8: 314 | N8: 212 | O8: 102
A9: 1 | B9: CAE | C9: 21 | D9: 712 | E9: 560 | F9: 152 | G9: 7 | H9: 2 | I9: 5 | J9: 49 | K9: 40 | L9: 9 | M9: 768 | N9: 602 | O9: 166
B10: Araba | C10: 3 | D10: 850 | E10: 794 | F10: 56 | G10: 0 | H10: 0 | I10: 0 | J10: 0 | K10: 0 | L10: 0 | M10: 850 | N10: 794 | O10: 56
B11: Gipuzkoa | C11: 9 | D11: 37 | E11: 29 | F11: 8 | G11: 31 | H11: 19 | I11: 12 | J11: 0 | K11: 0 | L11: 0 | M11: 68 | N11: 48 | O11: 20
B12: Bizkaia | C12: 15 | D12: 565 | E12: 516 | F12: 49 | G12: 15 | H12: 10 | I12: 5 | J12: 0 | K12: 0 | L12: 0 | M12: 580 | N12: 526 | O12: 54
A13: 2 | B13: CAE | C13: 27 | D13: 1452 | E13: 1339 | F13: 113 | G13: 46 | H13: 29 | I13: 17 | J13: 0 | K13: 0 | L13: 0 | M13: 1498 | N13: 1368 | O13: 130
B14: Araba | C14: 8 | D14: 60 | E14: 60 | F14: 0 | G14: 35 | H14: 33 | I14: 2 | J14: 35 | K14: 27 | L14: 8 | M14: 130 | N14: 120 | O14: 10
B15: Gipuzkoa | C15: 9 | D15: 49 | E15: 37 | F15: 12 | G15: 8 | H15: 8 | I15: 0 | J15: 30 | K15: 11 | L15: 19 | M15: 87 | N15: 56 | O15: 31
B16: Bizkaia | C16: 11 | D16: 1078 | E16: 977 | F16: 101 | G16: 10 | H16: 7 | I16: 3 | J16: 28 | K16: 17 | L16: 11 | M16: 1116 | N16: 1001 | O16: 115
A17: 3 | B17: CAE | C17: 28 | D17: 1187 | E17: 1074 | F17: 113 | G17: 53 | H17: 48 | I17: 5 | J17: 93 | K17: 55 | L17: 38 | M17: 1333 | N17: 1177 | O17: 156
B18: Araba | C18: 5 | D18: 497 | E18: 376 | F18: 121 | G18: 12 | H18: 8 | I18: 4 | J18: 0 | K18: 0 | L18: 0 | M18: 509 | N18: 384 | O18: 125
B19: Gipuzkoa | C19: 6 | D19: 24 | E19: 20 | F19: 4 | G19: 0 | H19: 0 | I19: 0 | J19: 63 | K19: 39 | L19: 24 | M19: 87 | N19: 59 | O19: 28
B20: Bizkaia | C20: 5 | D20: 65 | E20: 49 | F20: 16 | G20: 0 | H20: 0 | I20: 0 | J20: 0 | K20: 0 | L20: 0 | M20: 65 | N20: 49 | O20: 16
A21: 4 | B21: CAE | C21: 16 | D21: 586 | E21: 445 | F21: 141 | G21: 12 | H21: 8 | I21: 4 | J21: 63 | K21: 39 | L21: 24 | M21: 661 | N21: 492 | O21: 169
B22: Araba | C22: 5 | D22: 209 | E22: 178 | F22: 31 | G22: 0 | H22: 0 | I22: 0 | J22: 0 | K22: 0 | L22: 0 | M22: 209 | N22: 178 | O22: 31
B23: Gipuzkoa | C23: 3 | D23: 43 | E23: 19 | F23: 24 | G23: 5 | H23: 4 | I23: 1 | J23: 17 | K23: 6 | L23: 11 | M23: 65 | N23: 29 | O23: 36
B24: Bizkaia | C24: 7 | D24: 115 | E24: 90 | F24: 25 | G24: 17 | H24: 7 | I24: 10 | J24: 153 | K24: 148 | L24: 5 | M24: 285 | N24: 245 | O24: 40
A25: 5 | B25: CAE | C25: 15 | D25: 367 | E25: 287 | F25: 80 | G25: 22 | H25: 11 | I25: 11 | J25: 170 | K25: 154 | L25: 16 | M25: 559 | N25: 452 | O25: 107
B26: Araba | C26: 2 | D26: 31 | E26: 21 | F26: 10 | G26: 0 | H26: 0 | I26: 0 | J26: 0 | K26: 0 | L26: 0 | M26: 31 | N26: 21 | O26: 10
B27: Gipuzkoa | C27: 9 | D27: 108 | E27: 97 | F27: 11 | G27: 9 | H27: 2 | I27: 7 | J27: 22 | K27: 14 | L27: 8 | M27: 139 | N27: 113 | O27: 26
B28: Bizkaia | C28: 14 | D28: 109 | E28: 47 | F28: 62 | G28: 77 | H28: 55 | I28: 22 | J28: 52 | K28: 31 | L28: 21 | M28: 238 | N28: 133 | O28: 105
A29: 6 | B29: CAE | C29: 25 | D29: 248 | E29: 165 | F29: 83 | G29: 86 | H29: 57 | I29: 29 | J29: 74 | K29: 45 | L29: 29 | M29: 408 | N29: 267 | O29: 141
B30: Araba | C30: 3 | D30: 299 | E30: 286 | F30: 13 | G30: 5 | H30: 4 | I30: 1 | J30: 30 | K30: 15 | L30: 15 | M30: 334 | N30: 305 | O30: 29
B31: Gipuzkoa | C31: 11 | D31: 376 | E31: 338 | F31: 38 | G31: 19 | H31: 17 | I31: 2 | J31: 105 | K31: 62 | L31: 43 | M31: 500 | N31: 417 | O31: 83
B32: Bizkaia | C32: 11 | D32: 224 | E32: 145 | F32: 79 | G32: 13 | H32: 7 | I32: 6 | J32: 29 | K32: 18 | L32: 11 | M32: 266 | N32: 170 | O32: 96
A33: 7 | B33: CAE | C33: 25 | D33: 899 | E33: 769 | F33: 130 | G33: 37 | H33: 28 | I33: 9 | J33: 164 | K33: 95 | L33: 69 | M33: 1100 | N33: 892 | O33: 208
B34: Araba | C34: 1 | D34: 0 | E34: 0 | F34: 0 | G34: 0 | H34: 0 | I34: 0 | J34: 9 | K34: 4 | L34: 5 | M34: 9 | N34: 4 | O34: 5
B35: Gipuzkoa | C35: 6 | D35: 9 | E35: 4 | F35: 5 | G35: 16 | H35: 12 | I35: 4 | J35: 64 | K35: 57 | L35: 7 | M35: 89 | N35: 73 | O35: 16
B36: Bizkaia | C36: 6 | D36: 44 | E36: 38 | F36: 6 | G36: 11 | H36: 9 | I36: 2 | J36: 0 | K36: 0 | L36: 0 | M36: 55 | N36: 47 | O36: 8
A37: 8 | B37: CAE | C37: 13 | D37: 53 | E37: 42 | F37: 11 | G37: 27 | H37: 21 | I37: 6 | J37: 73 | K37: 61 | L37: 12 | M37: 153 | N37: 124 | O37: 29
B38: Araba | C38: 0 | D38: 0 | E38: 0 | F38: 0 | G38: 0 | H38: 0 | I38: 0 | J38: 0 | K38: 0 | L38: 0 | M38: 0 | N38: 0 | O38: 0
B39: Gipuzkoa | C39: 2 | D39: 229 | E39: 185 | F39: 44 | G39: 0 | H39: 0 | I39: 0 | J39: 0 | K39: 0 | L39: 0 | M39: 229 | N39: 185 | O39: 44
B40: Bizkaia | C40: 5 | D40: 24 | E40: 17 | F40: 7 | G40: 14 | H40: 7 | I40: 7 | J40: 0 | K40: 0 | L40: 0 | M40: 38 | N40: 24 | O40: 14
A41: 9 | B41: CAE | C41: 7 | D41: 253 | E41: 202 | F41: 51 | G41: 14 | H41: 7 | I41: 7 | J41: 0 | K41: 0 | L41: 0 | M41: 267 | N41: 209 | O41: 58
...

Sheet R3 2024
B1: Nº de Exptes de Regulación de Empleo Autorizados y/o Comunicados en la CAE en 2024 por mes, TH y Tipo
B2: Enplegu-erregulazioaren bitartez 2024ko espediente baimendu edo/eta komunikatuak EAEn, hilabeteka, lurraldeka eta motaren arabera
B3: Mes | C3: TH | D3: Nº Exptes Total | E3: Suspensión | F3: Reducción | G3: Rescisión
B4: Hilab. | C4: LH | D4: Expt zb. | E4: Etendura | F4: Murrizketa | G4: Hausketa
C5: Araba | D5: 2 | E5: 2
C6: Gipuzkoa | D6: 9 | E6: 7 | F6: 1 | G6: 1
C7: Bizkaia | D7: 10 | E7: 9 | G7: 1
B8: 1 | C8: CAE | D8: 21 | E8: 18 | F8: 1 | G8: 2
C9: Araba | D9: 3 | E9: 3
C10: Gipuzkoa | D10: 9 | E10: 5 | F10: 4
C11: Bizkaia | D11: 15 | E11: 14 | F11: 1
B12: 2 | C12: CAE | D12: 27 | E12: 22 | F12: 5 | G12: 0
C13: Araba | D13: 8 | E13: 1 | F13: 4 | G13: 3
C14: Gipuzkoa | D14: 9 | E14: 4 | F14: 2 | G14: 3
C15: Bizkaia | D15: 11 | E15: 9 | G15: 2
B16: 3 | C16: CAE | D16: 28 | E16: 14 | F16: 6 | G16: 8
C17: Araba | D17: 5 | E17: 5
C18: Gipuzkoa | D18: 6 | E18: 3 | G18: 3
C19: Bizkaia | D19: 5 | E19: 5
B20: 4 | C20: CAE | D20: 16 | E20: 13 | F20: 0 | G20: 3
C21: Araba | D21: 6 | E21: 5 | F21: 1
C22: Gipuzkoa | D22: 2 | E22: 1 | G22: 1
C23: Bizkaia | D23: 7 | E23: 3 | F23: 2 | G23: 2
B24: 5 | C24: CAE | D24: 15 | E24: 9 | F24: 3 | G24: 3
C25: Araba | D25: 2 | E25: 2
C26: Gipuzkoa | D26: 9 | E26: 4 | F26: 2 | G26: 3
C27: Bizkaia | D27: 14 | E27: 6 | F27: 3 | G27: 5
B28: 6 | C28: CAE | D28: 25 | E28: 12 | F28: 5 | G28: 8
C29: Araba | D29: 3 | E29: 1 | F29: 1 | G29: 1
C30: Gipuzkoa | D30: 11 | E30: 7 | G30: 4
C31: Bizkaia | D31: 11 | E31: 4 | F31: 2 | G31: 5
B32: 7 | C32: CAE | D32: 25 | E32: 12 | F32: 3 | G32: 10
C33: Araba | D33: 1 | G33: 1
C34: Gipuzkoa | D34: 6 | E34: 4 | G34: 2
C35: Bizkaia | D35: 6 | E35: 4 | F35: 2
B36: 8 | C36: CAE | D36: 13 | E36: 8 | F36: 2 | G36: 3
C37: Araba | D37: 0
C38: Gipuzkoa | D38: 2 | E38: 2
C39: Bizkaia | D39: 5 | E39: 3 | F39: 2
B40: 9 | C40: CAE | D40: 7 | E40: 5 | F40: 2 | G40: 0
...

Sheet R4 2024
A1: Exptes. ETOP Autorizados-Comunicados / Acordados y Personas Afectadas en la CAE en 2024 (exceptuados exptes Fuerza Mayor)
A2: EAEn izandako ETOP enplegu-erregulazioko espedienteak, eragindako langileak eta hitzartutakoen portzentaiak ("ezinbesteko" espedienteak izan ezik) - 2024 | Q2: ='R1 2024'!P4 -> 2024-12
A3: Mes | B3: Territorio | C3: Nº Exptes | F3: Afectados/as Suspensión | I3: Afectados/as Reducción | L3: Afectados/as Rescisión | O3: Afectados/as Total
A4: Hilab. | B4: Lurralde | C4: Autorizados | D4: Acordados | E4: % | F4: Autorizados | G4: Acordados | H4: % | I4: Autorizados | J4: Acordados | K4: % | L4: Autorizados | M4: Acordados | N4: % | O4: Autorizados | P4: Acordados | Q4: %
B5: Alava | C5: 2 | D5: 2 | E5: 100 | F5: 200 | G5: 200 | H5: 100 | I5: 0 | J5: 0 | L5: 0 | M5: 0 | O5: 200 | P5: 200 | Q5: 100
B6: Gipuzkoa | C6: 8 | D6: 7 | E6: 87.5 | F6: 204 | G6: 50 | H6: 24.509804 | I6: 4 | J6: 4 | K6: 100 | L6: 45 | M6: 45 | N6: 100 | O6: 253 | P6: 99 | Q6: 39.130435
B7: Bizkaia | C7: 9 | D7: 5 | E7: 55.555556 | F7: 306 | G7: 81 | H7: 26.470588 | I7: 3 | J7: 3 | K7: 100 | L7: 4 | M7: 0 | N7: 0 | O7: 313 | P7: 84 | Q7: 26.837061
A8: 1 | B8: CAE | C8: 19 | D8: 14 | E8: 73.684211 | F8: 710 | G8: 331 | H8: 46.619718 | I8: 7 | J8: 7 | K8: 100 | L8: 49 | M8: 45 | N8: 91.836735 | O8: 766 | P8: 383 | Q8: 50
B9: Alava | C9: 3 | D9: 2 | E9: 66.666667 | F9: 850 | G9: 6 | H9: 0.70588235 | I9: 0 | J9: 0 | L9: 0 | M9: 0 | O9: 850 | P9: 6 | Q9: 0.70588235
B10: Gipuzkoa | C10: 6 | D10: 5 | E10: 83.333333 | F10: 9 | G10: 9 | H10: 100 | I10: 31 | J10: 26 | K10: 83.870968 | L10: 0 | M10: 0 | O10: 40 | P10: 35 | Q10: 87.5
B11: Bizkaia | C11: 13 | D11: 8 | E11: 61.538462 | F11: 520 | G11: 107 | H11: 20.576923 | I11: 15 | J11: 15 | K11: 100 | L11: 0 | M11: 0 | O11: 535 | P11: 122 | Q11: 22.803738
A12: 2 | B12: CAE | C12: 22 | D12: 15 | E12: 68.181818 | F12: 1379 | G12: 122 | H12: 8.8469906 | I12: 46 | J12: 41 | K12: 89.130435 | L12: 0 | M12: 0 | O12: 1425 | P12: 163 | Q12: 11.438596
B13: Alava | C13: 8 | D13: 6 | E13: 75 | F13: 60 | G13: 60 | H13: 100 | I13: 35 | J13: 11 | K13: 31.428571 | L13: 35 | M13: 21 | N13: 60 | O13: 130 | P13: 92 | Q13: 70.769231
B14: Gipuzkoa | C14: 6 | D14: 5 | E14: 83.333333 | F14: 17 | G14: 0 | H14: 0 | I14: 7 | J14: 7 | K14: 100 | L14: 30 | M14: 30 | N14: 100 | O14: 54 | P14: 37 | Q14: 68.518519
B15: Bizkaia | C15: 11 | D15: 7 | E15: 63.636364 | F15: 1078 | G15: 722 | H15: 66.975881 | I15: 10 | J15: 10 | K15: 100 | L15: 28 | M15: 16 | N15: 57.142857 | O15: 1116 | P15: 748 | Q15: 67.02509
A16: 3 | B16: CAE | C16: 25 | D16: 18 | E16: 72 | F16: 1155 | G16: 782 | H16: 67.705628 | I16: 52 | J16: 28 | K16: 53.846154 | L16: 93 | M16: 67 | N16: 72.043011 | O16: 1300 | P16: 877 | Q16: 67.461538
B17: Alava | C17: 5 | D17: 3 | E17: 60 | F17: 497 | G17: 449 | H17: 90.342052 | I17: 12 | J17: 0 | K17: 0 | L17: 0 | M17: 0 | O17: 509 | P17: 449 | Q17: 88.212181
B18: Gipuzkoa | C18: 6 | D18: 6 | E18: 100 | F18: 24 | G18: 24 | H18: 100 | I18: 0 | J18: 0 | L18: 63 | M18: 63 | N18: 100 | O18: 87 | P18: 87 | Q18: 100
B19: Bizkaia | C19: 5 | D19: 2 | E19: 40 | F19: 65 | G19: 9 | H19: 13.846154 | I19: 0 | J19: 0 | L19: 0 | M19: 0 | O19: 65 | P19: 9 | Q19: 13.846154
A20: 4 | B20: CAE | C20: 16 | D20: 11 | E20: 68.75 | F20: 586 | G20: 482 | H20: 82.25256 | I20: 12 | J20: 0 | K20: 0 | L20: 63 | M20: 63 | N20: 100 | O20: 661 | P20: 545 | Q20: 82.450832
B21: Alava | C21: 5 | D21: 2 | E21: 40 | F21: 209 | G21: 146 | H21: 69.856459 | I21: 0 | J21: 0 | L21: 0 | M21: 0 | O21: 209 | P21: 146 | Q21: 69.856459
B22: Gipuzkoa | C22: 3 | D22: 3 | E22: 100 | F22: 43 | G22: 43 | H22: 100 | I22: 5 | J22: 5 | K22: 100 | L22: 17 | M22: 17 | N22: 100 | O22: 65 | P22: 65 | Q22: 100
B23: Bizkaia | C23: 7 | D23: 2 | E23: 28.571429 | F23: 115 | G23: 23 | H23: 20 | I23: 17 | J23: 6 | K23: 35.294118 | L23: 153 | M23: 0 | N23: 0 | O23: 285 | P23: 29 | Q23: 10.175439
A24: 5 | B24: CAE | C24: 15 | D24: 7 | E24: 46.666667 | F24: 367 | G24: 212 | H24: 57.765668 | I24: 22 | J24: 11 | K24: 50 | L24: 170 | M24: 17 | N24: 10 | O24: 559 | P24: 240 | Q24: 42.93381
B25: Alava | C25: 2 | D25: 2 | E25: 100 | F25: 31 | G25: 31 | H25: 100 | I25: 0 | J25: 0 | L25: 0 | M25: 0 | O25: 31 | P25: 31 | Q25: 100
B26: Gipuzkoa | C26: 8 | D26: 6 | E26: 75 | F26: 100 | G26: 100 | H26: 100 | I26: 9 | J26: 2 | K26: 22.222222 | L26: 22 | M26: 15 | N26: 68.181818 | O26: 131 | P26: 117 | Q26: 89.312977
B27: Bizkaia | C27: 13 | D27: 9 | E27: 69.230769 | F27: 84 | G27: 82 | H27: 97.619048 | I27: 77 | J27: 7 | K27: 9.0909091 | L27: 52 | M27: 40 | N27: 76.923077 | O27: 213 | P27: 129 | Q27: 60.56338
A28: 6 | B28: CAE | C28: 23 | D28: 17 | E28: 73.913043 | F28: 215 | G28: 213 | H28: 99.069767 | I28: 86 | J28: 9 | K28: 10.465116 | L28: 74 | M28: 55 | N28: 74.324324 | O28: 375 | P28: 277 | Q28: 73.866667
B29: Alava | C29: 3 | D29: 1 | E29: 33.333333 | F29: 299 | G29: 0 | H29: 0 | I29: 5 | J29: 5 | K29: 100 | L29: 30 | M29: 0 | N29: 0 | O29: 334 | P29: 5 | Q29: 1.497006
B30: Gipuzkoa | C30: 11 | D30: 8 | E30: 72.727273 | F30: 376 | G30: 203 | H30: 53.989362 | I30: 19 | J30: 19 | K30: 100 | L30: 105 | M30: 65 | N30: 61.904762 | O30: 500 | P30: 287 | Q30: 57.4
B31: Bizkaia | C31: 11 | D31: 5 | E31: 45.454545 | F31: 224 | G31: 19 | H31: 8.4821429 | I31: 13 | J31: 0 | K31: 0 | L31: 29 | M31: 22 | N31: 75.862069 | O31: 266 | P31: 41 | Q31: 15.413534
A32: 7 | B32: CAE | C32: 25 | D32: 14 | E32: 56 | F32: 899 | G32: 222 | H32: 24.694105 | I32: 37 | J32: 24 | K32: 64.864865 | L32: 164 | M32: 87 | N32: 53.04878 | O32: 1100 | P32: 333 | Q32: 30.272727
B33: Alava | C33: 1 | D33: 1 | E33: 100 | F33: 0 | G33: 0 | I33: 0 | J33: 0 | L33: 9 | M33: 9 | N33: 100 | O33: 9 | P33: 9 | Q33: 100
B34: Gipuzkoa | C34: 6 | D34: 4 | E34: 66.666667 | F34: 9 | G34: 5 | H34: 55.555556 | I34: 16 | J34: 0 | K34: 0 | L34: 64 | M34: 8 | N34: 12.5 | O34: 89 | P34: 13 | Q34: 14.606742
B35: Bizkaia | C35: 6 | D35: 1 | E35: 16.666667 | F35: 44 | G35: 1 | H35: 2.2727273 | I35: 11 | J35: 0 | K35: 0 | L35: 0 | M35: 0 | O35: 55 | P35: 1 | Q35: 1.8181818
A36: 8 | B36: CAE | C36: 13 | D36: 6 | E36: 46.153846 | F36: 53 | G36: 6 | H36: 11.320755 | I36: 27 | J36: 0 | K36: 0 | L36: 73 | M36: 17 | N36: 23.287671 | O36: 153 | P36: 23 | Q36: 15.03268
B37: Alava | C37: 0 | D37: 0 | F37: 0 | G37: 0 | I37: 0 | J37: 0 | L37: 0 | M37: 0 | O37: 0 | P37: 0
B38: Gipuzkoa | C38: 2 | D38: 2 | E38: 100 | F38: 229 | G38: 229 | H38: 100 | I38: 0 | J38: 0 | L38: 0 | M38: 0 | O38: 229 | P38: 229 | Q38: 100
B39: Bizkaia | C39: 4 | D39: 2 | E39: 50 | F39: 8 | G39: 0 | H39: 0 | I39: 14 | J39: 14 | K39: 100 | L39: 0 | M39: 0 | O39: 22 | P39: 14 | Q39: 63.636364
A40: 9 | B40: CAE | C40: 6 | D40: 4 | E40: 66.666667 | F40: 237 | G40: 229 | H40: 96.624473 | I40: 14 | J40: 14 | K40: 100 | L40: 0 | M40: 0 | O40: 251 | P40: 243 | Q40: 96.812749
...

Sheet R5 2024
A1: Nº de Exptes Autorizados y/o Comunicados / Acordados en la CAE en 2024 exceptuados exptes Fuerza Mayor
A2: EAEn izandako enplegu-erregulazioko espedienteak eta hitzartutakoen portzentajeak ("ezinbesteko" espedienteak izan ezik) - 2024 | N2: ='R1 2024'!P4 -> 2024-12
A3: Mes | B3: Territorio | C3: Nº Exptes Suspensión | E3: % | F3: Nº exptes. Reducción | H3: % | I3: Nº exptes. Rescisión | K3: % | L3: Nº exptes. TOTAL | N3: %
A4: Hilab. | B4: Lurralde | C4: Autorizados | D4: Acordados | E4: % | F4: Autorizados | G4: Acordados | H4: % | I4: Autorizados | J4: Acordados | K4: % | L4: Autorizados | M4: Acordados | N4: %
B5: Alava | C5: 2 | D5: 2 | E5: 100 | L5: 2 | M5: 2 | N5: 100
B6: Gipuzkoa | C6: 6 | D6: 5 | E6: 83.333333 | F6: 1 | G6: 1 | H6: 100 | I6: 1 | K6: 0 | L6: 8 | M6: 6 | N6: 75
B7: Bizkaia | C7: 8 | D7: 5 | E7: 62.5 | I7: 1 | J7: 1 | K7: 100 | L7: 9 | M7: 6 | N7: 66.666667
A8: 1 | B8: CAE | C8: 16 | D8: 12 | E8: 75 | F8: 1 | G8: 1 | H8: 100 | I8: 2 | J8: 1 | K8: 50 | L8: 19 | M8: 14 | N8: 73.684211
B9: Alava | C9: 3 | D9: 2 | E9: 66.666667 | L9: 3 | M9: 2 | N9: 66.666667
B10: Gipuzkoa | C10: 2 | D10: 2 | E10: 100 | F10: 4 | G10: 3 | H10: 75 | L10: 6 | M10: 5 | N10: 83.333333
B11: Bizkaia | C11: 12 | D11: 7 | E11: 58.333333 | F11: 1 | G11: 1 | H11: 100 | L11: 13 | M11: 8 | N11: 61.538462
A12: 2 | B12: CAE | C12: 17 | D12: 11 | E12: 64.705882 | F12: 5 | G12: 4 | H12: 80 | I12: 0 | J12: 0 | L12: 22 | M12: 15 | N12: 68.181818
B13: Alava | C13: 1 | D13: 1 | E13: 100 | F13: 4 | G13: 3 | H13: 75 | I13: 3 | J13: 2 | K13: 66.666667 | L13: 8 | M13: 6 | N13: 75
B14: Gipuzkoa | C14: 1 | E14: 0 | F14: 2 | G14: 2 | H14: 100 | I14: 3 | J14: 3 | K14: 100 | L14: 6 | M14: 5 | N14: 83.333333
B15: Bizkaia | C15: 9 | D15: 5 | E15: 55.555556 | I15: 2 | J15: 1 | K15: 50 | L15: 11 | M15: 6 | N15: 54.545455
A16: 3 | B16: CAE | C16: 11 | D16: 6 | E16: 54.545455 | F16: 6 | G16: 5 | H16: 83.333333 | I16: 8 | J16: 6 | K16: 75 | L16: 25 | M16: 17 | N16: 68
B17: Alava | C17: 5 | D17: 3 | E17: 60 | L17: 5 | M17: 3 | N17: 60
B18: Gipuzkoa | C18: 3 | D18: 3 | E18: 100 | I18: 3 | J18: 3 | K18: 100 | L18: 6 | M18: 6 | N18: 100
B19: Bizkaia | C19: 5 | D19: 2 | E19: 40 | L19: 5 | M19: 2 | N19: 40
A20: 4 | B20: CAE | C20: 13 | D20: 8 | E20: 61.538462 | F20: 0 | G20: 0 | I20: 3 | J20: 3 | K20: 100 | L20: 16 | M20: 11 | N20: 68.75
B21: Alava | C21: 5 | D21: 2 | E21: 40 | L21: 5 | M21: 2 | N21: 40
B22: Gipuzkoa | C22: 1 | D22: 1 | E22: 100 | F22: 1 | G22: 1 | H22: 100 | I22: 1 | J22: 1 | K22: 100 | L22: 3 | M22: 3 | N22: 100
B23: Bizkaia | C23: 3 | D23: 1 | E23: 33.333333 | F23: 2 | G23: 1 | H23: 50 | I23: 2 | K23: 0 | L23: 7 | M23: 2 | N23: 28.571429
A24: 5 | B24: CAE | C24: 9 | D24: 4 | E24: 44.444444 | F24: 3 | G24: 2 | H24: 66.666667 | I24: 3 | J24: 1 | K24: 33.333333 | L24: 15 | M24: 7 | N24: 46.666667
B25: Alava | C25: 2 | D25: 2 | E25: 100 | L25: 2 | M25: 2 | N25: 100
B26: Gipuzkoa | C26: 3 | D26: 3 | E26: 100 | F26: 2 | G26: 1 | H26: 50 | I26: 3 | J26: 2 | K26: 66.666667 | L26: 8 | M26: 6 | N26: 75
B27: Bizkaia | C27: 5 | D27: 4 | E27: 80 | F27: 3 | G27: 1 | H27: 33.333333 | I27: 5 | J27: 4 | K27: 80 | L27: 13 | M27: 9 | N27: 69.230769
A28: 6 | B28: CAE | C28: 10 | D28: 9 | E28: 90 | F28: 5 | G28: 2 | H28: 40 | I28: 8 | J28: 6 | K28: 75 | L28: 23 | M28: 17 | N28: 73.913043
B29: Alava | C29: 1 | E29: 0 | F29: 1 | G29: 1 | H29: 100 | I29: 1 | K29: 0 | L29: 3 | M29: 1 | N29: 33.333333
B30: Gipuzkoa | C30: 7 | D30: 5 | E30: 71.428571 | I30: 4 | J30: 3 | K30: 75 | L30: 11 | M30: 8 | N30: 72.727273
B31: Bizkaia | C31: 4 | D31: 2 | E31: 50 | F31: 2 | H31: 0 | I31: 5 | J31: 3 | K31: 60 | L31: 11 | M31: 5 | N31: 45.454545
A32: 7 | B32: CAE | C32: 12 | D32: 7 | E32: 58.333333 | F32: 3 | G32: 1 | H32: 33.333333 | I32: 10 | J32: 6 | K32: 60 | L32: 25 | M32: 14 | N32: 56
B33: Alava | I33: 1 | J33: 1 | K33: 100 | L33: 1 | M33: 1 | N33: 100
B34: Gipuzkoa | C34: 4 | D34: 3 | E34: 75 | I34: 2 | J34: 1 | K34: 50 | L34: 6 | M34: 4 | N34: 66.666667
B35: Bizkaia | C35: 4 | D35: 1 | E35: 25 | F35: 2 | H35: 0 | L35: 6 | M35: 1 | N35: 16.666667
A36: 8 | B36: CAE | C36: 8 | D36: 4 | E36: 50 | F36: 2 | G36: 0 | H36: 0 | I36: 3 | J36: 2 | K36: 66.666667 | L36: 13 | M36: 6 | N36: 46.153846
B37: Alava | L37: 0 | M37: 0
B38: Gipuzkoa | C38: 2 | D38: 2 | E38: 100 | L38: 2 | M38: 2 | N38: 100
B39: Bizkaia | C39: 2 | E39: 0 | F39: 2 | G39: 2 | H39: 100 | L39: 4 | M39: 2 | N39: 50
A40: 9 | B40: CAE | C40: 4 | D40: 2 | E40: 50 | F40: 2 | G40: 2 | H40: 100 | I40: 0 | J40: 0 | L40: 6 | M40: 4 | N40: 66.666667
...

Sheet R6 2024
A1: Expedientes de Regulación de Empleo Autorizados / Comunicados y afectados/as por TH y Sector de Actividad Económica en la CAE en 2024 | G1: ='R2 2024'!$O$56 -> 2024-12
A2: Enplegu-erregulazioaren bitartez 2024ko espediente baimendu edo-eta komunikatuak eta eragindako langileak EAEn, lurraldeka eta sektor ekonomikoaren arabera
A3: Sector Actividad | B3: TH | C3: Nº Exptes | D3: Suspensión | E3: Reducción | F3: Rescisión | G3: TOTAL
B4: Araba | C4: 0 | D4: 0 | E4: 0 | F4: 0 | G4: 0
B5: Gipuzkoa | C5: 5 | D5: 43 | E5: 0 | F5: 0 | G5: 43
A6: Nekazaritza | B6: Bizkaia | C6: 5 | D6: 69 | E6: 11 | F6: 12 | G6: 92
A7: Agrario | B7: CAE | C7: 10 | D7: 112 | E7: 11 | F7: 12 | G7: 135
B8: Alava | C8: 1 | D8: 0 | E8: 0 | F8: 14 | G8: 14
B9: Gipuzkoa | C9: 1 | D9: 0 | E9: 0 | F9: 45 | G9: 45
A10: Eraikuntza | B10: Bizkaia | C10: 8 | D10: 73 | E10: 11 | F10: 35 | G10: 119
A11: Construcción | B11: CAE | C11: 10 | D11: 73 | E11: 11 | F11: 94 | G11: 178
B12: Alava | C12: 22 | D12: 2244 | E12: 34 | F12: 30 | G12: 2308
B13: Gipuzkoa | C13: 54 | D13: 1551 | E13: 138 | F13: 282 | G13: 1971
A14: Industria | B14: Bizkaia | C14: 63 | D14: 3284 | E14: 135 | F14: 262 | G14: 3681
A15: Industria | B15: CAE | C15: 139 | D15: 7079 | E15: 307 | F15: 574 | G15: 7960
B16: Alava | C16: 16 | D16: 305 | E16: 18 | F16: 48 | G16: 371
B17: Gipuzkoa | C17: 35 | D17: 136 | E17: 74 | F17: 126 | G17: 336
A18: Zerbitzuak | B18: Bizkaia | C18: 48 | D18: 387 | E18: 68 | F18: 73 | G18: 528
A19: Servicios | B19: CAE | C19: 99 | D19: 828 | E19: 160 | F19: 247 | G19: 1235
B20: Alava | C20: 39 | D20: 2549 | E20: 52 | F20: 92 | G20: 2693
B21: Gipuzkoa | C21: 95 | D21: 1730 | E21: 212 | F21: 453 | G21: 2395
A22: GUZTIRA | B22: Bizkaia | C22: 124 | D22: 3813 | E22: 225 | F22: 382 | G22: 4420
A23: TOTAL | B23: CAE | C23: 258 | D23: 8092 | E23: 489 | F23: 927 | G23: 9508
A24: Agrario (%) | C24: 3.875969 | D24: 1.384083 | E24: 2.2494888 | F24: 1.2944984 | G24: 1.419857
A25: Construcción (%) | C25: 3.875969 | D25: 0.90212556 | E25: 2.2494888 | F25: 10.140237 | G25: 1.8721077
A26: Industria (%) | C26: 53.875969 | D26: 87.481463 | E26: 62.781186 | F26: 61.920173 | G26: 83.718973
A27: Servicios (%) | C27: 38.372093 | D27: 10.232328 | E27: 32.719836 | F27: 26.645092 | G27: 12.989062
A28: TOTAL (%) | C28: 100 | D28: 100 | E28: 100 | F28: 100 | G28: 100
A66: Fuente: Dirección de Trabajo y Seguridad Social / Iturria: Lan eta Gizarte-Segurantza zuzendaritza | F66: Datos provisionales / Behin behineko datuak
A67: https://www.euskadi.eus/web01-s2lanju/es/contenidos/informacion/estadisticastrabajo/es_esttraba/index.shtml#empleo

Sheet R7 2024
A1: Nº de Exptes Autorizados y/o Comunicados y Personas Afectadas por Regulación de Empleo en la CAE por Ramas de Actividad según CNAE-2009
A2: Enplegu-erregulazioaren bitartez espediente baimendu edo-eta komunikatuak eta eragindako langileak EAEn 2009ko jardun-kodearen arabera | N2: ='R2 2024'!O56 -> 2024-12
A3: Actividad | B3: NºExptes | C3: Suspensión | D3: Hombres | E3: Mujeres | F3: Reducción | G3: Hombres | H3: Mujeres | I3: Rescisión | J3: Hombres | K3: Mujeres | L3: Total Afect. | M3: Hombres | N3: Mujeres
A4: Jarduera | B4: Expt zb. | C4: Etendura | D4: Gizonak | E4: Emakum. | F4: Murrizketa | G4: Gizonak | H4: Emakum. | I4: Hausketa | J4: Gizonak | K4: Emakum. | L4: Guztira | M4: Gizonak | N4: Emakumeak
A5: A- Agropesquero | B5: 10 | C5: 112 | D5: 108 | E5: 4 | F5: 11 | G5: 6 | H5: 5 | I5: 12 | J5: 12 | K5: 0 | L5: 135 | M5: 126 | N5: 9
A6: B- Industria Extractiva | B6: 1 | C6: 1 | D6: 1 | E6: 0 | F6: 4 | G6: 3 | H6: 1 | I6: 0 | J6: 0 | K6: 0 | L6: 5 | M6: 4 | N6: 1
A7: C-10,11,12 Ind alimentación,bebida y tabaco | B7: 4 | C7: 12 | D7: 3 | E7: 9 | F7: 7 | G7: 5 | H7: 2 | I7: 28 | J7: 13 | K7: 15 | L7: 47 | M7: 21 | N7: 26
A8: C-13,14,15 Ind textil, cuero y calzado | B8: 1 | C8: 4 | D8: 2 | E8: 2 | F8: 16 | G8: 12 | H8: 4 | I8: 0 | J8: 0 | K8: 0 | L8: 20 | M8: 14 | N8: 6
A9: C-16,17 Ind madera y papel | B9: 11 | C9: 371 | D9: 349 | E9: 22 | F9: 28 | G9: 20 | H9: 8 | I9: 20 | J9: 18 | K9: 2 | L9: 419 | M9: 387 | N9: 32
A10: C-18 Artes gráficas | B10: 2 | C10: 0 | D10: 0 | E10: 0 | F10: 0 | G10: 0 | H10: 0 | I10: 92 | J10: 70 | K10: 22 | L10: 92 | M10: 70 | N10: 22
A11: C-19,20,21,22,23 Ind petróleo, química, farmacia, caucho, plástico y prod minerales | B11: 15 | C11: 875 | D11: 703 | E11: 172 | F11: 15 | G11: 12 | H11: 3 | I11: 138 | J11: 98 | K11: 40 | L11: 1028 | M11: 813 | N11: 215
A12: C-24,25 Metalurgia y fab. prod metálic | B12: 59 | C12: 3942 | D12: 3556 | E12: 386 | F12: 127 | G12: 106 | H12: 21 | I12: 89 | J12: 68 | K12: 21 | L12: 4158 | M12: 3730 | N12: 428
A13: C-26,27 Fab. prod inform y elect | B13: 3 | C13: 59 | D13: 43 | E13: 16 | F13: 0 | G13: 0 | H13: 0 | I13: 0 | J13: 0 | K13: 0 | L13: 59 | M13: 43 | N13: 16
A14: C-28 Fab. maquinaria | B14: 23 | C14: 1246 | D14: 1027 | E14: 219 | F14: 70 | G14: 49 | H14: 21 | I14: 6 | J14: 5 | K14: 1 | L14: 1322 | M14: 1081 | N14: 241
A15: C-29,30 Fab vehiculos | B15: 9 | C15: 371 | D15: 324 | E15: 47 | F15: 10 | G15: 7 | H15: 3 | I15: 192 | J15: 187 | K15: 5 | L15: 573 | M15: 518 | N15: 55
A16: C-31Fab. muebles | B16: 2 | C16: 0 | D16: 0 | E16: 0 | F16: 16 | G16: 11 | H16: 5 | I16: 9 | J16: 8 | K16: 1 | L16: 25 | M16: 19 | N16: 6
... A24: H-49 Transporte terrestre | B24: 2 | C24: 0 | D24: 0 | E24: 0 | F24: 7 | G24: 7 | H24: 0 | I24: 8 | J24: 7 | K24: 1 | L24: 15 | M24: 14 | N24: 1
A25: H-50 Transp marítimo
A26: H-51 Transp aéreo
A27: H-52 Almacenamiento y Activs. anexas transp | B27: 4 | C27: 54 | D27: 52 | E27: 2 | F27: 0 | G27: 0 | H27: 0 | I27: 14 | J27: 13 | K27: 1 | L27: 68 | M27: 65 | N27: 3
A28: H-53 Actvs postales y correos | B28: 1 | C28: 1 | D28: 1 | E28: 0 | F28: 0 | G28: 0 | H28: 0 | I28: 0 | J28: 0 | K28: 0 | L28: 1 | M28: 1 | N28: 0
A29: I-55,56 Hostelería | B29: 27 | C29: 189 | D29: 91 | E29: 98 | F29: 1 | G29: 1 | H29: 0 | I29: 97 | J29: 41 | K29: 56 | L29: 287 | M29: 133 | N29: 154
A30: J-58,59,60 Edición, Activs cine, video, musica, tv, radio | B30: 3 | C30: 9 | D30: 7 | E30: 2 | F30: 7 | G30: 2 | H30: 5 | I30: 0 | J30: 0 | K30: 0 | L30: 16 | M30: 9 | N30: 7
A31: J-61 Telecomunicaciones | B31: 2 | C31: 2 | D31: 2 | E31: 0 | F31: 12 | G31: 6 | H31: 6 | I31: 0 | J31: 0 | K31: 0 | L31: 14 | M31: 8 | N31: 6
A32: J-62 Actvs Informáticas | B32: 1 | C32: 4 | D32: 3 | E32: 1 | F32: 0 | G32: 0 | H32: 0 | I32: 0 | J32: 0 | K32: 0 | L32: 4 | M32: 3 | N32: 1
A33: J-63 Servicios Información
A34: K-64,65,66 Activs financieras y seguros
A35: K-68 Activs inmobiliarias | B35: 1 | C35: 0 | D35: 0 | E35: 0 | F35: 0 | G35: 0 | H35: 0 | I35: 2 | J35: 1 | K35: 1 | L35: 2 | M35: 1 | N35: 1
A36: M-69-75 Activs Profesionales, científicas y técnicas | B36: 13 | C36: 65 | D36: 40 | E36: 25 | F36: 54 | G36: 34 | H36: 20 | I36: 22 | J36: 7 | K36: 15 | L36: 141 | M36: 81 | N36: 60
A37: N-77-82 Activs admtvas, y servs auxiliares | B37: 14 | C37: 143 | D37: 70 | E37: 73 | F37: 24 | G37: 8 | H37: 16 | I37: 14 | J37: 7 | K37: 7 | L37: 181 | M37: 85 | N37: 96
A38: O-84 Admon Pública, Defensa y Seg Social
A39: P-85 Educación | B39: 5 | C39: 3 | D39: 3 | E39: 0 | F39: 0 | G39: 0 | H39: 0 | I39: 59 | J39: 23 | K39: 36 | L39: 62 | M39: 26 | N39: 36
A40: Q-86,87,88 Activs. Sanitarias y Servs. sociales | B40: 2 | C40: 72 | D40: 12 | E40: 60 | F40: 0 | G40: 0 | H40: 0 | I40: 0 | J40: 0 | K40: 0 | L40: 72 | M40: 12 | N40: 60
A41: R-90,91,92,93 Actvs. Artísticas, recreativas y de entrenemiento | B41: 2 | C41: 7 | D41: 2 | E41: 5 | F41: 0 | G41: 0 | H41: 0 | I41: 11 | J41: 7 | K41: 4 | L41: 18 | M41: 9 | N41: 9
A42: S-94,95,96 Otros Servicios | B42: 3 | C42: 2 | D42: 0 | E42: 2 | F42: 0 | G42: 0 | H42: 0 | I42: 6 | J42: 0 | K42: 6 | L42: 8 | M42: 0 | N42: 8
A43: T-97,98 Activs. de los Hogares: empleadores domésticos, bienes y servicios
A44: U-99 Activs. Organizaciones y Organismos extraterritoriales
A45: TOTAL CAE | B45: 258 | C45: 8092 | D45: 6907 | E45: 1185 | F45: 489 | G45: 339 | H45: 150 | I45: 927 | J45: 662 | K45: 265 | L45: 9508 | M45: 7908 | N45: 1600
A67: Fuente: Dirección de Trabajo y Seguridad Social / Iturria: Lan eta Gizarte-Segurantza zuzendaritza | J67: Datos provisionales / Behin behineko datuak
A68: https://www.euskadi.eus/web01-s2lanju/es/contenidos/informacion/estadisticastrabajo/es_esttraba/index.shtml#empleo

Sheet R8 2024
A1: Nº de Exptes Autorizados y/o Comunicados y Personas Afectadas por Regulación de Empleo en ÁLAVA por Ramas de Actividad según CNAE-2009
A2: Enplegu-erregulazioaren bitartez espediente baimendu edo-eta komunikatuak eta eragindako langileak ARABAn 2009ko jardun-kodearen arabera | N2: ='R2 2024'!O56 -> 2024-12
A3: Actividad | B3: NºExptes | C3: Suspensión | D3: Hombres | E3: Mujeres | F3: Reducción | G3: Hombres | H3: Mujeres | I3: Rescisión | J3: Hombres | K3: Mujeres | L3: Total Afect. | M3: Hombres | N3: Mujeres
A4: Jarduera | B4: Expt zb. | C4: Etendura | D4: Gizonak | E4: Emakum. | F4: Murrizketa | G4: Gizonak | H4: Emakum. | I4: Hausketa | J4: Gizonak | K4: Emakum. | L4: Guztira | M4: Gizonak | N4: Emakumeak
A5: A- Agropesquero
A6: B- Industria Extractiva | B6: 1 | C6: 1 | D6: 1 | E6: 0 | F6: 4 | G6: 3 | H6: 1 | I6: 0 | J6: 0 | K6: 0 | L6: 5 | M6: 4 | N6: 1
A7: C-10,11,12 Ind alimentación,bebida y tabaco | B7: 1 | C7: 0 | D7: 0 | E7: 0 | F7: 6 | G7: 5 | H7: 1 | I7: 0 | J7: 0 | K7: 0 | L7: 6 | M7: 5 | N7: 1
A8: C-13,14,15 Ind textil, cuero y calzado
A9: C-16,17 Ind madera y papel | B9: 2 | C9: 20 | D9: 19 | E9: 1 | F9: 0 | G9: 0 | H9: 0 | I9: 0 | J9: 0 | K9: 0 | L9: 20 | M9: 19 | N9: 1
A10: C-18 Artes gráficas
A11: C-19,20,21,22,23 Ind petróleo, química, farmacia, caucho, plástico y prod minerales | B11: 5 | C11: 588 | D11: 520 | E11: 68 | F11: 0 | G11: 0 | H11: 0 | I11: 0 | J11: 0 | K11: 0 | L11: 588 | M11: 520 | N11: 68
A12: C-24,25 Metalurgia y fab. prod metálic | B12: 6 | C12: 1051 | D12: 971 | E12: 80 | F12: 24 | G12: 24 | H12: 0 | I12: 30 | J12: 15 | K12: 15 | L12: 1105 | M12: 1010 | N12: 95
A13: C-26,27 Fab. prod inform y elect | B13: 1 | C13: 51 | D13: 35 | E13: 16 | F13: 0 | G13: 0 | H13: 0 | I13: 0 | J13: 0 | K13: 0 | L13: 51 | M13: 35 | N13: 16
A14: C-28 Fab. maquinaria | B14: 3 | C14: 362 | D14: 244 | E14: 118 | F14: 0 | G14: 0 | H14: 0 | I14: 0 | J14: 0 | K14: 0 | L14: 362 | M14: 244 | N14: 118
A15: C-29,30 Fab vehiculos
A16: C-31Fab. muebles
A17: C-32,33 Otras ind manufact y Rep. maquinaria | B17: 3 | C17: 171 | D17: 164 | E17: 7 | F17: 0 | G17: 0 | H17: 0 | I17: 0 | J17: 0 | K17: 0 | L17: 171 | M17: 164 | N17: 7
A18: D-35 Suministro Energía
A19: E-36,37,38,39 Suministro agua,saneamiento,gestión residuos
A20: F-41,42,43 Construcción | B20: 1 | C20: 0 | D20: 0 | E20: 0 | F20: 0 | G20: 0 | H20: 0 | I20: 14 | J20: 14 | K20: 0 | L20: 14 | M20: 14 | N20: 0
A21: G-45 Venta y reparac vehículos | B21: 2 | C21: 198 | D21: 187 | E21: 11 | F21: 0 | G21: 0 | H21: 0 | I21: 0 | J21: 0 | K21: 0 | L21: 198 | M21: 187 | N21: 11
A22: G-46 Comercio por Mayor | B22: 1 | C22: 45 | D22: 45 | E22: 0 | F22: 12 | G22: 8 | H22: 4 | I22: 0 | J22: 0 | K22: 0 | L22: 57 | M22: 53 | N22: 4
A23: G-47 Comercio por menor | B23: 2 | C23: 0 | D23: 0 | E23: 0 | F23: 1 | G23: 1 | H23: 0 | I23: 12 | J23: 3 | K23: 9 | L23: 13 | M23: 4 | N23: 9
A24: H-49 Transporte terrestre
A25: H-50 Transp marítimo
A26: H-51 Transp aéreo
A27: H-52 Almacenamiento y Activs. anexas transp | B27: 2 | C27: 5 | D27: 4 | E27: 1 | F27: 0 | G27: 0 | H27: 0 | I27: 14 | J27: 13 | K27: 1 | L27: 19 | M27: 17 | N27: 2
A28: H-53 Actvs postales y correos
A29: I-55,56 Hostelería | B29: 2 | C29: 5 | D29: 0 | E29: 5 | F29: 0 | G29: 0 | H29: 0 | I29: 9 | J29: 4 | K29: 5 | L29: 14 | M29: 4 | N29: 10
A30: J-58,59,60 Edición, Activs cine, video, musica, tv, radio
A31: J-61 Telecomunicaciones
A32: J-62 Actvs Informáticas
A33: J-63 Servicios Información
A34: K-64,65,66 Activs financieras y seguros
A35: K-68 Activs inmobiliarias
A36: M-69-75 Activs Profesionales, científicas y técnicas | B36: 3 | C36: 45 | D36: 26 | E36: 19 | F36: 5 | G36: 4 | H36: 1 | I36: 0 | J36: 0 | K36: 0 | L36: 50 | M36: 30 | N36: 20
A37: N-77-82 Activs admtvas, y servs auxiliares | B37: 3 | C37: 7 | D37: 3 | E37: 4 | F37: 0 | G37: 0 | H37: 0 | I37: 7 | J37: 0 | K37: 7 | L37: 14 | M37: 3 | N37: 11
A38: O-84 Admon Pública, Defensa y Seg Social
A39: P-85 Educación
A40: Q-86,87,88 Activs. Sanitarias y Servs. sociales
...

Sheet R9 2024
A1: Nº de Exptes Autorizados y/o Comunicados y Personas Afectadas por Regulación de Empleo en GIPUZKOA por Ramas de Actividad según CNAE-2009
A2: Enplegu-erregulazioaren bitartez espediente baimendu edo-eta komunikatuak eta eragindako langileak GIPUZKOAn 2009ko jardun-kodearen arabera | N2: ='R2 2024'!O56 -> 2024-12
A3: Actividad | B3: NºExptes | C3: Suspensión | D3: Hombres | E3: Mujeres | F3: Reducción | G3: Hombres | H3: Mujeres | I3: Rescisión | J3: Hombres | K3: Mujeres | L3: Total Afect. | M3: Hombres | N3: Mujeres
A4: Jarduera | B4: Expt zb. | C4: Etendura | D4: Gizonak | E4: Emakum. | F4: Murrizketa | G4: Gizonak | H4: Emakum. | I4: Hausketa | J4: Gizonak | K4: Emakum. | L4: Guztira | M4: Gizonak | N4: Emakumeak
A5: A- Agropesquero | B5: 5 | C5: 43 | D5: 42 | E5: 1 | F5: 0 | G5: 0 | H5: 0 | I5: 0 | J5: 0 | K5: 0 | L5: 43 | M5: 42 | N5: 1
A6: B- Industria Extractiva
A7: C-10,11,12 Ind alimentación,bebida y tabaco | B7: 3 | C7: 12 | D7: 3 | E7: 9 | F7: 1 | G7: 0 | H7: 1 | I7: 28 | J7: 13 | K7: 15 | L7: 41 | M7: 16 | N7: 25
A8: C-13,14,15 Ind textil, cuero y calzado | B8: 1 | C8: 4 | D8: 2 | E8: 2 | F8: 16 | G8: 12 | H8: 4 | I8: 0 | J8: 0 | K8: 0 | L8: 20 | M8: 14 | N8: 6
A9: C-16,17 Ind madera y papel | B9: 7 | C9: 351 | D9: 330 | E9: 21 | F9: 28 | G9: 20 | H9: 8 | I9: 9 | J9: 8 | K9: 1 | L9: 388 | M9: 358 | N9: 30
A10: C-18 Artes gráficas | B10: 1 | C10: 0 | D10: 0 | E10: 0 | F10: 0 | G10: 0 | H10: 0 | I10: 35 | J10: 26 | K10: 9 | L10: 35 | M10: 26 | N10: 9
A11: C-19,20,21,22,23 Ind petróleo, química, farmacia, caucho, plástico y prod minerales | B11: 4 | C11: 101 | D11: 70 | E11: 31 | F11: 0 | G11: 0 | H11: 0 | I11: 91 | J11: 57 | K11: 34 | L11: 192 | M11: 127 | N11: 65
A12: C-24,25 Metalurgia y fab. prod metálic | B12: 17 | C12: 399 | D12: 365 | E12: 34 | F12: 67 | G12: 56 | H12: 11 | I12: 54 | J12: 48 | K12: 6 | L12: 520 | M12: 469 | N12: 51
A13: C-26,27 Fab. prod inform y elect
A14: C-28 Fab. maquinaria | B14: 12 | C14: 406 | D14: 383 | E14: 23 | F14: 0 | G14: 0 | H14: 0 | I14: 6 | J14: 5 | K14: 1 | L14: 412 | M14: 388 | N14: 24
A15: C-29,30 Fab vehiculos | B15: 4 | C15: 278 | D15: 236 | E15: 42 | F15: 0 | G15: 0 | H15: 0 | I15: 50 | J15: 46 | K15: 4 | L15: 328 | M15: 282 | N15: 46
A16: C-31Fab. muebles | B16: 2 | C16: 0 | D16: 0 | E16: 0 | F16: 16 | G16: 11 | H16: 5 | I16: 9 | J16: 8 | K16: 1 | L16: 25 | M16: 19 | N16: 6
A17: C-32,33 Otras ind manufact y Rep. maquinaria | B17: 2 | C17: 0 | D17: 0 | E17: 0 | F17: 7 | G17: 2 | H17: 5 | I17: 0 | J17: 0 | K17: 0 | L17: 7 | M17: 2 | N17: 5
A18: D-35 Suministro Energía | B18: 1 | C18: 0 | D18: 0 | E18: 0 | F18: 3 | G18: 2 | H18: 1 | I18: 0 | J18: 0 | K18: 0 | L18: 3 | M18: 2 | N18: 1
A19: E-36,37,38,39 Suministro agua,saneamiento,gestión residuos
A20: F-41,42,43 Construcción | B20: 1 | C20: 0 | D20: 0 | E20: 0 | F20: 0 | G20: 0 | H20: 0 | I20: 45 | J20: 39 | K20: 6 | L20: 45 | M20: 39 | N20: 6
A21: G-45 Venta y reparac vehículos
A22: G-46 Comercio por Mayor | B22: 4 | C22: 2 | D22: 1 | E22: 1 | F22: 28 | G22: 19 | H22: 9 | I22: 0 | J22: 0 | K22: 0 | L22: 30 | M22: 20 | N22: 10
A23: G-47 Comercio por menor | B23: 4 | C23: 10 | D23: 5 | E23: 5 | F23: 2 | G23: 0 | H23: 2 | I23: 0 | J23: 0 | K23: 0 | L23: 12 | M23: 5 | N23: 7
A24: H-49 Transporte terrestre | B24: 1 | C24: 0 | D24: 0 | E24: 0 | F24: 0 | G24: 0 | H24: 0 | I24: 8 | J24: 7 | K24: 1 | L24: 8 | M24: 7 | N24: 1
A25: H-50 Transp marítimo
A26: H-51 Transp aéreo
A27: H-52 Almacenamiento y Activs. anexas transp
A28: H-53 Actvs postales y correos | B28: 1 | C28: 1 | D28: 1 | E28: 0 | F28: 0 | G28: 0 | H28: 0 | I28: 0 | J28: 0 | K28: 0 | L28: 1 | M28: 1 | N28: 0
A29: I-55,56 Hostelería | B29: 13 | C29: 114 | D29: 59 | E29: 55 | F29: 1 | G29: 1 | H29: 0 | I29: 45 | J29: 13 | K29: 32 | L29: 160 | M29: 73 | N29: 87
A30: J-58,59,60 Edición, Activs cine, video, musica, tv, radio | B30: 1 | C30: 0 | D30: 0 | E30: 0 | F30: 7 | G30: 2 | H30: 5 | I30: 0 | J30: 0 | K30: 0 | L30: 7 | M30: 2 | N30: 5
A31: J-61 Telecomunicaciones
A32: J-62 Actvs Informáticas
A33: J-63 Servicios Información
A34: K-64,65,66 Activs financieras y seguros
A35: K-68 Activs inmobiliarias
A36: M-69-75 Activs Profesionales, científicas y técnicas | B36: 4 | C36: 1 | D36: 0 | E36: 1 | F36: 15 | G36: 6 | H36: 9 | I36: 15 | J36: 4 | K36: 11 | L36: 31 | M36: 10 | N36: 21
A37: N-77-82 Activs admtvas, y servs auxiliares | B37: 3 | C37: 4 | D37: 0 | E37: 4 | F37: 21 | G37: 8 | H37: 13 | I37: 7 | J37: 7 | K37: 0 | L37: 32 | M37: 15 | N37: 17
A38: O-84 Admon Pública, Defensa y Seg Social
A39: P-85 Educación | B39: 2 | C39: 3 | D39: 3 | E39: 0 | F39: 0 | G39: 0 | H39: 0 | I39: 40 | J39: 16 | K39: 24 | L39: 43 | M39: 19 | N39: 24
A40: Q-86,87,88 Activs. Sanitarias y Servs. sociales
...

Sheet R10 2024
A1: Nº de Exptes Autorizados y/o Comunicados y Personas Afectadas por Regulación de Empleo en BIZKAIA por Ramas de Actividad según CNAE-2009
A2: Enplegu-erregulazioaren bitartez espediente baimendu edo-eta komunikatuak eta eragindako langileak BIZKAIAn 2009ko jardun-kodearen arabera | N2: ='R2 2024'!O56 -> 2024-12
A3: Actividad | B3: NºExptes | C3: Suspensión | D3: Hombres | E3: Mujeres | F3: Reducción | G3: Hombres | H3: Mujeres | I3: Rescisión | J3: Hombres | K3: Mujeres | L3: Total Afect. | M3: Hombres | N3: Mujeres
A4: Jarduera | B4: Expt zb. | C4: Etendura | D4: Gizonak | E4: Emakum. | F4: Murrizketa | G4: Gizonak | H4: Emakum. | I4: Hausketa | J4: Gizonak | K4: Emakum. | L4: Guztira | M4: Gizonak | N4: Emakumeak
A5: A- Agropesquero | B5: 5 | C5: 69 | D5: 66 | E5: 3 | F5: 11 | G5: 6 | H5: 5 | I5: 12 | J5: 12 | K5: 0 | L5: 92 | M5: 84 | N5: 8
A6: B- Industria Extractiva
A7: C-10,11,12 Ind alimentación,bebida y tabaco
A8: C-13,14,15 Ind textil, cuero y calzado
A9: C-16,17 Ind madera y papel | B9: 2 | C9: 0 | D9: 0 | E9: 0 | F9: 0 | G9: 0 | H9: 0 | I9: 11 | J9: 10 | K9: 1 | L9: 11 | M9: 10 | N9: 1
A10: C-18 Artes gráficas | B10: 1 | C10: 0 | D10: 0 | E10: 0 | F10: 0 | G10: 0 | H10: 0 | I10: 57 | J10: 44 | K10: 13 | L10: 57 | M10: 44 | N10: 13
A11: C-19,20,21,22,23 Ind petróleo, química, farmacia, caucho, plástico y prod minerales | B11: 6 | C11: 186 | D11: 113 | E11: 73 | F11: 15 | G11: 12 | H11: 3 | I11: 47 | J11: 41 | K11: 6 | L11: 248 | M11: 166 | N11: 82
A12: C-24,25 Metalurgia y fab. prod metálic | B12: 36 | C12: 2492 | D12: 2220 | E12: 272 | F12: 36 | G12: 26 | H12: 10 | I12: 5 | J12: 5 | K12: 0 | L12: 2533 | M12: 2251 | N12: 282
A13: C-26,27 Fab. prod inform y elect | B13: 2 | C13: 8 | D13: 8 | E13: 0 | F13: 0 | G13: 0 | H13: 0 | I13: 0 | J13: 0 | K13: 0 | L13: 8 | M13: 8 | N13: 0
A14: C-28 Fab. maquinaria | B14: 8 | C14: 478 | D14: 400 | E14: 78 | F14: 70 | G14: 49 | H14: 21 | I14: 0 | J14: 0 | K14: 0 | L14: 548 | M14: 449 | N14: 99
A15: C-29,30 Fab vehiculos | B15: 5 | C15: 93 | D15: 88 | E15: 5 | F15: 10 | G15: 7 | H15: 3 | I15: 142 | J15: 141 | K15: 1 | L15: 245 | M15: 236 | N15: 9
A16: C-31Fab. muebles
A17: C-32,33 Otras ind manufact y Rep. maquinaria | B17: 2 | C17: 27 | D17: 27 | E17: 0 | F17: 0 | G17: 0 | H17: 0 | I17: 0 | J17: 0 | K17: 0 | L17: 27 | M17: 27 | N17: 0
A18: D-35 Suministro Energía
A19: E-36,37,38,39 Suministro agua,saneamiento,gestión residuos | B19: 1 | C19: 0 | D19: 0 | E19: 0 | F19: 4 | G19: 3 | H19: 1 | I19: 0 | J19: 0 | K19: 0 | L19: 4 | M19: 3 | N19: 1
A20: F-41,42,43 Construcción | B20: 8 | C20: 73 | D20: 71 | E20: 2 | F20: 11 | G20: 6 | H20: 5 | I20: 35 | J20: 20 | K20: 15 | L20: 119 | M20: 97 | N20: 22
A21: G-45 Venta y reparac vehículos | B21: 1 | C21: 7 | D21: 4 | E21: 3 | F21: 0 | G21: 0 | H21: 0 | I21: 0 | J21: 0 | K21: 0 | L21: 7 | M21: 4 | N21: 3
A22: G-46 Comercio por Mayor | B22: 2 | C22: 13 | D22: 2 | E22: 11 | F22: 12 | G22: 9 | H22: 3 | I22: 0 | J22: 0 | K22: 0 | L22: 25 | M22: 11 | N22: 14
A23: G-47 Comercio por menor | B23: 3 | C23: 2 | D23: 2 | E23: 0 | F23: 0 | G23: 0 | H23: 0 | I23: 2 | J23: 1 | K23: 1 | L23: 4 | M23: 3 | N23: 1
A24: H-49 Transporte terrestre | B24: 1 | C24: 0 | D24: 0 | E24: 0 | F24: 7 | G24: 7 | H24: 0 | I24: 0 | J24: 0 | K24: 0 | L24: 7 | M24: 7 | N24: 0
A25: H-50 Transp marítimo
A26: H-51 Transp aéreo
A27: H-52 Almacenamiento y Activs. anexas transp | B27: 2 | C27: 49 | D27: 48 | E27: 1 | F27: 0 | G27: 0 | H27: 0 | I27: 0 | J27: 0 | K27: 0 | L27: 49 | M27: 48 | N27: 1
A28: H-53 Actvs postales y correos
A29: I-55,56 Hostelería | B29: 12 | C29: 70 | D29: 32 | E29: 38 | F29: 0 | G29: 0 | H29: 0 | I29: 43 | J29: 24 | K29: 19 | L29: 113 | M29: 56 | N29: 57
A30: J-58,59,60 Edición, Activs cine, video, musica, tv, radio | B30: 2 | C30: 9 | D30: 7 | E30: 2 | F30: 0 | G30: 0 | H30: 0 | I30: 0 | J30: 0 | K30: 0 | L30: 9 | M30: 7 | N30: 2
A31: J-61 Telecomunicaciones | B31: 2 | C31: 2 | D31: 2 | E31: 0 | F31: 12 | G31: 6 | H31: 6 | I31: 0 | J31: 0 | K31: 0 | L31: 14 | M31: 8 | N31: 6
A32: J-62 Actvs Informáticas | B32: 1 | C32: 4 | D32: 3 | E32: 1 | F32: 0 | G32: 0 | H32: 0 | I32: 0 | J32: 0 | K32: 0 | L32: 4 | M32: 3 | N32: 1
A33: J-63 Servicios Información
A34: K-64,65,66 Activs financieras y seguros
A35: K-68 Activs inmobiliarias | B35: 1 | C35: 0 | D35: 0 | E35: 0 | F35: 0 | G35: 0 | H35: 0 | I35: 2 | J35: 1 | K35: 1 | L35: 2 | M35: 1 | N35: 1
A36: M-69-75 Activs Profesionales, científicas y técnicas | B36: 6 | C36: 19 | D36: 14 | E36: 5 | F36: 34 | G36: 24 | H36: 10 | I36: 7 | J36: 3 | K36: 4 | L36: 60 | M36: 41 | N36: 19
A37: N-77-82 Activs admtvas, y servs auxiliares | B37: 8 | C37: 132 | D37: 67 | E37: 65 | F37: 3 | G37: 0 | H37: 3 | I37: 0 | J37: 0 | K37: 0 | L37: 135 | M37: 67 | N37: 68
A38: O-84 Admon Pública, Defensa y Seg Social
A39: P-85 Educación | B39: 3 | C39: 0 | D39: 0 | E39: 0 | F39: 0 | G39: 0 | H39: 0 | I39: 19 | J39: 7 | K39: 12 | L39: 19 | M39: 7 | N39: 12
A40: Q-86,87,88 Activs. Sanitarias y Servs. sociales | B40: 2 | C40: 72 | D40: 12 | E40: 60 | F40: 0 | G40: 0 | H40: 0 | I40: 0 | J40: 0 | K40: 0 | L40: 72 | M40: 12 | N40: 60
...

Sheet R11 2024
A1: Nº de Exptes Autorizados y/o Comunicados y Personas Afectadas por Regulación de Empleo en la CAE según Causa por TH - 2024
A2: Enplegu-erregulazioaren bitartez espediente baimendu edo-eta komunikatuak eta eragindako langileak EAEn kausaren arabera, lurraldeka - 2024 | N2: 2024-12
A3: Causa | B3: NºExptes | C3: Suspensión | D3: Hombres | E3: Mujeres | F3: Reducción | G3: Hombres | H3: Mujeres | I3: Rescisión | J3: Hombres | K3: Mujeres | L3: Total Afect. | M3: Hombres | N3: Mujeres
A4: Kausa | B4: Expt zb. | C4: Etendura | D4: Gizonak | E4: Emakum. | F4: Murrizketa | G4: Gizonak | H4: Emakum. | I4: Hausketa | J4: Gizonak | K4: Emakum. | L4: Guztira | M4: Gizonak | N4: Emakumeak
A5: 1- Restricción demanda o producción | B5: 24 | C5: 2013 | D5: 1720 | E5: 293 | F5: 42 | G5: 37 | H5: 5 | I5: 51 | J5: 28 | K5: 23 | L5: 2106 | M5: 1785 | N5: 321
A6: 2- Técnicas y Organizativas | B6: 5 | C6: 319 | D6: 296 | E6: 23 | F6: 0 | G6: 0 | H6: 0 | I6: 0 | J6: 0 | K6: 0 | L6: 319 | M6: 296 | N6: 23
A7: 3- Fuerza Mayor | B7: 0 | C7: 0 | D7: 0 | E7: 0 | F7: 0 | G7: 0 | H7: 0 | I7: 0 | J7: 0 | K7: 0 | L7: 0 | M7: 0 | N7: 0
A8: 4- Problemas económicos y financieros | B8: 10 | C8: 217 | D8: 203 | E8: 14 | F8: 10 | G8: 8 | H8: 2 | I8: 41 | J8: 21 | K8: 20 | L8: 268 | M8: 232 | N8: 36
A9: 5- Procesos concursales y reestructuraciones | B9: 0 | C9: 0 | D9: 0 | E9: 0 | F9: 0 | G9: 0 | H9: 0 | I9: 0 | J9: 0 | K9: 0 | L9: 0 | M9: 0 | N9: 0
A10: 6- Otras | B10: 0 | C10: 0 | D10: 0 | E10: 0 | F10: 0 | G10: 0 | H10: 0 | I10: 0 | J10: 0 | K10: 0 | L10: 0 | M10: 0 | N10: 0
A11: ARABA | B11: 39 | C11: 2549 | D11: 2219 | E11: 330 | F11: 52 | G11: 45 | H11: 7 | I11: 92 | J11: 49 | K11: 43 | L11: 2693 | M11: 2313 | N11: 380
A12: 1- Restricción demanda o producción | B12: 43 | C12: 1264 | D12: 1130 | E12: 134 | F12: 156 | G12: 104 | H12: 52 | I12: 49 | J12: 47 | K12: 2 | L12: 1469 | M12: 1281 | N12: 188
A13: 2- Técnicas y Organizativas | B13: 12 | C13: 63 | D13: 33 | E13: 30 | F13: 0 | G13: 0 | H13: 0 | I13: 118 | J13: 95 | K13: 23 | L13: 181 | M13: 128 | N13: 53
A14: 3- Fuerza Mayor | B14: 11 | C14: 100 | D14: 79 | E14: 21 | F14: 1 | G14: 1 | H14: 0 | I14: 0 | J14: 0 | K14: 0 | L14: 101 | M14: 80 | N14: 21
A15: 4- Problemas económicos y financieros | B15: 29 | C15: 303 | D15: 258 | E15: 45 | F15: 55 | G15: 34 | H15: 21 | I15: 286 | J15: 162 | K15: 124 | L15: 644 | M15: 454 | N15: 190
A16: 5- Procesos concursales y reestructuraciones | B16: 0 | C16: 0 | D16: 0 | E16: 0 | F16: 0 | G16: 0 | H16: 0 | I16: 0 | J16: 0 | K16: 0 | L16: 0 | M16: 0 | N16: 0
... A32: CAE | B32: 258 | C32: 8092 | D32: 6907 | E32: 1185 | F32: 489 | G32: 339 | H32: 150 | I32: 927 | J32: 662 | K32: 265 | L32: 9508 | M32: 7908 | N32: 1600
A34: Datos acumulados año 2024 / 2024ko datu metatuak
A35: TH | B35: NºExptes | C35: Suspensión | D35: Hombres | E35: Mujeres | F35: Reducción | G35: Hombres | H35: Mujeres | I35: Rescisión | J35: Hombres | K35: Mujeres | L35: Total Afect. | M35: Hombres | N35: Mujeres
A36: LH | B36: Expt zb. | C36: Etendura | D36: Gizonak | E36: Emakum. | F36: Murrizketa | G36: Gizonak | H36: Emakum. | I36: Hausketa | J36: Gizonak | K36: Emakum. | L36: Guztira | M36: Gizonak | N36: Emakumeak
A37: Araba | B37: 39 | C37: 2549 | D37: 2219 | E37: 330 | F37: 52 | G37: 45 | H37: 7 | I37: 92 | J37: 49 | K37: 43 | L37: 2693 | M37: 2313 | N37: 380
A38: Gipuzkoa | B38: 95 | C38: 1730 | D38: 1500 | E38: 230 | F38: 212 | G38: 139 | H38: 73 | I38: 453 | J38: 304 | K38: 149 | L38: 2395 | M38: 1943 | N38: 452
A39: Bizkaia | B39: 124 | C39: 3813 | D39: 3188 | E39: 625 | F39: 225 | G39: 155 | H39: 70 | I39: 382 | J39: 309 | K39: 73 | L39: 4420 | M39: 3652 | N39: 768
A40: CAE | B40: 258 | C40: 8092 | D40: 6907 | E40: 1185 | F40: 489 | G40: 339 | H40: 150 | I40: 927 | J40: 662 | K40: 265 | L40: 9508 | M40: 7908 | N40: 1600
A77: Fuente: Dirección de Trabajo y Seguridad Social / Iturria: Lan eta Gizarte-Segurantza zuzendaritza | J77: Datos provisionales / Behin behineko datuak
A78: https://www.euskadi.eus/web01-s2lanju/es/contenidos/informacion/estadisticastrabajo/es_esttraba/index.shtml#empleo

Sheet R12 2024
A1: Nº de Exptes Autorizados y/o Comunicados y Personas Afectadas por Regulación de Empleo en la CAE por Comarcas y TH - 2024
A2: Enplegu-erregulazioaren bitartez espediente baimendu edo-eta komunikatuak eta eragindako langileak EAEn, eskualdeka eta lurraldeka | N2: 2024-12
A4: Eskualdea | B4: NºExptes | C4: Suspensión | D4: Hombres | E4: Mujeres | F4: Reducción | G4: Hombres | H4: Mujeres | I4: Rescisión | J4: Hombres | K4: Mujeres | L4: Total Afect. | M4: Hombres | N4: Mujeres
A5: Comarca | B5: Expt zb. | C5: Etendura | D5: Gizonak | E5: Emakum. | F5: Murrizketa | G5: Gizonak | H5: Emakum. | I5: Hausketa | J5: Gizonak | K5: Emakum. | L5: Guztira | M5: Gizonak | N5: Emakumeak
A6: Llanada Alavesa | B6: 23 | C6: 1084 | D6: 844 | E6: 240 | F6: 42 | G6: 37 | H6: 5 | I6: 92 | J6: 49 | K6: 43 | L6: 1218 | M6: 930 | N6: 288
A7: Montaña Alavesa | B7: 0 | C7: 0 | D7: 0 | E7: 0 | F7: 0 | G7: 0 | H7: 0 | I7: 0 | J7: 0 | K7: 0 | L7: 0 | M7: 0 | N7: 0
A8: Rioja Alavesa | B8: 5 | C8: 23 | D8: 22 | E8: 1 | F8: 6 | G8: 5 | H8: 1 | I8: 0 | J8: 0 | K8: 0 | L8: 29 | M8: 27 | N8: 2
A9: Valles Alaveses | B9: 1 | C9: 5 | D9: 4 | E9: 1 | F9: 0 | G9: 0 | H9: 0 | I9: 0 | J9: 0 | K9: 0 | L9: 5 | M9: 4 | N9: 1
A10: Cantábrica Alavesa | B10: 8 | C10: 1408 | D10: 1325 | E10: 83 | F10: 4 | G10: 3 | H10: 1 | I10: 0 | J10: 0 | K10: 0 | L10: 1412 | M10: 1328 | N10: 84
A11: Estribaciones del Gorbeia | B11: 2 | C11: 29 | D11: 24 | E11: 5 | F11: 0 | G11: 0 | H11: 0 | I11: 0 | J11: 0 | K11: 0 | L11: 29 | M11: 24 | N11: 5
A12: ARABA | B12: 39 | C12: 2549 | D12: 2219 | E12: 330 | F12: 52 | G12: 45 | H12: 7 | I12: 92 | J12: 49 | K12: 43 | L12: 2693 | M12: 2313 | N12: 380
A13: Alto Deba | B13: 9 | C13: 295 | D13: 250 | E13: 45 | F13: 28 | G13: 22 | H13: 6 | I13: 21 | J13: 6 | K13: 15 | L13: 344 | M13: 278 | N13: 66
A14: Bajo Bidasoa | B14: 8 | C14: 44 | D14: 19 | E14: 25 | F14: 18 | G14: 11 | H14: 7 | I14: 72 | J14: 33 | K14: 39 | L14: 134 | M14: 63 | N14: 71
A15: Bajo Deba | B15: 14 | C15: 182 | D15: 155 | E15: 27 | F15: 18 | G15: 10 | H15: 8 | I15: 64 | J15: 55 | K15: 9 | L15: 264 | M15: 220 | N15: 44
A16: Donostialdea | B16: 35 | C16: 444 | D16: 360 | E16: 84 | F16: 40 | G16: 25 | H16: 15 | I16: 236 | J16: 160 | K16: 76 | L16: 720 | M16: 545 | N16: 175
A17: Urola Kosta | B17: 11 | C17: 155 | D17: 150 | E17: 5 | F17: 25 | G17: 14 | H17: 11 | I17: 45 | J17: 37 | K17: 8 | L17: 225 | M17: 201 | N17: 24
... A28: BIZKAIA | B28: 124 | C28: 3813 | D28: 3188 | E28: 625 | F28: 225 | G28: 155 | H28: 70 | I28: 382 | J28: 309 | K28: 73 | L28: 4420 | M28: 3652 | N28: 768
A30: Datos acumulados año 2024 / 2024ko datu metatuak
A31: TH | B31: NºExptes | C31: Suspensión | D31: Hombres | E31: Mujeres | F31: Reducción | G31: Hombres | H31: Mujeres | I31: Rescisión | J31: Hombres | K31: Mujeres | L31: Total Afect. | M31: Hombres | N31: Mujeres
A32: LH | B32: Expt zb. | C32: Etendura | D32: Gizonak | E32: Emakum. | F32: Murrizketa | G32: Gizonak | H32: Emakum. | I32: Hausketa | J32: Gizonak | K32: Emakum. | L32: Guztira | M32: Gizonak | N32: Emakumeak
A33: Araba | B33: 39 | C33: 2549 | D33: 2219 | E33: 330 | F33: 52 | G33: 45 | H33: 7 | I33: 92 | J33: 49 | K33: 43 | L33: 2693 | M33: 2313 | N33: 380
A34: Gipuzkoa | B34: 95 | C34: 1730 | D34: 1500 | E34: 230 | F34: 212 | G34: 139 | H34: 73 | I34: 453 | J34: 304 | K34: 149 | L34: 2395 | M34: 1943 | N34: 452
A35: Bizkaia | B35: 124 | C35: 3813 | D35: 3188 | E35: 625 | F35: 225 | G35: 155 | H35: 70 | I35: 382 | J35: 309 | K35: 73 | L35: 4420 | M35: 3652 | N35: 768
A36: CAE | B36: 258 | C36: 8092 | D36: 6907 | E36: 1185 | F36: 489 | G36: 339 | H36: 150 | I36: 927 | J36: 662 | K36: 265 | L36: 9508 | M36: 7908 | N36: 1600
A75: Fuente: Dirección de Trabajo y Seguridad Social / Iturria: Lan eta Gizarte-Segurantza zuzendaritza | J75: Datos provisionales / Behin behineko datuak
A76: https://www.euskadi.eus/web01-s2lanju/es/contenidos/informacion/estadisticastrabajo/es_esttraba/index.shtml#empleo

Sheet R13 2024
A1: Nº de Exptes Autorizados y/o Comunicados y Personas Afectadas por Regulación de Empleo en la CAE según Rangos de Plantilla por TH - 2024
A2: Enplegu-erregulazioaren bitartez espediente baimendu edo-eta komunikatuak eta eragindako langileak EAEn plantila kopuruaren arabera, lurraldeka - 2024 | N2: 2024-12
